BEGIN:VCALENDAR
VERSION:2.0
PRODID:-//Harvest Fellowship Church - ECPv6.15.20//NONSGML v1.0//EN
CALSCALE:GREGORIAN
METHOD:PUBLISH
X-WR-CALNAME:Harvest Fellowship Church
X-ORIGINAL-URL:https://harvestfellowshipsc.com
X-WR-CALDESC:Events for Harvest Fellowship Church
REFRESH-INTERVAL;VALUE=DURATION:PT1H
X-Robots-Tag:noindex
X-PUBLISHED-TTL:PT1H
BEGIN:VTIMEZONE
TZID:UTC
BEGIN:STANDARD
TZOFFSETFROM:+0000
TZOFFSETTO:+0000
TZNAME:UTC
DTSTART:20250101T000000
END:STANDARD
END:VTIMEZONE
BEGIN:VEVENT
DTSTART;TZID=UTC:20260421T190000
DTEND;TZID=UTC:20260421T190000
DTSTAMP:20260420T032742
CREATED:20230205T184928Z
LAST-MODIFIED:20230205T185121Z
UID:10000180-1776798000-1776798000@harvestfellowshipsc.com
SUMMARY:Prayer
DESCRIPTION:
URL:https://harvestfellowshipsc.com/event/prayer/2026-04-21/
END:VEVENT
BEGIN:VEVENT
DTSTART;TZID=UTC:20260423T190000
DTEND;TZID=UTC:20260423T190000
DTSTAMP:20260420T032742
CREATED:20230205T185301Z
LAST-MODIFIED:20230205T185301Z
UID:10000555-1776970800-1776970800@harvestfellowshipsc.com
SUMMARY:Bible Study
DESCRIPTION:
URL:https://harvestfellowshipsc.com/event/bible-study/2026-04-23/
END:VEVENT
BEGIN:VEVENT
DTSTART;TZID=UTC:20260425T090000
DTEND;TZID=UTC:20260425T090000
DTSTAMP:20260420T032742
CREATED:20240409T004513Z
LAST-MODIFIED:20240409T004657Z
UID:10001316-1777107600-1777107600@harvestfellowshipsc.com
SUMMARY:Men's Meeting
DESCRIPTION:
URL:https://harvestfellowshipsc.com/event/mens-meeting/2026-04-25/
END:VEVENT
BEGIN:VEVENT
DTSTART;TZID=UTC:20260426T084500
DTEND;TZID=UTC:20260426T094500
DTSTAMP:20260420T032742
CREATED:20230205T190337Z
LAST-MODIFIED:20250709T230237Z
UID:10001192-1777193100-1777196700@harvestfellowshipsc.com
SUMMARY:Foundations I & II
DESCRIPTION:
URL:https://harvestfellowshipsc.com/event/foundations-ii/2026-04-26/
END:VEVENT
BEGIN:VEVENT
DTSTART;TZID=UTC:20260426T100000
DTEND;TZID=UTC:20260426T100000
DTSTAMP:20260420T032742
CREATED:20230205T185654Z
LAST-MODIFIED:20230205T191206Z
UID:10000874-1777197600-1777197600@harvestfellowshipsc.com
SUMMARY:Worship Service
DESCRIPTION:
URL:https://harvestfellowshipsc.com/event/worship-service/2026-04-26/
END:VEVENT
BEGIN:VEVENT
DTSTART;TZID=UTC:20260428T190000
DTEND;TZID=UTC:20260428T190000
DTSTAMP:20260420T032742
CREATED:20230205T184928Z
LAST-MODIFIED:20230205T185121Z
UID:10000181-1777402800-1777402800@harvestfellowshipsc.com
SUMMARY:Prayer
DESCRIPTION:
URL:https://harvestfellowshipsc.com/event/prayer/2026-04-28/
END:VEVENT
BEGIN:VEVENT
DTSTART;TZID=UTC:20260430T190000
DTEND;TZID=UTC:20260430T190000
DTSTAMP:20260420T032742
CREATED:20230205T185301Z
LAST-MODIFIED:20230205T185301Z
UID:10000556-1777575600-1777575600@harvestfellowshipsc.com
SUMMARY:Bible Study
DESCRIPTION:
URL:https://harvestfellowshipsc.com/event/bible-study/2026-04-30/
END:VEVENT
END:VCALENDAR