BEGIN:VCALENDAR
VERSION:2.0
PRODID:-//Harvest Fellowship Church - ECPv6.15.20//NONSGML v1.0//EN
CALSCALE:GREGORIAN
METHOD:PUBLISH
X-ORIGINAL-URL:https://harvestfellowshipsc.com
X-WR-CALDESC:Events for Harvest Fellowship Church
REFRESH-INTERVAL;VALUE=DURATION:PT1H
X-Robots-Tag:noindex
X-PUBLISHED-TTL:PT1H
BEGIN:VTIMEZONE
TZID:UTC
BEGIN:STANDARD
TZOFFSETFROM:+0000
TZOFFSETTO:+0000
TZNAME:UTC
DTSTART:20290101T000000
END:STANDARD
END:VTIMEZONE
BEGIN:VEVENT
DTSTART;TZID=UTC:20300101T190000
DTEND;TZID=UTC:20300101T190000
DTSTAMP:20260423T160323
CREATED:20230205T184928Z
LAST-MODIFIED:20230205T185121Z
UID:10002277-1893524400-1893524400@harvestfellowshipsc.com
SUMMARY:Prayer
DESCRIPTION:
URL:https://harvestfellowshipsc.com/event/prayer/2030-01-01/
END:VEVENT
BEGIN:VEVENT
DTSTART;TZID=UTC:20300103T190000
DTEND;TZID=UTC:20300103T190000
DTSTAMP:20260423T160323
CREATED:20230205T185301Z
LAST-MODIFIED:20230205T185301Z
UID:10001911-1893697200-1893697200@harvestfellowshipsc.com
SUMMARY:Bible Study
DESCRIPTION:
URL:https://harvestfellowshipsc.com/event/bible-study/2030-01-03/
END:VEVENT
BEGIN:VEVENT
DTSTART;TZID=UTC:20300106T084500
DTEND;TZID=UTC:20300106T094500
DTSTAMP:20260423T160323
CREATED:20230205T190337Z
LAST-MODIFIED:20250709T230237Z
UID:10001892-1893919500-1893923100@harvestfellowshipsc.com
SUMMARY:Foundations I & II
DESCRIPTION:
URL:https://harvestfellowshipsc.com/event/foundations-ii/2030-01-06/
END:VEVENT
BEGIN:VEVENT
DTSTART;TZID=UTC:20300106T100000
DTEND;TZID=UTC:20300106T100000
DTSTAMP:20260423T160323
CREATED:20230205T185654Z
LAST-MODIFIED:20230205T191206Z
UID:10001787-1893924000-1893924000@harvestfellowshipsc.com
SUMMARY:Worship Service
DESCRIPTION:
URL:https://harvestfellowshipsc.com/event/worship-service/2030-01-06/
END:VEVENT
BEGIN:VEVENT
DTSTART;TZID=UTC:20300108T190000
DTEND;TZID=UTC:20300108T190000
DTSTAMP:20260423T160323
CREATED:20230205T184928Z
LAST-MODIFIED:20230205T185121Z
UID:10002278-1894129200-1894129200@harvestfellowshipsc.com
SUMMARY:Prayer
DESCRIPTION:
URL:https://harvestfellowshipsc.com/event/prayer/2030-01-08/
END:VEVENT
BEGIN:VEVENT
DTSTART;TZID=UTC:20300110T190000
DTEND;TZID=UTC:20300110T190000
DTSTAMP:20260423T160323
CREATED:20230205T185301Z
LAST-MODIFIED:20230205T185301Z
UID:10001912-1894302000-1894302000@harvestfellowshipsc.com
SUMMARY:Bible Study
DESCRIPTION:
URL:https://harvestfellowshipsc.com/event/bible-study/2030-01-10/
END:VEVENT
BEGIN:VEVENT
DTSTART;TZID=UTC:20300112T100000
DTEND;TZID=UTC:20300112T100000
DTSTAMP:20260423T160323
CREATED:20240409T004830Z
LAST-MODIFIED:20240409T005007Z
UID:10001927-1894442400-1894442400@harvestfellowshipsc.com
SUMMARY:Women's Meeting
DESCRIPTION:
URL:https://harvestfellowshipsc.com/event/womens-meeting/2030-01-12/
END:VEVENT
BEGIN:VEVENT
DTSTART;TZID=UTC:20300113T084500
DTEND;TZID=UTC:20300113T094500
DTSTAMP:20260423T160323
CREATED:20230205T190337Z
LAST-MODIFIED:20250709T230237Z
UID:10001893-1894524300-1894527900@harvestfellowshipsc.com
SUMMARY:Foundations I & II
DESCRIPTION:
URL:https://harvestfellowshipsc.com/event/foundations-ii/2030-01-13/
END:VEVENT
BEGIN:VEVENT
DTSTART;TZID=UTC:20300113T100000
DTEND;TZID=UTC:20300113T100000
DTSTAMP:20260423T160323
CREATED:20230205T185654Z
LAST-MODIFIED:20230205T191206Z
UID:10001788-1894528800-1894528800@harvestfellowshipsc.com
SUMMARY:Worship Service
DESCRIPTION:
URL:https://harvestfellowshipsc.com/event/worship-service/2030-01-13/
END:VEVENT
BEGIN:VEVENT
DTSTART;TZID=UTC:20300115T190000
DTEND;TZID=UTC:20300115T190000
DTSTAMP:20260423T160323
CREATED:20230205T184928Z
LAST-MODIFIED:20230205T185121Z
UID:10002279-1894734000-1894734000@harvestfellowshipsc.com
SUMMARY:Prayer
DESCRIPTION:
URL:https://harvestfellowshipsc.com/event/prayer/2030-01-15/
END:VEVENT
BEGIN:VEVENT
DTSTART;TZID=UTC:20300117T190000
DTEND;TZID=UTC:20300117T190000
DTSTAMP:20260423T160323
CREATED:20230205T185301Z
LAST-MODIFIED:20230205T185301Z
UID:10001913-1894906800-1894906800@harvestfellowshipsc.com
SUMMARY:Bible Study
DESCRIPTION:
URL:https://harvestfellowshipsc.com/event/bible-study/2030-01-17/
END:VEVENT
BEGIN:VEVENT
DTSTART;TZID=UTC:20300120T084500
DTEND;TZID=UTC:20300120T094500
DTSTAMP:20260423T160323
CREATED:20230205T190337Z
LAST-MODIFIED:20250709T230237Z
UID:10001894-1895129100-1895132700@harvestfellowshipsc.com
SUMMARY:Foundations I & II
DESCRIPTION:
URL:https://harvestfellowshipsc.com/event/foundations-ii/2030-01-20/
END:VEVENT
BEGIN:VEVENT
DTSTART;TZID=UTC:20300120T100000
DTEND;TZID=UTC:20300120T100000
DTSTAMP:20260423T160323
CREATED:20230205T185654Z
LAST-MODIFIED:20230205T191206Z
UID:10001789-1895133600-1895133600@harvestfellowshipsc.com
SUMMARY:Worship Service
DESCRIPTION:
URL:https://harvestfellowshipsc.com/event/worship-service/2030-01-20/
END:VEVENT
BEGIN:VEVENT
DTSTART;TZID=UTC:20300122T190000
DTEND;TZID=UTC:20300122T190000
DTSTAMP:20260423T160323
CREATED:20230205T184928Z
LAST-MODIFIED:20230205T185121Z
UID:10002280-1895338800-1895338800@harvestfellowshipsc.com
SUMMARY:Prayer
DESCRIPTION:
URL:https://harvestfellowshipsc.com/event/prayer/2030-01-22/
END:VEVENT
BEGIN:VEVENT
DTSTART;TZID=UTC:20300124T190000
DTEND;TZID=UTC:20300124T190000
DTSTAMP:20260423T160323
CREATED:20230205T185301Z
LAST-MODIFIED:20230205T185301Z
UID:10001914-1895511600-1895511600@harvestfellowshipsc.com
SUMMARY:Bible Study
DESCRIPTION:
URL:https://harvestfellowshipsc.com/event/bible-study/2030-01-24/
END:VEVENT
BEGIN:VEVENT
DTSTART;TZID=UTC:20300127T084500
DTEND;TZID=UTC:20300127T094500
DTSTAMP:20260423T160323
CREATED:20230205T190337Z
LAST-MODIFIED:20250709T230237Z
UID:10001895-1895733900-1895737500@harvestfellowshipsc.com
SUMMARY:Foundations I & II
DESCRIPTION:
URL:https://harvestfellowshipsc.com/event/foundations-ii/2030-01-27/
END:VEVENT
BEGIN:VEVENT
DTSTART;TZID=UTC:20300127T100000
DTEND;TZID=UTC:20300127T100000
DTSTAMP:20260423T160323
CREATED:20230205T185654Z
LAST-MODIFIED:20230205T191206Z
UID:10001790-1895738400-1895738400@harvestfellowshipsc.com
SUMMARY:Worship Service
DESCRIPTION:
URL:https://harvestfellowshipsc.com/event/worship-service/2030-01-27/
END:VEVENT
BEGIN:VEVENT
DTSTART;TZID=UTC:20300129T190000
DTEND;TZID=UTC:20300129T190000
DTSTAMP:20260423T160323
CREATED:20230205T184928Z
LAST-MODIFIED:20230205T185121Z
UID:10002281-1895943600-1895943600@harvestfellowshipsc.com
SUMMARY:Prayer
DESCRIPTION:
URL:https://harvestfellowshipsc.com/event/prayer/2030-01-29/
END:VEVENT
BEGIN:VEVENT
DTSTART;TZID=UTC:20300131T190000
DTEND;TZID=UTC:20300131T190000
DTSTAMP:20260423T160323
CREATED:20230205T185301Z
LAST-MODIFIED:20230205T185301Z
UID:10001915-1896116400-1896116400@harvestfellowshipsc.com
SUMMARY:Bible Study
DESCRIPTION:
URL:https://harvestfellowshipsc.com/event/bible-study/2030-01-31/
END:VEVENT
END:VCALENDAR