BEGIN:VCALENDAR
VERSION:2.0
PRODID:-//Harvest Fellowship Church - ECPv6.15.20//NONSGML v1.0//EN
CALSCALE:GREGORIAN
METHOD:PUBLISH
X-WR-CALNAME:Harvest Fellowship Church
X-ORIGINAL-URL:https://harvestfellowshipsc.com
X-WR-CALDESC:Events for Harvest Fellowship Church
REFRESH-INTERVAL;VALUE=DURATION:PT1H
X-Robots-Tag:noindex
X-PUBLISHED-TTL:PT1H
BEGIN:VTIMEZONE
TZID:UTC
BEGIN:STANDARD
TZOFFSETFROM:+0000
TZOFFSETTO:+0000
TZNAME:UTC
DTSTART:20280101T000000
END:STANDARD
END:VTIMEZONE
BEGIN:VEVENT
DTSTART;TZID=UTC:20291202T084500
DTEND;TZID=UTC:20291202T094500
DTSTAMP:20260423T134320
CREATED:20230205T190337Z
LAST-MODIFIED:20250709T230237Z
UID:10001887-1890895500-1890899100@harvestfellowshipsc.com
SUMMARY:Foundations I & II
DESCRIPTION:
URL:https://harvestfellowshipsc.com/event/foundations-ii/2029-12-02/
END:VEVENT
BEGIN:VEVENT
DTSTART;TZID=UTC:20291202T100000
DTEND;TZID=UTC:20291202T100000
DTSTAMP:20260423T134320
CREATED:20230205T185654Z
LAST-MODIFIED:20230205T191206Z
UID:10001782-1890900000-1890900000@harvestfellowshipsc.com
SUMMARY:Worship Service
DESCRIPTION:
URL:https://harvestfellowshipsc.com/event/worship-service/2029-12-02/
END:VEVENT
BEGIN:VEVENT
DTSTART;TZID=UTC:20291204T190000
DTEND;TZID=UTC:20291204T190000
DTSTAMP:20260423T134320
CREATED:20230205T184928Z
LAST-MODIFIED:20230205T185121Z
UID:10001685-1891105200-1891105200@harvestfellowshipsc.com
SUMMARY:Prayer
DESCRIPTION:
URL:https://harvestfellowshipsc.com/event/prayer/2029-12-04/
END:VEVENT
BEGIN:VEVENT
DTSTART;TZID=UTC:20291206T190000
DTEND;TZID=UTC:20291206T190000
DTSTAMP:20260423T134320
CREATED:20230205T185301Z
LAST-MODIFIED:20230205T185301Z
UID:10001907-1891278000-1891278000@harvestfellowshipsc.com
SUMMARY:Bible Study
DESCRIPTION:
URL:https://harvestfellowshipsc.com/event/bible-study/2029-12-06/
END:VEVENT
BEGIN:VEVENT
DTSTART;TZID=UTC:20291208T100000
DTEND;TZID=UTC:20291208T100000
DTSTAMP:20260423T134320
CREATED:20240409T004830Z
LAST-MODIFIED:20240409T005007Z
UID:10001926-1891418400-1891418400@harvestfellowshipsc.com
SUMMARY:Women's Meeting
DESCRIPTION:
URL:https://harvestfellowshipsc.com/event/womens-meeting/2029-12-08/
END:VEVENT
BEGIN:VEVENT
DTSTART;TZID=UTC:20291209T084500
DTEND;TZID=UTC:20291209T094500
DTSTAMP:20260423T134320
CREATED:20230205T190337Z
LAST-MODIFIED:20250709T230237Z
UID:10001888-1891500300-1891503900@harvestfellowshipsc.com
SUMMARY:Foundations I & II
DESCRIPTION:
URL:https://harvestfellowshipsc.com/event/foundations-ii/2029-12-09/
END:VEVENT
BEGIN:VEVENT
DTSTART;TZID=UTC:20291209T100000
DTEND;TZID=UTC:20291209T100000
DTSTAMP:20260423T134320
CREATED:20230205T185654Z
LAST-MODIFIED:20230205T191206Z
UID:10001783-1891504800-1891504800@harvestfellowshipsc.com
SUMMARY:Worship Service
DESCRIPTION:
URL:https://harvestfellowshipsc.com/event/worship-service/2029-12-09/
END:VEVENT
BEGIN:VEVENT
DTSTART;TZID=UTC:20291211T190000
DTEND;TZID=UTC:20291211T190000
DTSTAMP:20260423T134320
CREATED:20230205T184928Z
LAST-MODIFIED:20230205T185121Z
UID:10001686-1891710000-1891710000@harvestfellowshipsc.com
SUMMARY:Prayer
DESCRIPTION:
URL:https://harvestfellowshipsc.com/event/prayer/2029-12-11/
END:VEVENT
BEGIN:VEVENT
DTSTART;TZID=UTC:20291213T190000
DTEND;TZID=UTC:20291213T190000
DTSTAMP:20260423T134320
CREATED:20230205T185301Z
LAST-MODIFIED:20230205T185301Z
UID:10001908-1891882800-1891882800@harvestfellowshipsc.com
SUMMARY:Bible Study
DESCRIPTION:
URL:https://harvestfellowshipsc.com/event/bible-study/2029-12-13/
END:VEVENT
BEGIN:VEVENT
DTSTART;TZID=UTC:20291216T084500
DTEND;TZID=UTC:20291216T094500
DTSTAMP:20260423T134320
CREATED:20230205T190337Z
LAST-MODIFIED:20250709T230237Z
UID:10001889-1892105100-1892108700@harvestfellowshipsc.com
SUMMARY:Foundations I & II
DESCRIPTION:
URL:https://harvestfellowshipsc.com/event/foundations-ii/2029-12-16/
END:VEVENT
BEGIN:VEVENT
DTSTART;TZID=UTC:20291216T100000
DTEND;TZID=UTC:20291216T100000
DTSTAMP:20260423T134320
CREATED:20230205T185654Z
LAST-MODIFIED:20230205T191206Z
UID:10001784-1892109600-1892109600@harvestfellowshipsc.com
SUMMARY:Worship Service
DESCRIPTION:
URL:https://harvestfellowshipsc.com/event/worship-service/2029-12-16/
END:VEVENT
BEGIN:VEVENT
DTSTART;TZID=UTC:20291218T190000
DTEND;TZID=UTC:20291218T190000
DTSTAMP:20260423T134320
CREATED:20230205T184928Z
LAST-MODIFIED:20230205T185121Z
UID:10002275-1892314800-1892314800@harvestfellowshipsc.com
SUMMARY:Prayer
DESCRIPTION:
URL:https://harvestfellowshipsc.com/event/prayer/2029-12-18/
END:VEVENT
BEGIN:VEVENT
DTSTART;TZID=UTC:20291220T190000
DTEND;TZID=UTC:20291220T190000
DTSTAMP:20260423T134320
CREATED:20230205T185301Z
LAST-MODIFIED:20230205T185301Z
UID:10001909-1892487600-1892487600@harvestfellowshipsc.com
SUMMARY:Bible Study
DESCRIPTION:
URL:https://harvestfellowshipsc.com/event/bible-study/2029-12-20/
END:VEVENT
BEGIN:VEVENT
DTSTART;TZID=UTC:20291223T084500
DTEND;TZID=UTC:20291223T094500
DTSTAMP:20260423T134320
CREATED:20230205T190337Z
LAST-MODIFIED:20250709T230237Z
UID:10001890-1892709900-1892713500@harvestfellowshipsc.com
SUMMARY:Foundations I & II
DESCRIPTION:
URL:https://harvestfellowshipsc.com/event/foundations-ii/2029-12-23/
END:VEVENT
BEGIN:VEVENT
DTSTART;TZID=UTC:20291223T100000
DTEND;TZID=UTC:20291223T100000
DTSTAMP:20260423T134320
CREATED:20230205T185654Z
LAST-MODIFIED:20230205T191206Z
UID:10001785-1892714400-1892714400@harvestfellowshipsc.com
SUMMARY:Worship Service
DESCRIPTION:
URL:https://harvestfellowshipsc.com/event/worship-service/2029-12-23/
END:VEVENT
BEGIN:VEVENT
DTSTART;TZID=UTC:20291225T190000
DTEND;TZID=UTC:20291225T190000
DTSTAMP:20260423T134320
CREATED:20230205T184928Z
LAST-MODIFIED:20230205T185121Z
UID:10002276-1892919600-1892919600@harvestfellowshipsc.com
SUMMARY:Prayer
DESCRIPTION:
URL:https://harvestfellowshipsc.com/event/prayer/2029-12-25/
END:VEVENT
BEGIN:VEVENT
DTSTART;TZID=UTC:20291227T190000
DTEND;TZID=UTC:20291227T190000
DTSTAMP:20260423T134320
CREATED:20230205T185301Z
LAST-MODIFIED:20230205T185301Z
UID:10001910-1893092400-1893092400@harvestfellowshipsc.com
SUMMARY:Bible Study
DESCRIPTION:
URL:https://harvestfellowshipsc.com/event/bible-study/2029-12-27/
END:VEVENT
BEGIN:VEVENT
DTSTART;TZID=UTC:20291230T084500
DTEND;TZID=UTC:20291230T094500
DTSTAMP:20260423T134320
CREATED:20230205T190337Z
LAST-MODIFIED:20250709T230237Z
UID:10001891-1893314700-1893318300@harvestfellowshipsc.com
SUMMARY:Foundations I & II
DESCRIPTION:
URL:https://harvestfellowshipsc.com/event/foundations-ii/2029-12-30/
END:VEVENT
BEGIN:VEVENT
DTSTART;TZID=UTC:20291230T100000
DTEND;TZID=UTC:20291230T100000
DTSTAMP:20260423T134320
CREATED:20230205T185654Z
LAST-MODIFIED:20230205T191206Z
UID:10001786-1893319200-1893319200@harvestfellowshipsc.com
SUMMARY:Worship Service
DESCRIPTION:
URL:https://harvestfellowshipsc.com/event/worship-service/2029-12-30/
END:VEVENT
END:VCALENDAR