BEGIN:VCALENDAR
VERSION:2.0
PRODID:-//Harvest Fellowship Church - ECPv6.15.20//NONSGML v1.0//EN
CALSCALE:GREGORIAN
METHOD:PUBLISH
X-WR-CALNAME:Harvest Fellowship Church
X-ORIGINAL-URL:https://harvestfellowshipsc.com
X-WR-CALDESC:Events for Harvest Fellowship Church
REFRESH-INTERVAL;VALUE=DURATION:PT1H
X-Robots-Tag:noindex
X-PUBLISHED-TTL:PT1H
BEGIN:VTIMEZONE
TZID:UTC
BEGIN:STANDARD
TZOFFSETFROM:+0000
TZOFFSETTO:+0000
TZNAME:UTC
DTSTART:20280101T000000
END:STANDARD
END:VTIMEZONE
BEGIN:VEVENT
DTSTART;TZID=UTC:20290902T084500
DTEND;TZID=UTC:20290902T094500
DTSTAMP:20260423T081433
CREATED:20230205T190337Z
LAST-MODIFIED:20250709T230237Z
UID:10001874-1883033100-1883036700@harvestfellowshipsc.com
SUMMARY:Foundations I & II
DESCRIPTION:
URL:https://harvestfellowshipsc.com/event/foundations-ii/2029-09-02/
END:VEVENT
BEGIN:VEVENT
DTSTART;TZID=UTC:20290902T100000
DTEND;TZID=UTC:20290902T100000
DTSTAMP:20260423T081433
CREATED:20230205T185654Z
LAST-MODIFIED:20230205T191206Z
UID:10001769-1883037600-1883037600@harvestfellowshipsc.com
SUMMARY:Worship Service
DESCRIPTION:
URL:https://harvestfellowshipsc.com/event/worship-service/2029-09-02/
END:VEVENT
BEGIN:VEVENT
DTSTART;TZID=UTC:20290904T190000
DTEND;TZID=UTC:20290904T190000
DTSTAMP:20260423T081433
CREATED:20230205T184928Z
LAST-MODIFIED:20230205T185121Z
UID:10001672-1883242800-1883242800@harvestfellowshipsc.com
SUMMARY:Prayer
DESCRIPTION:
URL:https://harvestfellowshipsc.com/event/prayer/2029-09-04/
END:VEVENT
BEGIN:VEVENT
DTSTART;TZID=UTC:20290906T190000
DTEND;TZID=UTC:20290906T190000
DTSTAMP:20260423T081433
CREATED:20230205T185301Z
LAST-MODIFIED:20230205T185301Z
UID:10001577-1883415600-1883415600@harvestfellowshipsc.com
SUMMARY:Bible Study
DESCRIPTION:
URL:https://harvestfellowshipsc.com/event/bible-study/2029-09-06/
END:VEVENT
BEGIN:VEVENT
DTSTART;TZID=UTC:20290908T100000
DTEND;TZID=UTC:20290908T100000
DTSTAMP:20260423T081433
CREATED:20240409T004830Z
LAST-MODIFIED:20240409T005007Z
UID:10001492-1883556000-1883556000@harvestfellowshipsc.com
SUMMARY:Women's Meeting
DESCRIPTION:
URL:https://harvestfellowshipsc.com/event/womens-meeting/2029-09-08/
END:VEVENT
BEGIN:VEVENT
DTSTART;TZID=UTC:20290909T084500
DTEND;TZID=UTC:20290909T094500
DTSTAMP:20260423T081433
CREATED:20230205T190337Z
LAST-MODIFIED:20250709T230237Z
UID:10001875-1883637900-1883641500@harvestfellowshipsc.com
SUMMARY:Foundations I & II
DESCRIPTION:
URL:https://harvestfellowshipsc.com/event/foundations-ii/2029-09-09/
END:VEVENT
BEGIN:VEVENT
DTSTART;TZID=UTC:20290909T100000
DTEND;TZID=UTC:20290909T100000
DTSTAMP:20260423T081433
CREATED:20230205T185654Z
LAST-MODIFIED:20230205T191206Z
UID:10001770-1883642400-1883642400@harvestfellowshipsc.com
SUMMARY:Worship Service
DESCRIPTION:
URL:https://harvestfellowshipsc.com/event/worship-service/2029-09-09/
END:VEVENT
BEGIN:VEVENT
DTSTART;TZID=UTC:20290911T190000
DTEND;TZID=UTC:20290911T190000
DTSTAMP:20260423T081433
CREATED:20230205T184928Z
LAST-MODIFIED:20230205T185121Z
UID:10001673-1883847600-1883847600@harvestfellowshipsc.com
SUMMARY:Prayer
DESCRIPTION:
URL:https://harvestfellowshipsc.com/event/prayer/2029-09-11/
END:VEVENT
BEGIN:VEVENT
DTSTART;TZID=UTC:20290913T190000
DTEND;TZID=UTC:20290913T190000
DTSTAMP:20260423T081433
CREATED:20230205T185301Z
LAST-MODIFIED:20230205T185301Z
UID:10001578-1884020400-1884020400@harvestfellowshipsc.com
SUMMARY:Bible Study
DESCRIPTION:
URL:https://harvestfellowshipsc.com/event/bible-study/2029-09-13/
END:VEVENT
BEGIN:VEVENT
DTSTART;TZID=UTC:20290916T084500
DTEND;TZID=UTC:20290916T094500
DTSTAMP:20260423T081433
CREATED:20230205T190337Z
LAST-MODIFIED:20250709T230237Z
UID:10001876-1884242700-1884246300@harvestfellowshipsc.com
SUMMARY:Foundations I & II
DESCRIPTION:
URL:https://harvestfellowshipsc.com/event/foundations-ii/2029-09-16/
END:VEVENT
BEGIN:VEVENT
DTSTART;TZID=UTC:20290916T100000
DTEND;TZID=UTC:20290916T100000
DTSTAMP:20260423T081433
CREATED:20230205T185654Z
LAST-MODIFIED:20230205T191206Z
UID:10001771-1884247200-1884247200@harvestfellowshipsc.com
SUMMARY:Worship Service
DESCRIPTION:
URL:https://harvestfellowshipsc.com/event/worship-service/2029-09-16/
END:VEVENT
BEGIN:VEVENT
DTSTART;TZID=UTC:20290918T190000
DTEND;TZID=UTC:20290918T190000
DTSTAMP:20260423T081433
CREATED:20230205T184928Z
LAST-MODIFIED:20230205T185121Z
UID:10001674-1884452400-1884452400@harvestfellowshipsc.com
SUMMARY:Prayer
DESCRIPTION:
URL:https://harvestfellowshipsc.com/event/prayer/2029-09-18/
END:VEVENT
BEGIN:VEVENT
DTSTART;TZID=UTC:20290920T190000
DTEND;TZID=UTC:20290920T190000
DTSTAMP:20260423T081433
CREATED:20230205T185301Z
LAST-MODIFIED:20230205T185301Z
UID:10001579-1884625200-1884625200@harvestfellowshipsc.com
SUMMARY:Bible Study
DESCRIPTION:
URL:https://harvestfellowshipsc.com/event/bible-study/2029-09-20/
END:VEVENT
BEGIN:VEVENT
DTSTART;TZID=UTC:20290923T084500
DTEND;TZID=UTC:20290923T094500
DTSTAMP:20260423T081433
CREATED:20230205T190337Z
LAST-MODIFIED:20250709T230237Z
UID:10001877-1884847500-1884851100@harvestfellowshipsc.com
SUMMARY:Foundations I & II
DESCRIPTION:
URL:https://harvestfellowshipsc.com/event/foundations-ii/2029-09-23/
END:VEVENT
BEGIN:VEVENT
DTSTART;TZID=UTC:20290923T100000
DTEND;TZID=UTC:20290923T100000
DTSTAMP:20260423T081433
CREATED:20230205T185654Z
LAST-MODIFIED:20230205T191206Z
UID:10001772-1884852000-1884852000@harvestfellowshipsc.com
SUMMARY:Worship Service
DESCRIPTION:
URL:https://harvestfellowshipsc.com/event/worship-service/2029-09-23/
END:VEVENT
BEGIN:VEVENT
DTSTART;TZID=UTC:20290925T190000
DTEND;TZID=UTC:20290925T190000
DTSTAMP:20260423T081433
CREATED:20230205T184928Z
LAST-MODIFIED:20230205T185121Z
UID:10001675-1885057200-1885057200@harvestfellowshipsc.com
SUMMARY:Prayer
DESCRIPTION:
URL:https://harvestfellowshipsc.com/event/prayer/2029-09-25/
END:VEVENT
BEGIN:VEVENT
DTSTART;TZID=UTC:20290927T190000
DTEND;TZID=UTC:20290927T190000
DTSTAMP:20260423T081433
CREATED:20230205T185301Z
LAST-MODIFIED:20230205T185301Z
UID:10001580-1885230000-1885230000@harvestfellowshipsc.com
SUMMARY:Bible Study
DESCRIPTION:
URL:https://harvestfellowshipsc.com/event/bible-study/2029-09-27/
END:VEVENT
BEGIN:VEVENT
DTSTART;TZID=UTC:20290930T084500
DTEND;TZID=UTC:20290930T094500
DTSTAMP:20260423T081433
CREATED:20230205T190337Z
LAST-MODIFIED:20250709T230237Z
UID:10001878-1885452300-1885455900@harvestfellowshipsc.com
SUMMARY:Foundations I & II
DESCRIPTION:
URL:https://harvestfellowshipsc.com/event/foundations-ii/2029-09-30/
END:VEVENT
BEGIN:VEVENT
DTSTART;TZID=UTC:20290930T100000
DTEND;TZID=UTC:20290930T100000
DTSTAMP:20260423T081433
CREATED:20230205T185654Z
LAST-MODIFIED:20230205T191206Z
UID:10001773-1885456800-1885456800@harvestfellowshipsc.com
SUMMARY:Worship Service
DESCRIPTION:
URL:https://harvestfellowshipsc.com/event/worship-service/2029-09-30/
END:VEVENT
END:VCALENDAR