BEGIN:VCALENDAR
VERSION:2.0
PRODID:-//Harvest Fellowship Church - ECPv6.15.20//NONSGML v1.0//EN
CALSCALE:GREGORIAN
METHOD:PUBLISH
X-WR-CALNAME:Harvest Fellowship Church
X-ORIGINAL-URL:https://harvestfellowshipsc.com
X-WR-CALDESC:Events for Harvest Fellowship Church
REFRESH-INTERVAL;VALUE=DURATION:PT1H
X-Robots-Tag:noindex
X-PUBLISHED-TTL:PT1H
BEGIN:VTIMEZONE
TZID:UTC
BEGIN:STANDARD
TZOFFSETFROM:+0000
TZOFFSETTO:+0000
TZNAME:UTC
DTSTART:20280101T000000
END:STANDARD
END:VTIMEZONE
BEGIN:VEVENT
DTSTART;TZID=UTC:20290701T084500
DTEND;TZID=UTC:20290701T094500
DTSTAMP:20260423T044332
CREATED:20230205T190337Z
LAST-MODIFIED:20250709T230237Z
UID:10001865-1877589900-1877593500@harvestfellowshipsc.com
SUMMARY:Foundations I & II
DESCRIPTION:
URL:https://harvestfellowshipsc.com/event/foundations-ii/2029-07-01/
END:VEVENT
BEGIN:VEVENT
DTSTART;TZID=UTC:20290701T100000
DTEND;TZID=UTC:20290701T100000
DTSTAMP:20260423T044332
CREATED:20230205T185654Z
LAST-MODIFIED:20230205T191206Z
UID:10001760-1877594400-1877594400@harvestfellowshipsc.com
SUMMARY:Worship Service
DESCRIPTION:
URL:https://harvestfellowshipsc.com/event/worship-service/2029-07-01/
END:VEVENT
BEGIN:VEVENT
DTSTART;TZID=UTC:20290703T190000
DTEND;TZID=UTC:20290703T190000
DTSTAMP:20260423T044332
CREATED:20230205T184928Z
LAST-MODIFIED:20230205T185121Z
UID:10001663-1877799600-1877799600@harvestfellowshipsc.com
SUMMARY:Prayer
DESCRIPTION:
URL:https://harvestfellowshipsc.com/event/prayer/2029-07-03/
END:VEVENT
BEGIN:VEVENT
DTSTART;TZID=UTC:20290705T190000
DTEND;TZID=UTC:20290705T190000
DTSTAMP:20260423T044332
CREATED:20230205T185301Z
LAST-MODIFIED:20230205T185301Z
UID:10001568-1877972400-1877972400@harvestfellowshipsc.com
SUMMARY:Bible Study
DESCRIPTION:
URL:https://harvestfellowshipsc.com/event/bible-study/2029-07-05/
END:VEVENT
BEGIN:VEVENT
DTSTART;TZID=UTC:20290708T084500
DTEND;TZID=UTC:20290708T094500
DTSTAMP:20260423T044332
CREATED:20230205T190337Z
LAST-MODIFIED:20250709T230237Z
UID:10001866-1878194700-1878198300@harvestfellowshipsc.com
SUMMARY:Foundations I & II
DESCRIPTION:
URL:https://harvestfellowshipsc.com/event/foundations-ii/2029-07-08/
END:VEVENT
BEGIN:VEVENT
DTSTART;TZID=UTC:20290708T100000
DTEND;TZID=UTC:20290708T100000
DTSTAMP:20260423T044332
CREATED:20230205T185654Z
LAST-MODIFIED:20230205T191206Z
UID:10001761-1878199200-1878199200@harvestfellowshipsc.com
SUMMARY:Worship Service
DESCRIPTION:
URL:https://harvestfellowshipsc.com/event/worship-service/2029-07-08/
END:VEVENT
BEGIN:VEVENT
DTSTART;TZID=UTC:20290710T190000
DTEND;TZID=UTC:20290710T190000
DTSTAMP:20260423T044332
CREATED:20230205T184928Z
LAST-MODIFIED:20230205T185121Z
UID:10001664-1878404400-1878404400@harvestfellowshipsc.com
SUMMARY:Prayer
DESCRIPTION:
URL:https://harvestfellowshipsc.com/event/prayer/2029-07-10/
END:VEVENT
BEGIN:VEVENT
DTSTART;TZID=UTC:20290712T190000
DTEND;TZID=UTC:20290712T190000
DTSTAMP:20260423T044332
CREATED:20230205T185301Z
LAST-MODIFIED:20230205T185301Z
UID:10001569-1878577200-1878577200@harvestfellowshipsc.com
SUMMARY:Bible Study
DESCRIPTION:
URL:https://harvestfellowshipsc.com/event/bible-study/2029-07-12/
END:VEVENT
BEGIN:VEVENT
DTSTART;TZID=UTC:20290714T100000
DTEND;TZID=UTC:20290714T100000
DTSTAMP:20260423T044332
CREATED:20240409T004830Z
LAST-MODIFIED:20240409T005007Z
UID:10001490-1878717600-1878717600@harvestfellowshipsc.com
SUMMARY:Women's Meeting
DESCRIPTION:
URL:https://harvestfellowshipsc.com/event/womens-meeting/2029-07-14/
END:VEVENT
BEGIN:VEVENT
DTSTART;TZID=UTC:20290715T084500
DTEND;TZID=UTC:20290715T094500
DTSTAMP:20260423T044332
CREATED:20230205T190337Z
LAST-MODIFIED:20250709T230237Z
UID:10001867-1878799500-1878803100@harvestfellowshipsc.com
SUMMARY:Foundations I & II
DESCRIPTION:
URL:https://harvestfellowshipsc.com/event/foundations-ii/2029-07-15/
END:VEVENT
BEGIN:VEVENT
DTSTART;TZID=UTC:20290715T100000
DTEND;TZID=UTC:20290715T100000
DTSTAMP:20260423T044332
CREATED:20230205T185654Z
LAST-MODIFIED:20230205T191206Z
UID:10001762-1878804000-1878804000@harvestfellowshipsc.com
SUMMARY:Worship Service
DESCRIPTION:
URL:https://harvestfellowshipsc.com/event/worship-service/2029-07-15/
END:VEVENT
BEGIN:VEVENT
DTSTART;TZID=UTC:20290717T190000
DTEND;TZID=UTC:20290717T190000
DTSTAMP:20260423T044332
CREATED:20230205T184928Z
LAST-MODIFIED:20230205T185121Z
UID:10001665-1879009200-1879009200@harvestfellowshipsc.com
SUMMARY:Prayer
DESCRIPTION:
URL:https://harvestfellowshipsc.com/event/prayer/2029-07-17/
END:VEVENT
BEGIN:VEVENT
DTSTART;TZID=UTC:20290719T190000
DTEND;TZID=UTC:20290719T190000
DTSTAMP:20260423T044332
CREATED:20230205T185301Z
LAST-MODIFIED:20230205T185301Z
UID:10001570-1879182000-1879182000@harvestfellowshipsc.com
SUMMARY:Bible Study
DESCRIPTION:
URL:https://harvestfellowshipsc.com/event/bible-study/2029-07-19/
END:VEVENT
BEGIN:VEVENT
DTSTART;TZID=UTC:20290722T084500
DTEND;TZID=UTC:20290722T094500
DTSTAMP:20260423T044332
CREATED:20230205T190337Z
LAST-MODIFIED:20250709T230237Z
UID:10001868-1879404300-1879407900@harvestfellowshipsc.com
SUMMARY:Foundations I & II
DESCRIPTION:
URL:https://harvestfellowshipsc.com/event/foundations-ii/2029-07-22/
END:VEVENT
BEGIN:VEVENT
DTSTART;TZID=UTC:20290722T100000
DTEND;TZID=UTC:20290722T100000
DTSTAMP:20260423T044332
CREATED:20230205T185654Z
LAST-MODIFIED:20230205T191206Z
UID:10001763-1879408800-1879408800@harvestfellowshipsc.com
SUMMARY:Worship Service
DESCRIPTION:
URL:https://harvestfellowshipsc.com/event/worship-service/2029-07-22/
END:VEVENT
BEGIN:VEVENT
DTSTART;TZID=UTC:20290724T190000
DTEND;TZID=UTC:20290724T190000
DTSTAMP:20260423T044332
CREATED:20230205T184928Z
LAST-MODIFIED:20230205T185121Z
UID:10001666-1879614000-1879614000@harvestfellowshipsc.com
SUMMARY:Prayer
DESCRIPTION:
URL:https://harvestfellowshipsc.com/event/prayer/2029-07-24/
END:VEVENT
BEGIN:VEVENT
DTSTART;TZID=UTC:20290726T190000
DTEND;TZID=UTC:20290726T190000
DTSTAMP:20260423T044332
CREATED:20230205T185301Z
LAST-MODIFIED:20230205T185301Z
UID:10001571-1879786800-1879786800@harvestfellowshipsc.com
SUMMARY:Bible Study
DESCRIPTION:
URL:https://harvestfellowshipsc.com/event/bible-study/2029-07-26/
END:VEVENT
BEGIN:VEVENT
DTSTART;TZID=UTC:20290729T084500
DTEND;TZID=UTC:20290729T094500
DTSTAMP:20260423T044333
CREATED:20230205T190337Z
LAST-MODIFIED:20250709T230237Z
UID:10001869-1880009100-1880012700@harvestfellowshipsc.com
SUMMARY:Foundations I & II
DESCRIPTION:
URL:https://harvestfellowshipsc.com/event/foundations-ii/2029-07-29/
END:VEVENT
BEGIN:VEVENT
DTSTART;TZID=UTC:20290729T100000
DTEND;TZID=UTC:20290729T100000
DTSTAMP:20260423T044333
CREATED:20230205T185654Z
LAST-MODIFIED:20230205T191206Z
UID:10001764-1880013600-1880013600@harvestfellowshipsc.com
SUMMARY:Worship Service
DESCRIPTION:
URL:https://harvestfellowshipsc.com/event/worship-service/2029-07-29/
END:VEVENT
BEGIN:VEVENT
DTSTART;TZID=UTC:20290731T190000
DTEND;TZID=UTC:20290731T190000
DTSTAMP:20260423T044333
CREATED:20230205T184928Z
LAST-MODIFIED:20230205T185121Z
UID:10001667-1880218800-1880218800@harvestfellowshipsc.com
SUMMARY:Prayer
DESCRIPTION:
URL:https://harvestfellowshipsc.com/event/prayer/2029-07-31/
END:VEVENT
END:VCALENDAR