BEGIN:VCALENDAR
VERSION:2.0
PRODID:-//Harvest Fellowship Church - ECPv6.15.20//NONSGML v1.0//EN
CALSCALE:GREGORIAN
METHOD:PUBLISH
X-WR-CALNAME:Harvest Fellowship Church
X-ORIGINAL-URL:https://harvestfellowshipsc.com
X-WR-CALDESC:Events for Harvest Fellowship Church
REFRESH-INTERVAL;VALUE=DURATION:PT1H
X-Robots-Tag:noindex
X-PUBLISHED-TTL:PT1H
BEGIN:VTIMEZONE
TZID:UTC
BEGIN:STANDARD
TZOFFSETFROM:+0000
TZOFFSETTO:+0000
TZNAME:UTC
DTSTART:20280101T000000
END:STANDARD
END:VTIMEZONE
BEGIN:VEVENT
DTSTART;TZID=UTC:20290501T190000
DTEND;TZID=UTC:20290501T190000
DTSTAMP:20260423T003953
CREATED:20230205T184928Z
LAST-MODIFIED:20230205T185121Z
UID:10001654-1872356400-1872356400@harvestfellowshipsc.com
SUMMARY:Prayer
DESCRIPTION:
URL:https://harvestfellowshipsc.com/event/prayer/2029-05-01/
END:VEVENT
BEGIN:VEVENT
DTSTART;TZID=UTC:20290503T190000
DTEND;TZID=UTC:20290503T190000
DTSTAMP:20260423T003953
CREATED:20230205T185301Z
LAST-MODIFIED:20230205T185301Z
UID:10001559-1872529200-1872529200@harvestfellowshipsc.com
SUMMARY:Bible Study
DESCRIPTION:
URL:https://harvestfellowshipsc.com/event/bible-study/2029-05-03/
END:VEVENT
BEGIN:VEVENT
DTSTART;TZID=UTC:20290506T084500
DTEND;TZID=UTC:20290506T094500
DTSTAMP:20260423T003953
CREATED:20230205T190337Z
LAST-MODIFIED:20250709T230237Z
UID:10001857-1872751500-1872755100@harvestfellowshipsc.com
SUMMARY:Foundations I & II
DESCRIPTION:
URL:https://harvestfellowshipsc.com/event/foundations-ii/2029-05-06/
END:VEVENT
BEGIN:VEVENT
DTSTART;TZID=UTC:20290506T100000
DTEND;TZID=UTC:20290506T100000
DTSTAMP:20260423T003953
CREATED:20230205T185654Z
LAST-MODIFIED:20230205T191206Z
UID:10001752-1872756000-1872756000@harvestfellowshipsc.com
SUMMARY:Worship Service
DESCRIPTION:
URL:https://harvestfellowshipsc.com/event/worship-service/2029-05-06/
END:VEVENT
BEGIN:VEVENT
DTSTART;TZID=UTC:20290508T190000
DTEND;TZID=UTC:20290508T190000
DTSTAMP:20260423T003953
CREATED:20230205T184928Z
LAST-MODIFIED:20230205T185121Z
UID:10001655-1872961200-1872961200@harvestfellowshipsc.com
SUMMARY:Prayer
DESCRIPTION:
URL:https://harvestfellowshipsc.com/event/prayer/2029-05-08/
END:VEVENT
BEGIN:VEVENT
DTSTART;TZID=UTC:20290510T190000
DTEND;TZID=UTC:20290510T190000
DTSTAMP:20260423T003953
CREATED:20230205T185301Z
LAST-MODIFIED:20230205T185301Z
UID:10001560-1873134000-1873134000@harvestfellowshipsc.com
SUMMARY:Bible Study
DESCRIPTION:
URL:https://harvestfellowshipsc.com/event/bible-study/2029-05-10/
END:VEVENT
BEGIN:VEVENT
DTSTART;TZID=UTC:20290512T100000
DTEND;TZID=UTC:20290512T100000
DTSTAMP:20260423T003953
CREATED:20240409T004830Z
LAST-MODIFIED:20240409T005007Z
UID:10001488-1873274400-1873274400@harvestfellowshipsc.com
SUMMARY:Women's Meeting
DESCRIPTION:
URL:https://harvestfellowshipsc.com/event/womens-meeting/2029-05-12/
END:VEVENT
BEGIN:VEVENT
DTSTART;TZID=UTC:20290513T084500
DTEND;TZID=UTC:20290513T094500
DTSTAMP:20260423T003953
CREATED:20230205T190337Z
LAST-MODIFIED:20250709T230237Z
UID:10001858-1873356300-1873359900@harvestfellowshipsc.com
SUMMARY:Foundations I & II
DESCRIPTION:
URL:https://harvestfellowshipsc.com/event/foundations-ii/2029-05-13/
END:VEVENT
BEGIN:VEVENT
DTSTART;TZID=UTC:20290513T100000
DTEND;TZID=UTC:20290513T100000
DTSTAMP:20260423T003953
CREATED:20230205T185654Z
LAST-MODIFIED:20230205T191206Z
UID:10001753-1873360800-1873360800@harvestfellowshipsc.com
SUMMARY:Worship Service
DESCRIPTION:
URL:https://harvestfellowshipsc.com/event/worship-service/2029-05-13/
END:VEVENT
BEGIN:VEVENT
DTSTART;TZID=UTC:20290515T190000
DTEND;TZID=UTC:20290515T190000
DTSTAMP:20260423T003953
CREATED:20230205T184928Z
LAST-MODIFIED:20230205T185121Z
UID:10001656-1873566000-1873566000@harvestfellowshipsc.com
SUMMARY:Prayer
DESCRIPTION:
URL:https://harvestfellowshipsc.com/event/prayer/2029-05-15/
END:VEVENT
BEGIN:VEVENT
DTSTART;TZID=UTC:20290517T190000
DTEND;TZID=UTC:20290517T190000
DTSTAMP:20260423T003953
CREATED:20230205T185301Z
LAST-MODIFIED:20230205T185301Z
UID:10001561-1873738800-1873738800@harvestfellowshipsc.com
SUMMARY:Bible Study
DESCRIPTION:
URL:https://harvestfellowshipsc.com/event/bible-study/2029-05-17/
END:VEVENT
BEGIN:VEVENT
DTSTART;TZID=UTC:20290520T084500
DTEND;TZID=UTC:20290520T094500
DTSTAMP:20260423T003953
CREATED:20230205T190337Z
LAST-MODIFIED:20250709T230237Z
UID:10001859-1873961100-1873964700@harvestfellowshipsc.com
SUMMARY:Foundations I & II
DESCRIPTION:
URL:https://harvestfellowshipsc.com/event/foundations-ii/2029-05-20/
END:VEVENT
BEGIN:VEVENT
DTSTART;TZID=UTC:20290520T100000
DTEND;TZID=UTC:20290520T100000
DTSTAMP:20260423T003953
CREATED:20230205T185654Z
LAST-MODIFIED:20230205T191206Z
UID:10001754-1873965600-1873965600@harvestfellowshipsc.com
SUMMARY:Worship Service
DESCRIPTION:
URL:https://harvestfellowshipsc.com/event/worship-service/2029-05-20/
END:VEVENT
BEGIN:VEVENT
DTSTART;TZID=UTC:20290522T190000
DTEND;TZID=UTC:20290522T190000
DTSTAMP:20260423T003953
CREATED:20230205T184928Z
LAST-MODIFIED:20230205T185121Z
UID:10001657-1874170800-1874170800@harvestfellowshipsc.com
SUMMARY:Prayer
DESCRIPTION:
URL:https://harvestfellowshipsc.com/event/prayer/2029-05-22/
END:VEVENT
BEGIN:VEVENT
DTSTART;TZID=UTC:20290524T190000
DTEND;TZID=UTC:20290524T190000
DTSTAMP:20260423T003953
CREATED:20230205T185301Z
LAST-MODIFIED:20230205T185301Z
UID:10001562-1874343600-1874343600@harvestfellowshipsc.com
SUMMARY:Bible Study
DESCRIPTION:
URL:https://harvestfellowshipsc.com/event/bible-study/2029-05-24/
END:VEVENT
BEGIN:VEVENT
DTSTART;TZID=UTC:20290527T084500
DTEND;TZID=UTC:20290527T094500
DTSTAMP:20260423T003953
CREATED:20230205T190337Z
LAST-MODIFIED:20250709T230237Z
UID:10001860-1874565900-1874569500@harvestfellowshipsc.com
SUMMARY:Foundations I & II
DESCRIPTION:
URL:https://harvestfellowshipsc.com/event/foundations-ii/2029-05-27/
END:VEVENT
BEGIN:VEVENT
DTSTART;TZID=UTC:20290527T100000
DTEND;TZID=UTC:20290527T100000
DTSTAMP:20260423T003953
CREATED:20230205T185654Z
LAST-MODIFIED:20230205T191206Z
UID:10001755-1874570400-1874570400@harvestfellowshipsc.com
SUMMARY:Worship Service
DESCRIPTION:
URL:https://harvestfellowshipsc.com/event/worship-service/2029-05-27/
END:VEVENT
BEGIN:VEVENT
DTSTART;TZID=UTC:20290529T190000
DTEND;TZID=UTC:20290529T190000
DTSTAMP:20260423T003953
CREATED:20230205T184928Z
LAST-MODIFIED:20230205T185121Z
UID:10001658-1874775600-1874775600@harvestfellowshipsc.com
SUMMARY:Prayer
DESCRIPTION:
URL:https://harvestfellowshipsc.com/event/prayer/2029-05-29/
END:VEVENT
BEGIN:VEVENT
DTSTART;TZID=UTC:20290531T190000
DTEND;TZID=UTC:20290531T190000
DTSTAMP:20260423T003953
CREATED:20230205T185301Z
LAST-MODIFIED:20230205T185301Z
UID:10001563-1874948400-1874948400@harvestfellowshipsc.com
SUMMARY:Bible Study
DESCRIPTION:
URL:https://harvestfellowshipsc.com/event/bible-study/2029-05-31/
END:VEVENT
END:VCALENDAR