BEGIN:VCALENDAR
VERSION:2.0
PRODID:-//Harvest Fellowship Church - ECPv6.15.20//NONSGML v1.0//EN
CALSCALE:GREGORIAN
METHOD:PUBLISH
X-ORIGINAL-URL:https://harvestfellowshipsc.com
X-WR-CALDESC:Events for Harvest Fellowship Church
REFRESH-INTERVAL;VALUE=DURATION:PT1H
X-Robots-Tag:noindex
X-PUBLISHED-TTL:PT1H
BEGIN:VTIMEZONE
TZID:UTC
BEGIN:STANDARD
TZOFFSETFROM:+0000
TZOFFSETTO:+0000
TZNAME:UTC
DTSTART:20280101T000000
END:STANDARD
END:VTIMEZONE
BEGIN:VEVENT
DTSTART;TZID=UTC:20290401T084500
DTEND;TZID=UTC:20290401T094500
DTSTAMP:20260422T224315
CREATED:20230205T190337Z
LAST-MODIFIED:20250709T230237Z
UID:10001852-1869727500-1869731100@harvestfellowshipsc.com
SUMMARY:Foundations I & II
DESCRIPTION:
URL:https://harvestfellowshipsc.com/event/foundations-ii/2029-04-01/
END:VEVENT
BEGIN:VEVENT
DTSTART;TZID=UTC:20290401T100000
DTEND;TZID=UTC:20290401T100000
DTSTAMP:20260422T224315
CREATED:20230205T185654Z
LAST-MODIFIED:20230205T191206Z
UID:10001747-1869732000-1869732000@harvestfellowshipsc.com
SUMMARY:Worship Service
DESCRIPTION:
URL:https://harvestfellowshipsc.com/event/worship-service/2029-04-01/
END:VEVENT
BEGIN:VEVENT
DTSTART;TZID=UTC:20290403T190000
DTEND;TZID=UTC:20290403T190000
DTSTAMP:20260422T224315
CREATED:20230205T184928Z
LAST-MODIFIED:20230205T185121Z
UID:10001650-1869937200-1869937200@harvestfellowshipsc.com
SUMMARY:Prayer
DESCRIPTION:
URL:https://harvestfellowshipsc.com/event/prayer/2029-04-03/
END:VEVENT
BEGIN:VEVENT
DTSTART;TZID=UTC:20290405T190000
DTEND;TZID=UTC:20290405T190000
DTSTAMP:20260422T224315
CREATED:20230205T185301Z
LAST-MODIFIED:20230205T185301Z
UID:10001555-1870110000-1870110000@harvestfellowshipsc.com
SUMMARY:Bible Study
DESCRIPTION:
URL:https://harvestfellowshipsc.com/event/bible-study/2029-04-05/
END:VEVENT
BEGIN:VEVENT
DTSTART;TZID=UTC:20290408T084500
DTEND;TZID=UTC:20290408T094500
DTSTAMP:20260422T224315
CREATED:20230205T190337Z
LAST-MODIFIED:20250709T230237Z
UID:10001853-1870332300-1870335900@harvestfellowshipsc.com
SUMMARY:Foundations I & II
DESCRIPTION:
URL:https://harvestfellowshipsc.com/event/foundations-ii/2029-04-08/
END:VEVENT
BEGIN:VEVENT
DTSTART;TZID=UTC:20290408T100000
DTEND;TZID=UTC:20290408T100000
DTSTAMP:20260422T224315
CREATED:20230205T185654Z
LAST-MODIFIED:20230205T191206Z
UID:10001748-1870336800-1870336800@harvestfellowshipsc.com
SUMMARY:Worship Service
DESCRIPTION:
URL:https://harvestfellowshipsc.com/event/worship-service/2029-04-08/
END:VEVENT
BEGIN:VEVENT
DTSTART;TZID=UTC:20290410T190000
DTEND;TZID=UTC:20290410T190000
DTSTAMP:20260422T224315
CREATED:20230205T184928Z
LAST-MODIFIED:20230205T185121Z
UID:10001651-1870542000-1870542000@harvestfellowshipsc.com
SUMMARY:Prayer
DESCRIPTION:
URL:https://harvestfellowshipsc.com/event/prayer/2029-04-10/
END:VEVENT
BEGIN:VEVENT
DTSTART;TZID=UTC:20290412T190000
DTEND;TZID=UTC:20290412T190000
DTSTAMP:20260422T224315
CREATED:20230205T185301Z
LAST-MODIFIED:20230205T185301Z
UID:10001556-1870714800-1870714800@harvestfellowshipsc.com
SUMMARY:Bible Study
DESCRIPTION:
URL:https://harvestfellowshipsc.com/event/bible-study/2029-04-12/
END:VEVENT
BEGIN:VEVENT
DTSTART;TZID=UTC:20290414T100000
DTEND;TZID=UTC:20290414T100000
DTSTAMP:20260422T224315
CREATED:20240409T004830Z
LAST-MODIFIED:20240409T005007Z
UID:10001487-1870855200-1870855200@harvestfellowshipsc.com
SUMMARY:Women's Meeting
DESCRIPTION:
URL:https://harvestfellowshipsc.com/event/womens-meeting/2029-04-14/
END:VEVENT
BEGIN:VEVENT
DTSTART;TZID=UTC:20290415T084500
DTEND;TZID=UTC:20290415T094500
DTSTAMP:20260422T224315
CREATED:20230205T190337Z
LAST-MODIFIED:20250709T230237Z
UID:10001854-1870937100-1870940700@harvestfellowshipsc.com
SUMMARY:Foundations I & II
DESCRIPTION:
URL:https://harvestfellowshipsc.com/event/foundations-ii/2029-04-15/
END:VEVENT
BEGIN:VEVENT
DTSTART;TZID=UTC:20290415T100000
DTEND;TZID=UTC:20290415T100000
DTSTAMP:20260422T224315
CREATED:20230205T185654Z
LAST-MODIFIED:20230205T191206Z
UID:10001749-1870941600-1870941600@harvestfellowshipsc.com
SUMMARY:Worship Service
DESCRIPTION:
URL:https://harvestfellowshipsc.com/event/worship-service/2029-04-15/
END:VEVENT
BEGIN:VEVENT
DTSTART;TZID=UTC:20290417T190000
DTEND;TZID=UTC:20290417T190000
DTSTAMP:20260422T224315
CREATED:20230205T184928Z
LAST-MODIFIED:20230205T185121Z
UID:10001652-1871146800-1871146800@harvestfellowshipsc.com
SUMMARY:Prayer
DESCRIPTION:
URL:https://harvestfellowshipsc.com/event/prayer/2029-04-17/
END:VEVENT
BEGIN:VEVENT
DTSTART;TZID=UTC:20290419T190000
DTEND;TZID=UTC:20290419T190000
DTSTAMP:20260422T224316
CREATED:20230205T185301Z
LAST-MODIFIED:20230205T185301Z
UID:10001557-1871319600-1871319600@harvestfellowshipsc.com
SUMMARY:Bible Study
DESCRIPTION:
URL:https://harvestfellowshipsc.com/event/bible-study/2029-04-19/
END:VEVENT
BEGIN:VEVENT
DTSTART;TZID=UTC:20290422T084500
DTEND;TZID=UTC:20290422T094500
DTSTAMP:20260422T224316
CREATED:20230205T190337Z
LAST-MODIFIED:20250709T230237Z
UID:10001855-1871541900-1871545500@harvestfellowshipsc.com
SUMMARY:Foundations I & II
DESCRIPTION:
URL:https://harvestfellowshipsc.com/event/foundations-ii/2029-04-22/
END:VEVENT
BEGIN:VEVENT
DTSTART;TZID=UTC:20290422T100000
DTEND;TZID=UTC:20290422T100000
DTSTAMP:20260422T224316
CREATED:20230205T185654Z
LAST-MODIFIED:20230205T191206Z
UID:10001750-1871546400-1871546400@harvestfellowshipsc.com
SUMMARY:Worship Service
DESCRIPTION:
URL:https://harvestfellowshipsc.com/event/worship-service/2029-04-22/
END:VEVENT
BEGIN:VEVENT
DTSTART;TZID=UTC:20290424T190000
DTEND;TZID=UTC:20290424T190000
DTSTAMP:20260422T224316
CREATED:20230205T184928Z
LAST-MODIFIED:20230205T185121Z
UID:10001653-1871751600-1871751600@harvestfellowshipsc.com
SUMMARY:Prayer
DESCRIPTION:
URL:https://harvestfellowshipsc.com/event/prayer/2029-04-24/
END:VEVENT
BEGIN:VEVENT
DTSTART;TZID=UTC:20290426T190000
DTEND;TZID=UTC:20290426T190000
DTSTAMP:20260422T224316
CREATED:20230205T185301Z
LAST-MODIFIED:20230205T185301Z
UID:10001558-1871924400-1871924400@harvestfellowshipsc.com
SUMMARY:Bible Study
DESCRIPTION:
URL:https://harvestfellowshipsc.com/event/bible-study/2029-04-26/
END:VEVENT
BEGIN:VEVENT
DTSTART;TZID=UTC:20290429T084500
DTEND;TZID=UTC:20290429T094500
DTSTAMP:20260422T224316
CREATED:20230205T190337Z
LAST-MODIFIED:20250709T230237Z
UID:10001856-1872146700-1872150300@harvestfellowshipsc.com
SUMMARY:Foundations I & II
DESCRIPTION:
URL:https://harvestfellowshipsc.com/event/foundations-ii/2029-04-29/
END:VEVENT
BEGIN:VEVENT
DTSTART;TZID=UTC:20290429T100000
DTEND;TZID=UTC:20290429T100000
DTSTAMP:20260422T224316
CREATED:20230205T185654Z
LAST-MODIFIED:20230205T191206Z
UID:10001751-1872151200-1872151200@harvestfellowshipsc.com
SUMMARY:Worship Service
DESCRIPTION:
URL:https://harvestfellowshipsc.com/event/worship-service/2029-04-29/
END:VEVENT
END:VCALENDAR