BEGIN:VCALENDAR
VERSION:2.0
PRODID:-//Harvest Fellowship Church - ECPv6.15.20//NONSGML v1.0//EN
CALSCALE:GREGORIAN
METHOD:PUBLISH
X-WR-CALNAME:Harvest Fellowship Church
X-ORIGINAL-URL:https://harvestfellowshipsc.com
X-WR-CALDESC:Events for Harvest Fellowship Church
REFRESH-INTERVAL;VALUE=DURATION:PT1H
X-Robots-Tag:noindex
X-PUBLISHED-TTL:PT1H
BEGIN:VTIMEZONE
TZID:UTC
BEGIN:STANDARD
TZOFFSETFROM:+0000
TZOFFSETTO:+0000
TZNAME:UTC
DTSTART:20280101T000000
END:STANDARD
END:VTIMEZONE
BEGIN:VEVENT
DTSTART;TZID=UTC:20290201T190000
DTEND;TZID=UTC:20290201T190000
DTSTAMP:20260422T184307
CREATED:20230205T185301Z
LAST-MODIFIED:20230205T185301Z
UID:10001546-1864666800-1864666800@harvestfellowshipsc.com
SUMMARY:Bible Study
DESCRIPTION:
URL:https://harvestfellowshipsc.com/event/bible-study/2029-02-01/
END:VEVENT
BEGIN:VEVENT
DTSTART;TZID=UTC:20290204T084500
DTEND;TZID=UTC:20290204T094500
DTSTAMP:20260422T184307
CREATED:20230205T190337Z
LAST-MODIFIED:20250709T230237Z
UID:10001844-1864889100-1864892700@harvestfellowshipsc.com
SUMMARY:Foundations I & II
DESCRIPTION:
URL:https://harvestfellowshipsc.com/event/foundations-ii/2029-02-04/
END:VEVENT
BEGIN:VEVENT
DTSTART;TZID=UTC:20290204T100000
DTEND;TZID=UTC:20290204T100000
DTSTAMP:20260422T184307
CREATED:20230205T185654Z
LAST-MODIFIED:20230205T191206Z
UID:10001739-1864893600-1864893600@harvestfellowshipsc.com
SUMMARY:Worship Service
DESCRIPTION:
URL:https://harvestfellowshipsc.com/event/worship-service/2029-02-04/
END:VEVENT
BEGIN:VEVENT
DTSTART;TZID=UTC:20290206T190000
DTEND;TZID=UTC:20290206T190000
DTSTAMP:20260422T184307
CREATED:20230205T184928Z
LAST-MODIFIED:20230205T185121Z
UID:10001642-1865098800-1865098800@harvestfellowshipsc.com
SUMMARY:Prayer
DESCRIPTION:
URL:https://harvestfellowshipsc.com/event/prayer/2029-02-06/
END:VEVENT
BEGIN:VEVENT
DTSTART;TZID=UTC:20290208T190000
DTEND;TZID=UTC:20290208T190000
DTSTAMP:20260422T184307
CREATED:20230205T185301Z
LAST-MODIFIED:20230205T185301Z
UID:10001547-1865271600-1865271600@harvestfellowshipsc.com
SUMMARY:Bible Study
DESCRIPTION:
URL:https://harvestfellowshipsc.com/event/bible-study/2029-02-08/
END:VEVENT
BEGIN:VEVENT
DTSTART;TZID=UTC:20290210T100000
DTEND;TZID=UTC:20290210T100000
DTSTAMP:20260422T184307
CREATED:20240409T004830Z
LAST-MODIFIED:20240409T005007Z
UID:10001410-1865412000-1865412000@harvestfellowshipsc.com
SUMMARY:Women's Meeting
DESCRIPTION:
URL:https://harvestfellowshipsc.com/event/womens-meeting/2029-02-10/
END:VEVENT
BEGIN:VEVENT
DTSTART;TZID=UTC:20290211T084500
DTEND;TZID=UTC:20290211T094500
DTSTAMP:20260422T184307
CREATED:20230205T190337Z
LAST-MODIFIED:20250709T230237Z
UID:10001845-1865493900-1865497500@harvestfellowshipsc.com
SUMMARY:Foundations I & II
DESCRIPTION:
URL:https://harvestfellowshipsc.com/event/foundations-ii/2029-02-11/
END:VEVENT
BEGIN:VEVENT
DTSTART;TZID=UTC:20290211T100000
DTEND;TZID=UTC:20290211T100000
DTSTAMP:20260422T184307
CREATED:20230205T185654Z
LAST-MODIFIED:20230205T191206Z
UID:10001740-1865498400-1865498400@harvestfellowshipsc.com
SUMMARY:Worship Service
DESCRIPTION:
URL:https://harvestfellowshipsc.com/event/worship-service/2029-02-11/
END:VEVENT
BEGIN:VEVENT
DTSTART;TZID=UTC:20290213T190000
DTEND;TZID=UTC:20290213T190000
DTSTAMP:20260422T184307
CREATED:20230205T184928Z
LAST-MODIFIED:20230205T185121Z
UID:10001643-1865703600-1865703600@harvestfellowshipsc.com
SUMMARY:Prayer
DESCRIPTION:
URL:https://harvestfellowshipsc.com/event/prayer/2029-02-13/
END:VEVENT
BEGIN:VEVENT
DTSTART;TZID=UTC:20290215T190000
DTEND;TZID=UTC:20290215T190000
DTSTAMP:20260422T184307
CREATED:20230205T185301Z
LAST-MODIFIED:20230205T185301Z
UID:10001548-1865876400-1865876400@harvestfellowshipsc.com
SUMMARY:Bible Study
DESCRIPTION:
URL:https://harvestfellowshipsc.com/event/bible-study/2029-02-15/
END:VEVENT
BEGIN:VEVENT
DTSTART;TZID=UTC:20290218T084500
DTEND;TZID=UTC:20290218T094500
DTSTAMP:20260422T184307
CREATED:20230205T190337Z
LAST-MODIFIED:20250709T230237Z
UID:10001846-1866098700-1866102300@harvestfellowshipsc.com
SUMMARY:Foundations I & II
DESCRIPTION:
URL:https://harvestfellowshipsc.com/event/foundations-ii/2029-02-18/
END:VEVENT
BEGIN:VEVENT
DTSTART;TZID=UTC:20290218T100000
DTEND;TZID=UTC:20290218T100000
DTSTAMP:20260422T184307
CREATED:20230205T185654Z
LAST-MODIFIED:20230205T191206Z
UID:10001741-1866103200-1866103200@harvestfellowshipsc.com
SUMMARY:Worship Service
DESCRIPTION:
URL:https://harvestfellowshipsc.com/event/worship-service/2029-02-18/
END:VEVENT
BEGIN:VEVENT
DTSTART;TZID=UTC:20290220T190000
DTEND;TZID=UTC:20290220T190000
DTSTAMP:20260422T184307
CREATED:20230205T184928Z
LAST-MODIFIED:20230205T185121Z
UID:10001644-1866308400-1866308400@harvestfellowshipsc.com
SUMMARY:Prayer
DESCRIPTION:
URL:https://harvestfellowshipsc.com/event/prayer/2029-02-20/
END:VEVENT
BEGIN:VEVENT
DTSTART;TZID=UTC:20290222T190000
DTEND;TZID=UTC:20290222T190000
DTSTAMP:20260422T184307
CREATED:20230205T185301Z
LAST-MODIFIED:20230205T185301Z
UID:10001549-1866481200-1866481200@harvestfellowshipsc.com
SUMMARY:Bible Study
DESCRIPTION:
URL:https://harvestfellowshipsc.com/event/bible-study/2029-02-22/
END:VEVENT
BEGIN:VEVENT
DTSTART;TZID=UTC:20290224T090000
DTEND;TZID=UTC:20290224T090000
DTSTAMP:20260422T184307
CREATED:20240409T004513Z
LAST-MODIFIED:20240409T004657Z
UID:10001350-1866618000-1866618000@harvestfellowshipsc.com
SUMMARY:Men's Meeting
DESCRIPTION:
URL:https://harvestfellowshipsc.com/event/mens-meeting/2029-02-24/
END:VEVENT
BEGIN:VEVENT
DTSTART;TZID=UTC:20290225T084500
DTEND;TZID=UTC:20290225T094500
DTSTAMP:20260422T184307
CREATED:20230205T190337Z
LAST-MODIFIED:20250709T230237Z
UID:10001847-1866703500-1866707100@harvestfellowshipsc.com
SUMMARY:Foundations I & II
DESCRIPTION:
URL:https://harvestfellowshipsc.com/event/foundations-ii/2029-02-25/
END:VEVENT
BEGIN:VEVENT
DTSTART;TZID=UTC:20290225T100000
DTEND;TZID=UTC:20290225T100000
DTSTAMP:20260422T184307
CREATED:20230205T185654Z
LAST-MODIFIED:20230205T191206Z
UID:10001742-1866708000-1866708000@harvestfellowshipsc.com
SUMMARY:Worship Service
DESCRIPTION:
URL:https://harvestfellowshipsc.com/event/worship-service/2029-02-25/
END:VEVENT
BEGIN:VEVENT
DTSTART;TZID=UTC:20290227T190000
DTEND;TZID=UTC:20290227T190000
DTSTAMP:20260422T184307
CREATED:20230205T184928Z
LAST-MODIFIED:20230205T185121Z
UID:10001645-1866913200-1866913200@harvestfellowshipsc.com
SUMMARY:Prayer
DESCRIPTION:
URL:https://harvestfellowshipsc.com/event/prayer/2029-02-27/
END:VEVENT
END:VCALENDAR