BEGIN:VCALENDAR
VERSION:2.0
PRODID:-//Harvest Fellowship Church - ECPv6.15.20//NONSGML v1.0//EN
CALSCALE:GREGORIAN
METHOD:PUBLISH
X-ORIGINAL-URL:https://harvestfellowshipsc.com
X-WR-CALDESC:Events for Harvest Fellowship Church
REFRESH-INTERVAL;VALUE=DURATION:PT1H
X-Robots-Tag:noindex
X-PUBLISHED-TTL:PT1H
BEGIN:VTIMEZONE
TZID:UTC
BEGIN:STANDARD
TZOFFSETFROM:+0000
TZOFFSETTO:+0000
TZNAME:UTC
DTSTART:20270101T000000
END:STANDARD
END:VTIMEZONE
BEGIN:VEVENT
DTSTART;TZID=UTC:20281102T190000
DTEND;TZID=UTC:20281102T190000
DTSTAMP:20260422T132812
CREATED:20230205T185301Z
LAST-MODIFIED:20230205T185301Z
UID:10001533-1856804400-1856804400@harvestfellowshipsc.com
SUMMARY:Bible Study
DESCRIPTION:
URL:https://harvestfellowshipsc.com/event/bible-study/2028-11-02/
END:VEVENT
BEGIN:VEVENT
DTSTART;TZID=UTC:20281105T084500
DTEND;TZID=UTC:20281105T094500
DTSTAMP:20260422T132812
CREATED:20230205T190337Z
LAST-MODIFIED:20250709T230237Z
UID:10001831-1857026700-1857030300@harvestfellowshipsc.com
SUMMARY:Foundations I & II
DESCRIPTION:
URL:https://harvestfellowshipsc.com/event/foundations-ii/2028-11-05/
END:VEVENT
BEGIN:VEVENT
DTSTART;TZID=UTC:20281105T100000
DTEND;TZID=UTC:20281105T100000
DTSTAMP:20260422T132812
CREATED:20230205T185654Z
LAST-MODIFIED:20230205T191206Z
UID:10001726-1857031200-1857031200@harvestfellowshipsc.com
SUMMARY:Worship Service
DESCRIPTION:
URL:https://harvestfellowshipsc.com/event/worship-service/2028-11-05/
END:VEVENT
BEGIN:VEVENT
DTSTART;TZID=UTC:20281107T190000
DTEND;TZID=UTC:20281107T190000
DTSTAMP:20260422T132812
CREATED:20230205T184928Z
LAST-MODIFIED:20230205T185121Z
UID:10001629-1857236400-1857236400@harvestfellowshipsc.com
SUMMARY:Prayer
DESCRIPTION:
URL:https://harvestfellowshipsc.com/event/prayer/2028-11-07/
END:VEVENT
BEGIN:VEVENT
DTSTART;TZID=UTC:20281109T190000
DTEND;TZID=UTC:20281109T190000
DTSTAMP:20260422T132812
CREATED:20230205T185301Z
LAST-MODIFIED:20230205T185301Z
UID:10001534-1857409200-1857409200@harvestfellowshipsc.com
SUMMARY:Bible Study
DESCRIPTION:
URL:https://harvestfellowshipsc.com/event/bible-study/2028-11-09/
END:VEVENT
BEGIN:VEVENT
DTSTART;TZID=UTC:20281111T100000
DTEND;TZID=UTC:20281111T100000
DTSTAMP:20260422T132812
CREATED:20240409T004830Z
LAST-MODIFIED:20240409T005007Z
UID:10001407-1857549600-1857549600@harvestfellowshipsc.com
SUMMARY:Women's Meeting
DESCRIPTION:
URL:https://harvestfellowshipsc.com/event/womens-meeting/2028-11-11/
END:VEVENT
BEGIN:VEVENT
DTSTART;TZID=UTC:20281112T084500
DTEND;TZID=UTC:20281112T094500
DTSTAMP:20260422T132812
CREATED:20230205T190337Z
LAST-MODIFIED:20250709T230237Z
UID:10001832-1857631500-1857635100@harvestfellowshipsc.com
SUMMARY:Foundations I & II
DESCRIPTION:
URL:https://harvestfellowshipsc.com/event/foundations-ii/2028-11-12/
END:VEVENT
BEGIN:VEVENT
DTSTART;TZID=UTC:20281112T100000
DTEND;TZID=UTC:20281112T100000
DTSTAMP:20260422T132812
CREATED:20230205T185654Z
LAST-MODIFIED:20230205T191206Z
UID:10001727-1857636000-1857636000@harvestfellowshipsc.com
SUMMARY:Worship Service
DESCRIPTION:
URL:https://harvestfellowshipsc.com/event/worship-service/2028-11-12/
END:VEVENT
BEGIN:VEVENT
DTSTART;TZID=UTC:20281114T190000
DTEND;TZID=UTC:20281114T190000
DTSTAMP:20260422T132812
CREATED:20230205T184928Z
LAST-MODIFIED:20230205T185121Z
UID:10001630-1857841200-1857841200@harvestfellowshipsc.com
SUMMARY:Prayer
DESCRIPTION:
URL:https://harvestfellowshipsc.com/event/prayer/2028-11-14/
END:VEVENT
BEGIN:VEVENT
DTSTART;TZID=UTC:20281116T190000
DTEND;TZID=UTC:20281116T190000
DTSTAMP:20260422T132812
CREATED:20230205T185301Z
LAST-MODIFIED:20230205T185301Z
UID:10001535-1858014000-1858014000@harvestfellowshipsc.com
SUMMARY:Bible Study
DESCRIPTION:
URL:https://harvestfellowshipsc.com/event/bible-study/2028-11-16/
END:VEVENT
BEGIN:VEVENT
DTSTART;TZID=UTC:20281119T084500
DTEND;TZID=UTC:20281119T094500
DTSTAMP:20260422T132812
CREATED:20230205T190337Z
LAST-MODIFIED:20250709T230237Z
UID:10001833-1858236300-1858239900@harvestfellowshipsc.com
SUMMARY:Foundations I & II
DESCRIPTION:
URL:https://harvestfellowshipsc.com/event/foundations-ii/2028-11-19/
END:VEVENT
BEGIN:VEVENT
DTSTART;TZID=UTC:20281119T100000
DTEND;TZID=UTC:20281119T100000
DTSTAMP:20260422T132812
CREATED:20230205T185654Z
LAST-MODIFIED:20230205T191206Z
UID:10001728-1858240800-1858240800@harvestfellowshipsc.com
SUMMARY:Worship Service
DESCRIPTION:
URL:https://harvestfellowshipsc.com/event/worship-service/2028-11-19/
END:VEVENT
BEGIN:VEVENT
DTSTART;TZID=UTC:20281121T190000
DTEND;TZID=UTC:20281121T190000
DTSTAMP:20260422T132812
CREATED:20230205T184928Z
LAST-MODIFIED:20230205T185121Z
UID:10001631-1858446000-1858446000@harvestfellowshipsc.com
SUMMARY:Prayer
DESCRIPTION:
URL:https://harvestfellowshipsc.com/event/prayer/2028-11-21/
END:VEVENT
BEGIN:VEVENT
DTSTART;TZID=UTC:20281123T190000
DTEND;TZID=UTC:20281123T190000
DTSTAMP:20260422T132812
CREATED:20230205T185301Z
LAST-MODIFIED:20230205T185301Z
UID:10001536-1858618800-1858618800@harvestfellowshipsc.com
SUMMARY:Bible Study
DESCRIPTION:
URL:https://harvestfellowshipsc.com/event/bible-study/2028-11-23/
END:VEVENT
BEGIN:VEVENT
DTSTART;TZID=UTC:20281125T090000
DTEND;TZID=UTC:20281125T090000
DTSTAMP:20260422T132812
CREATED:20240409T004513Z
LAST-MODIFIED:20240409T004657Z
UID:10001347-1858755600-1858755600@harvestfellowshipsc.com
SUMMARY:Men's Meeting
DESCRIPTION:
URL:https://harvestfellowshipsc.com/event/mens-meeting/2028-11-25/
END:VEVENT
BEGIN:VEVENT
DTSTART;TZID=UTC:20281126T084500
DTEND;TZID=UTC:20281126T094500
DTSTAMP:20260422T132812
CREATED:20230205T190337Z
LAST-MODIFIED:20250709T230237Z
UID:10001834-1858841100-1858844700@harvestfellowshipsc.com
SUMMARY:Foundations I & II
DESCRIPTION:
URL:https://harvestfellowshipsc.com/event/foundations-ii/2028-11-26/
END:VEVENT
BEGIN:VEVENT
DTSTART;TZID=UTC:20281126T100000
DTEND;TZID=UTC:20281126T100000
DTSTAMP:20260422T132812
CREATED:20230205T185654Z
LAST-MODIFIED:20230205T191206Z
UID:10001729-1858845600-1858845600@harvestfellowshipsc.com
SUMMARY:Worship Service
DESCRIPTION:
URL:https://harvestfellowshipsc.com/event/worship-service/2028-11-26/
END:VEVENT
BEGIN:VEVENT
DTSTART;TZID=UTC:20281128T190000
DTEND;TZID=UTC:20281128T190000
DTSTAMP:20260422T132812
CREATED:20230205T184928Z
LAST-MODIFIED:20230205T185121Z
UID:10001632-1859050800-1859050800@harvestfellowshipsc.com
SUMMARY:Prayer
DESCRIPTION:
URL:https://harvestfellowshipsc.com/event/prayer/2028-11-28/
END:VEVENT
BEGIN:VEVENT
DTSTART;TZID=UTC:20281130T190000
DTEND;TZID=UTC:20281130T190000
DTSTAMP:20260422T132812
CREATED:20230205T185301Z
LAST-MODIFIED:20230205T185301Z
UID:10001537-1859223600-1859223600@harvestfellowshipsc.com
SUMMARY:Bible Study
DESCRIPTION:
URL:https://harvestfellowshipsc.com/event/bible-study/2028-11-30/
END:VEVENT
END:VCALENDAR