BEGIN:VCALENDAR
VERSION:2.0
PRODID:-//Harvest Fellowship Church - ECPv6.15.20//NONSGML v1.0//EN
CALSCALE:GREGORIAN
METHOD:PUBLISH
X-ORIGINAL-URL:https://harvestfellowshipsc.com
X-WR-CALDESC:Events for Harvest Fellowship Church
REFRESH-INTERVAL;VALUE=DURATION:PT1H
X-Robots-Tag:noindex
X-PUBLISHED-TTL:PT1H
BEGIN:VTIMEZONE
TZID:UTC
BEGIN:STANDARD
TZOFFSETFROM:+0000
TZOFFSETTO:+0000
TZNAME:UTC
DTSTART:20270101T000000
END:STANDARD
END:VTIMEZONE
BEGIN:VEVENT
DTSTART;TZID=UTC:20280903T084500
DTEND;TZID=UTC:20280903T094500
DTSTAMP:20260422T095743
CREATED:20230205T190337Z
LAST-MODIFIED:20250709T230237Z
UID:10001822-1851583500-1851587100@harvestfellowshipsc.com
SUMMARY:Foundations I & II
DESCRIPTION:
URL:https://harvestfellowshipsc.com/event/foundations-ii/2028-09-03/
END:VEVENT
BEGIN:VEVENT
DTSTART;TZID=UTC:20280903T100000
DTEND;TZID=UTC:20280903T100000
DTSTAMP:20260422T095743
CREATED:20230205T185654Z
LAST-MODIFIED:20230205T191206Z
UID:10001717-1851588000-1851588000@harvestfellowshipsc.com
SUMMARY:Worship Service
DESCRIPTION:
URL:https://harvestfellowshipsc.com/event/worship-service/2028-09-03/
END:VEVENT
BEGIN:VEVENT
DTSTART;TZID=UTC:20280905T190000
DTEND;TZID=UTC:20280905T190000
DTSTAMP:20260422T095743
CREATED:20230205T184928Z
LAST-MODIFIED:20230205T185121Z
UID:10001620-1851793200-1851793200@harvestfellowshipsc.com
SUMMARY:Prayer
DESCRIPTION:
URL:https://harvestfellowshipsc.com/event/prayer/2028-09-05/
END:VEVENT
BEGIN:VEVENT
DTSTART;TZID=UTC:20280907T190000
DTEND;TZID=UTC:20280907T190000
DTSTAMP:20260422T095743
CREATED:20230205T185301Z
LAST-MODIFIED:20230205T185301Z
UID:10001525-1851966000-1851966000@harvestfellowshipsc.com
SUMMARY:Bible Study
DESCRIPTION:
URL:https://harvestfellowshipsc.com/event/bible-study/2028-09-07/
END:VEVENT
BEGIN:VEVENT
DTSTART;TZID=UTC:20280909T100000
DTEND;TZID=UTC:20280909T100000
DTSTAMP:20260422T095743
CREATED:20240409T004830Z
LAST-MODIFIED:20240409T005007Z
UID:10001405-1852106400-1852106400@harvestfellowshipsc.com
SUMMARY:Women's Meeting
DESCRIPTION:
URL:https://harvestfellowshipsc.com/event/womens-meeting/2028-09-09/
END:VEVENT
BEGIN:VEVENT
DTSTART;TZID=UTC:20280910T084500
DTEND;TZID=UTC:20280910T094500
DTSTAMP:20260422T095743
CREATED:20230205T190337Z
LAST-MODIFIED:20250709T230237Z
UID:10001823-1852188300-1852191900@harvestfellowshipsc.com
SUMMARY:Foundations I & II
DESCRIPTION:
URL:https://harvestfellowshipsc.com/event/foundations-ii/2028-09-10/
END:VEVENT
BEGIN:VEVENT
DTSTART;TZID=UTC:20280910T100000
DTEND;TZID=UTC:20280910T100000
DTSTAMP:20260422T095743
CREATED:20230205T185654Z
LAST-MODIFIED:20230205T191206Z
UID:10001718-1852192800-1852192800@harvestfellowshipsc.com
SUMMARY:Worship Service
DESCRIPTION:
URL:https://harvestfellowshipsc.com/event/worship-service/2028-09-10/
END:VEVENT
BEGIN:VEVENT
DTSTART;TZID=UTC:20280912T190000
DTEND;TZID=UTC:20280912T190000
DTSTAMP:20260422T095743
CREATED:20230205T184928Z
LAST-MODIFIED:20230205T185121Z
UID:10001621-1852398000-1852398000@harvestfellowshipsc.com
SUMMARY:Prayer
DESCRIPTION:
URL:https://harvestfellowshipsc.com/event/prayer/2028-09-12/
END:VEVENT
BEGIN:VEVENT
DTSTART;TZID=UTC:20280914T190000
DTEND;TZID=UTC:20280914T190000
DTSTAMP:20260422T095743
CREATED:20230205T185301Z
LAST-MODIFIED:20230205T185301Z
UID:10001526-1852570800-1852570800@harvestfellowshipsc.com
SUMMARY:Bible Study
DESCRIPTION:
URL:https://harvestfellowshipsc.com/event/bible-study/2028-09-14/
END:VEVENT
BEGIN:VEVENT
DTSTART;TZID=UTC:20280917T084500
DTEND;TZID=UTC:20280917T094500
DTSTAMP:20260422T095743
CREATED:20230205T190337Z
LAST-MODIFIED:20250709T230237Z
UID:10001824-1852793100-1852796700@harvestfellowshipsc.com
SUMMARY:Foundations I & II
DESCRIPTION:
URL:https://harvestfellowshipsc.com/event/foundations-ii/2028-09-17/
END:VEVENT
BEGIN:VEVENT
DTSTART;TZID=UTC:20280917T100000
DTEND;TZID=UTC:20280917T100000
DTSTAMP:20260422T095743
CREATED:20230205T185654Z
LAST-MODIFIED:20230205T191206Z
UID:10001719-1852797600-1852797600@harvestfellowshipsc.com
SUMMARY:Worship Service
DESCRIPTION:
URL:https://harvestfellowshipsc.com/event/worship-service/2028-09-17/
END:VEVENT
BEGIN:VEVENT
DTSTART;TZID=UTC:20280919T190000
DTEND;TZID=UTC:20280919T190000
DTSTAMP:20260422T095743
CREATED:20230205T184928Z
LAST-MODIFIED:20230205T185121Z
UID:10001622-1853002800-1853002800@harvestfellowshipsc.com
SUMMARY:Prayer
DESCRIPTION:
URL:https://harvestfellowshipsc.com/event/prayer/2028-09-19/
END:VEVENT
BEGIN:VEVENT
DTSTART;TZID=UTC:20280921T190000
DTEND;TZID=UTC:20280921T190000
DTSTAMP:20260422T095743
CREATED:20230205T185301Z
LAST-MODIFIED:20230205T185301Z
UID:10001527-1853175600-1853175600@harvestfellowshipsc.com
SUMMARY:Bible Study
DESCRIPTION:
URL:https://harvestfellowshipsc.com/event/bible-study/2028-09-21/
END:VEVENT
BEGIN:VEVENT
DTSTART;TZID=UTC:20280923T090000
DTEND;TZID=UTC:20280923T090000
DTSTAMP:20260422T095743
CREATED:20240409T004513Z
LAST-MODIFIED:20240409T004657Z
UID:10001345-1853312400-1853312400@harvestfellowshipsc.com
SUMMARY:Men's Meeting
DESCRIPTION:
URL:https://harvestfellowshipsc.com/event/mens-meeting/2028-09-23/
END:VEVENT
BEGIN:VEVENT
DTSTART;TZID=UTC:20280924T084500
DTEND;TZID=UTC:20280924T094500
DTSTAMP:20260422T095743
CREATED:20230205T190337Z
LAST-MODIFIED:20250709T230237Z
UID:10001825-1853397900-1853401500@harvestfellowshipsc.com
SUMMARY:Foundations I & II
DESCRIPTION:
URL:https://harvestfellowshipsc.com/event/foundations-ii/2028-09-24/
END:VEVENT
BEGIN:VEVENT
DTSTART;TZID=UTC:20280924T100000
DTEND;TZID=UTC:20280924T100000
DTSTAMP:20260422T095743
CREATED:20230205T185654Z
LAST-MODIFIED:20230205T191206Z
UID:10001720-1853402400-1853402400@harvestfellowshipsc.com
SUMMARY:Worship Service
DESCRIPTION:
URL:https://harvestfellowshipsc.com/event/worship-service/2028-09-24/
END:VEVENT
BEGIN:VEVENT
DTSTART;TZID=UTC:20280926T190000
DTEND;TZID=UTC:20280926T190000
DTSTAMP:20260422T095743
CREATED:20230205T184928Z
LAST-MODIFIED:20230205T185121Z
UID:10001623-1853607600-1853607600@harvestfellowshipsc.com
SUMMARY:Prayer
DESCRIPTION:
URL:https://harvestfellowshipsc.com/event/prayer/2028-09-26/
END:VEVENT
BEGIN:VEVENT
DTSTART;TZID=UTC:20280928T190000
DTEND;TZID=UTC:20280928T190000
DTSTAMP:20260422T095743
CREATED:20230205T185301Z
LAST-MODIFIED:20230205T185301Z
UID:10001528-1853780400-1853780400@harvestfellowshipsc.com
SUMMARY:Bible Study
DESCRIPTION:
URL:https://harvestfellowshipsc.com/event/bible-study/2028-09-28/
END:VEVENT
END:VCALENDAR