BEGIN:VCALENDAR
VERSION:2.0
PRODID:-//Harvest Fellowship Church - ECPv6.15.20//NONSGML v1.0//EN
CALSCALE:GREGORIAN
METHOD:PUBLISH
X-ORIGINAL-URL:https://harvestfellowshipsc.com
X-WR-CALDESC:Events for Harvest Fellowship Church
REFRESH-INTERVAL;VALUE=DURATION:PT1H
X-Robots-Tag:noindex
X-PUBLISHED-TTL:PT1H
BEGIN:VTIMEZONE
TZID:UTC
BEGIN:STANDARD
TZOFFSETFROM:+0000
TZOFFSETTO:+0000
TZNAME:UTC
DTSTART:20270101T000000
END:STANDARD
END:VTIMEZONE
BEGIN:VEVENT
DTSTART;TZID=UTC:20280801T190000
DTEND;TZID=UTC:20280801T190000
DTSTAMP:20260422T074001
CREATED:20230205T184928Z
LAST-MODIFIED:20230205T185121Z
UID:10001615-1848769200-1848769200@harvestfellowshipsc.com
SUMMARY:Prayer
DESCRIPTION:
URL:https://harvestfellowshipsc.com/event/prayer/2028-08-01/
END:VEVENT
BEGIN:VEVENT
DTSTART;TZID=UTC:20280803T190000
DTEND;TZID=UTC:20280803T190000
DTSTAMP:20260422T074001
CREATED:20230205T185301Z
LAST-MODIFIED:20230205T185301Z
UID:10001520-1848942000-1848942000@harvestfellowshipsc.com
SUMMARY:Bible Study
DESCRIPTION:
URL:https://harvestfellowshipsc.com/event/bible-study/2028-08-03/
END:VEVENT
BEGIN:VEVENT
DTSTART;TZID=UTC:20280806T084500
DTEND;TZID=UTC:20280806T094500
DTSTAMP:20260422T074001
CREATED:20230205T190337Z
LAST-MODIFIED:20250709T230237Z
UID:10001818-1849164300-1849167900@harvestfellowshipsc.com
SUMMARY:Foundations I & II
DESCRIPTION:
URL:https://harvestfellowshipsc.com/event/foundations-ii/2028-08-06/
END:VEVENT
BEGIN:VEVENT
DTSTART;TZID=UTC:20280806T100000
DTEND;TZID=UTC:20280806T100000
DTSTAMP:20260422T074001
CREATED:20230205T185654Z
LAST-MODIFIED:20230205T191206Z
UID:10001713-1849168800-1849168800@harvestfellowshipsc.com
SUMMARY:Worship Service
DESCRIPTION:
URL:https://harvestfellowshipsc.com/event/worship-service/2028-08-06/
END:VEVENT
BEGIN:VEVENT
DTSTART;TZID=UTC:20280808T190000
DTEND;TZID=UTC:20280808T190000
DTSTAMP:20260422T074001
CREATED:20230205T184928Z
LAST-MODIFIED:20230205T185121Z
UID:10001616-1849374000-1849374000@harvestfellowshipsc.com
SUMMARY:Prayer
DESCRIPTION:
URL:https://harvestfellowshipsc.com/event/prayer/2028-08-08/
END:VEVENT
BEGIN:VEVENT
DTSTART;TZID=UTC:20280810T190000
DTEND;TZID=UTC:20280810T190000
DTSTAMP:20260422T074001
CREATED:20230205T185301Z
LAST-MODIFIED:20230205T185301Z
UID:10001521-1849546800-1849546800@harvestfellowshipsc.com
SUMMARY:Bible Study
DESCRIPTION:
URL:https://harvestfellowshipsc.com/event/bible-study/2028-08-10/
END:VEVENT
BEGIN:VEVENT
DTSTART;TZID=UTC:20280812T100000
DTEND;TZID=UTC:20280812T100000
DTSTAMP:20260422T074001
CREATED:20240409T004830Z
LAST-MODIFIED:20240409T005007Z
UID:10001404-1849687200-1849687200@harvestfellowshipsc.com
SUMMARY:Women's Meeting
DESCRIPTION:
URL:https://harvestfellowshipsc.com/event/womens-meeting/2028-08-12/
END:VEVENT
BEGIN:VEVENT
DTSTART;TZID=UTC:20280813T084500
DTEND;TZID=UTC:20280813T094500
DTSTAMP:20260422T074001
CREATED:20230205T190337Z
LAST-MODIFIED:20250709T230237Z
UID:10001819-1849769100-1849772700@harvestfellowshipsc.com
SUMMARY:Foundations I & II
DESCRIPTION:
URL:https://harvestfellowshipsc.com/event/foundations-ii/2028-08-13/
END:VEVENT
BEGIN:VEVENT
DTSTART;TZID=UTC:20280813T100000
DTEND;TZID=UTC:20280813T100000
DTSTAMP:20260422T074001
CREATED:20230205T185654Z
LAST-MODIFIED:20230205T191206Z
UID:10001714-1849773600-1849773600@harvestfellowshipsc.com
SUMMARY:Worship Service
DESCRIPTION:
URL:https://harvestfellowshipsc.com/event/worship-service/2028-08-13/
END:VEVENT
BEGIN:VEVENT
DTSTART;TZID=UTC:20280815T190000
DTEND;TZID=UTC:20280815T190000
DTSTAMP:20260422T074001
CREATED:20230205T184928Z
LAST-MODIFIED:20230205T185121Z
UID:10001617-1849978800-1849978800@harvestfellowshipsc.com
SUMMARY:Prayer
DESCRIPTION:
URL:https://harvestfellowshipsc.com/event/prayer/2028-08-15/
END:VEVENT
BEGIN:VEVENT
DTSTART;TZID=UTC:20280817T190000
DTEND;TZID=UTC:20280817T190000
DTSTAMP:20260422T074001
CREATED:20230205T185301Z
LAST-MODIFIED:20230205T185301Z
UID:10001522-1850151600-1850151600@harvestfellowshipsc.com
SUMMARY:Bible Study
DESCRIPTION:
URL:https://harvestfellowshipsc.com/event/bible-study/2028-08-17/
END:VEVENT
BEGIN:VEVENT
DTSTART;TZID=UTC:20280820T084500
DTEND;TZID=UTC:20280820T094500
DTSTAMP:20260422T074001
CREATED:20230205T190337Z
LAST-MODIFIED:20250709T230237Z
UID:10001820-1850373900-1850377500@harvestfellowshipsc.com
SUMMARY:Foundations I & II
DESCRIPTION:
URL:https://harvestfellowshipsc.com/event/foundations-ii/2028-08-20/
END:VEVENT
BEGIN:VEVENT
DTSTART;TZID=UTC:20280820T100000
DTEND;TZID=UTC:20280820T100000
DTSTAMP:20260422T074001
CREATED:20230205T185654Z
LAST-MODIFIED:20230205T191206Z
UID:10001715-1850378400-1850378400@harvestfellowshipsc.com
SUMMARY:Worship Service
DESCRIPTION:
URL:https://harvestfellowshipsc.com/event/worship-service/2028-08-20/
END:VEVENT
BEGIN:VEVENT
DTSTART;TZID=UTC:20280822T190000
DTEND;TZID=UTC:20280822T190000
DTSTAMP:20260422T074001
CREATED:20230205T184928Z
LAST-MODIFIED:20230205T185121Z
UID:10001618-1850583600-1850583600@harvestfellowshipsc.com
SUMMARY:Prayer
DESCRIPTION:
URL:https://harvestfellowshipsc.com/event/prayer/2028-08-22/
END:VEVENT
BEGIN:VEVENT
DTSTART;TZID=UTC:20280824T190000
DTEND;TZID=UTC:20280824T190000
DTSTAMP:20260422T074001
CREATED:20230205T185301Z
LAST-MODIFIED:20230205T185301Z
UID:10001523-1850756400-1850756400@harvestfellowshipsc.com
SUMMARY:Bible Study
DESCRIPTION:
URL:https://harvestfellowshipsc.com/event/bible-study/2028-08-24/
END:VEVENT
BEGIN:VEVENT
DTSTART;TZID=UTC:20280826T090000
DTEND;TZID=UTC:20280826T090000
DTSTAMP:20260422T074001
CREATED:20240409T004513Z
LAST-MODIFIED:20240409T004657Z
UID:10001344-1850893200-1850893200@harvestfellowshipsc.com
SUMMARY:Men's Meeting
DESCRIPTION:
URL:https://harvestfellowshipsc.com/event/mens-meeting/2028-08-26/
END:VEVENT
BEGIN:VEVENT
DTSTART;TZID=UTC:20280827T084500
DTEND;TZID=UTC:20280827T094500
DTSTAMP:20260422T074001
CREATED:20230205T190337Z
LAST-MODIFIED:20250709T230237Z
UID:10001821-1850978700-1850982300@harvestfellowshipsc.com
SUMMARY:Foundations I & II
DESCRIPTION:
URL:https://harvestfellowshipsc.com/event/foundations-ii/2028-08-27/
END:VEVENT
BEGIN:VEVENT
DTSTART;TZID=UTC:20280827T100000
DTEND;TZID=UTC:20280827T100000
DTSTAMP:20260422T074001
CREATED:20230205T185654Z
LAST-MODIFIED:20230205T191206Z
UID:10001716-1850983200-1850983200@harvestfellowshipsc.com
SUMMARY:Worship Service
DESCRIPTION:
URL:https://harvestfellowshipsc.com/event/worship-service/2028-08-27/
END:VEVENT
BEGIN:VEVENT
DTSTART;TZID=UTC:20280829T190000
DTEND;TZID=UTC:20280829T190000
DTSTAMP:20260422T074001
CREATED:20230205T184928Z
LAST-MODIFIED:20230205T185121Z
UID:10001619-1851188400-1851188400@harvestfellowshipsc.com
SUMMARY:Prayer
DESCRIPTION:
URL:https://harvestfellowshipsc.com/event/prayer/2028-08-29/
END:VEVENT
BEGIN:VEVENT
DTSTART;TZID=UTC:20280831T190000
DTEND;TZID=UTC:20280831T190000
DTSTAMP:20260422T074001
CREATED:20230205T185301Z
LAST-MODIFIED:20230205T185301Z
UID:10001524-1851361200-1851361200@harvestfellowshipsc.com
SUMMARY:Bible Study
DESCRIPTION:
URL:https://harvestfellowshipsc.com/event/bible-study/2028-08-31/
END:VEVENT
END:VCALENDAR