BEGIN:VCALENDAR
VERSION:2.0
PRODID:-//Harvest Fellowship Church - ECPv6.15.20//NONSGML v1.0//EN
CALSCALE:GREGORIAN
METHOD:PUBLISH
X-ORIGINAL-URL:https://harvestfellowshipsc.com
X-WR-CALDESC:Events for Harvest Fellowship Church
REFRESH-INTERVAL;VALUE=DURATION:PT1H
X-Robots-Tag:noindex
X-PUBLISHED-TTL:PT1H
BEGIN:VTIMEZONE
TZID:UTC
BEGIN:STANDARD
TZOFFSETFROM:+0000
TZOFFSETTO:+0000
TZNAME:UTC
DTSTART:20270101T000000
END:STANDARD
END:VTIMEZONE
BEGIN:VEVENT
DTSTART;TZID=UTC:20280402T084500
DTEND;TZID=UTC:20280402T094500
DTSTAMP:20260422T000408
CREATED:20230205T190337Z
LAST-MODIFIED:20250709T230237Z
UID:10001800-1838277900-1838281500@harvestfellowshipsc.com
SUMMARY:Foundations I & II
DESCRIPTION:
URL:https://harvestfellowshipsc.com/event/foundations-ii/2028-04-02/
END:VEVENT
BEGIN:VEVENT
DTSTART;TZID=UTC:20280402T100000
DTEND;TZID=UTC:20280402T100000
DTSTAMP:20260422T000408
CREATED:20230205T185654Z
LAST-MODIFIED:20230205T191206Z
UID:10001695-1838282400-1838282400@harvestfellowshipsc.com
SUMMARY:Worship Service
DESCRIPTION:
URL:https://harvestfellowshipsc.com/event/worship-service/2028-04-02/
END:VEVENT
BEGIN:VEVENT
DTSTART;TZID=UTC:20280404T190000
DTEND;TZID=UTC:20280404T190000
DTSTAMP:20260422T000408
CREATED:20230205T184928Z
LAST-MODIFIED:20230205T185121Z
UID:10001598-1838487600-1838487600@harvestfellowshipsc.com
SUMMARY:Prayer
DESCRIPTION:
URL:https://harvestfellowshipsc.com/event/prayer/2028-04-04/
END:VEVENT
BEGIN:VEVENT
DTSTART;TZID=UTC:20280406T190000
DTEND;TZID=UTC:20280406T190000
DTSTAMP:20260422T000408
CREATED:20230205T185301Z
LAST-MODIFIED:20230205T185301Z
UID:10001503-1838660400-1838660400@harvestfellowshipsc.com
SUMMARY:Bible Study
DESCRIPTION:
URL:https://harvestfellowshipsc.com/event/bible-study/2028-04-06/
END:VEVENT
BEGIN:VEVENT
DTSTART;TZID=UTC:20280408T100000
DTEND;TZID=UTC:20280408T100000
DTSTAMP:20260422T000408
CREATED:20240409T004830Z
LAST-MODIFIED:20240409T005007Z
UID:10001400-1838800800-1838800800@harvestfellowshipsc.com
SUMMARY:Women's Meeting
DESCRIPTION:
URL:https://harvestfellowshipsc.com/event/womens-meeting/2028-04-08/
END:VEVENT
BEGIN:VEVENT
DTSTART;TZID=UTC:20280409T084500
DTEND;TZID=UTC:20280409T094500
DTSTAMP:20260422T000408
CREATED:20230205T190337Z
LAST-MODIFIED:20250709T230237Z
UID:10001801-1838882700-1838886300@harvestfellowshipsc.com
SUMMARY:Foundations I & II
DESCRIPTION:
URL:https://harvestfellowshipsc.com/event/foundations-ii/2028-04-09/
END:VEVENT
BEGIN:VEVENT
DTSTART;TZID=UTC:20280409T100000
DTEND;TZID=UTC:20280409T100000
DTSTAMP:20260422T000408
CREATED:20230205T185654Z
LAST-MODIFIED:20230205T191206Z
UID:10001696-1838887200-1838887200@harvestfellowshipsc.com
SUMMARY:Worship Service
DESCRIPTION:
URL:https://harvestfellowshipsc.com/event/worship-service/2028-04-09/
END:VEVENT
BEGIN:VEVENT
DTSTART;TZID=UTC:20280411T190000
DTEND;TZID=UTC:20280411T190000
DTSTAMP:20260422T000408
CREATED:20230205T184928Z
LAST-MODIFIED:20230205T185121Z
UID:10001599-1839092400-1839092400@harvestfellowshipsc.com
SUMMARY:Prayer
DESCRIPTION:
URL:https://harvestfellowshipsc.com/event/prayer/2028-04-11/
END:VEVENT
BEGIN:VEVENT
DTSTART;TZID=UTC:20280413T190000
DTEND;TZID=UTC:20280413T190000
DTSTAMP:20260422T000408
CREATED:20230205T185301Z
LAST-MODIFIED:20230205T185301Z
UID:10001504-1839265200-1839265200@harvestfellowshipsc.com
SUMMARY:Bible Study
DESCRIPTION:
URL:https://harvestfellowshipsc.com/event/bible-study/2028-04-13/
END:VEVENT
BEGIN:VEVENT
DTSTART;TZID=UTC:20280416T084500
DTEND;TZID=UTC:20280416T094500
DTSTAMP:20260422T000408
CREATED:20230205T190337Z
LAST-MODIFIED:20250709T230237Z
UID:10001802-1839487500-1839491100@harvestfellowshipsc.com
SUMMARY:Foundations I & II
DESCRIPTION:
URL:https://harvestfellowshipsc.com/event/foundations-ii/2028-04-16/
END:VEVENT
BEGIN:VEVENT
DTSTART;TZID=UTC:20280416T100000
DTEND;TZID=UTC:20280416T100000
DTSTAMP:20260422T000408
CREATED:20230205T185654Z
LAST-MODIFIED:20230205T191206Z
UID:10001697-1839492000-1839492000@harvestfellowshipsc.com
SUMMARY:Worship Service
DESCRIPTION:
URL:https://harvestfellowshipsc.com/event/worship-service/2028-04-16/
END:VEVENT
BEGIN:VEVENT
DTSTART;TZID=UTC:20280418T190000
DTEND;TZID=UTC:20280418T190000
DTSTAMP:20260422T000408
CREATED:20230205T184928Z
LAST-MODIFIED:20230205T185121Z
UID:10001600-1839697200-1839697200@harvestfellowshipsc.com
SUMMARY:Prayer
DESCRIPTION:
URL:https://harvestfellowshipsc.com/event/prayer/2028-04-18/
END:VEVENT
BEGIN:VEVENT
DTSTART;TZID=UTC:20280420T190000
DTEND;TZID=UTC:20280420T190000
DTSTAMP:20260422T000408
CREATED:20230205T185301Z
LAST-MODIFIED:20230205T185301Z
UID:10001505-1839870000-1839870000@harvestfellowshipsc.com
SUMMARY:Bible Study
DESCRIPTION:
URL:https://harvestfellowshipsc.com/event/bible-study/2028-04-20/
END:VEVENT
BEGIN:VEVENT
DTSTART;TZID=UTC:20280422T090000
DTEND;TZID=UTC:20280422T090000
DTSTAMP:20260422T000408
CREATED:20240409T004513Z
LAST-MODIFIED:20240409T004657Z
UID:10001340-1840006800-1840006800@harvestfellowshipsc.com
SUMMARY:Men's Meeting
DESCRIPTION:
URL:https://harvestfellowshipsc.com/event/mens-meeting/2028-04-22/
END:VEVENT
BEGIN:VEVENT
DTSTART;TZID=UTC:20280423T084500
DTEND;TZID=UTC:20280423T094500
DTSTAMP:20260422T000408
CREATED:20230205T190337Z
LAST-MODIFIED:20250709T230237Z
UID:10001803-1840092300-1840095900@harvestfellowshipsc.com
SUMMARY:Foundations I & II
DESCRIPTION:
URL:https://harvestfellowshipsc.com/event/foundations-ii/2028-04-23/
END:VEVENT
BEGIN:VEVENT
DTSTART;TZID=UTC:20280423T100000
DTEND;TZID=UTC:20280423T100000
DTSTAMP:20260422T000408
CREATED:20230205T185654Z
LAST-MODIFIED:20230205T191206Z
UID:10001698-1840096800-1840096800@harvestfellowshipsc.com
SUMMARY:Worship Service
DESCRIPTION:
URL:https://harvestfellowshipsc.com/event/worship-service/2028-04-23/
END:VEVENT
BEGIN:VEVENT
DTSTART;TZID=UTC:20280425T190000
DTEND;TZID=UTC:20280425T190000
DTSTAMP:20260422T000408
CREATED:20230205T184928Z
LAST-MODIFIED:20230205T185121Z
UID:10001601-1840302000-1840302000@harvestfellowshipsc.com
SUMMARY:Prayer
DESCRIPTION:
URL:https://harvestfellowshipsc.com/event/prayer/2028-04-25/
END:VEVENT
BEGIN:VEVENT
DTSTART;TZID=UTC:20280427T190000
DTEND;TZID=UTC:20280427T190000
DTSTAMP:20260422T000408
CREATED:20230205T185301Z
LAST-MODIFIED:20230205T185301Z
UID:10001506-1840474800-1840474800@harvestfellowshipsc.com
SUMMARY:Bible Study
DESCRIPTION:
URL:https://harvestfellowshipsc.com/event/bible-study/2028-04-27/
END:VEVENT
BEGIN:VEVENT
DTSTART;TZID=UTC:20280430T084500
DTEND;TZID=UTC:20280430T094500
DTSTAMP:20260422T000408
CREATED:20230205T190337Z
LAST-MODIFIED:20250709T230237Z
UID:10001804-1840697100-1840700700@harvestfellowshipsc.com
SUMMARY:Foundations I & II
DESCRIPTION:
URL:https://harvestfellowshipsc.com/event/foundations-ii/2028-04-30/
END:VEVENT
BEGIN:VEVENT
DTSTART;TZID=UTC:20280430T100000
DTEND;TZID=UTC:20280430T100000
DTSTAMP:20260422T000408
CREATED:20230205T185654Z
LAST-MODIFIED:20230205T191206Z
UID:10001699-1840701600-1840701600@harvestfellowshipsc.com
SUMMARY:Worship Service
DESCRIPTION:
URL:https://harvestfellowshipsc.com/event/worship-service/2028-04-30/
END:VEVENT
END:VCALENDAR