BEGIN:VCALENDAR
VERSION:2.0
PRODID:-//Harvest Fellowship Church - ECPv6.15.20//NONSGML v1.0//EN
CALSCALE:GREGORIAN
METHOD:PUBLISH
X-ORIGINAL-URL:https://harvestfellowshipsc.com
X-WR-CALDESC:Events for Harvest Fellowship Church
REFRESH-INTERVAL;VALUE=DURATION:PT1H
X-Robots-Tag:noindex
X-PUBLISHED-TTL:PT1H
BEGIN:VTIMEZONE
TZID:UTC
BEGIN:STANDARD
TZOFFSETFROM:+0000
TZOFFSETTO:+0000
TZNAME:UTC
DTSTART:20260101T000000
END:STANDARD
END:VTIMEZONE
BEGIN:VEVENT
DTSTART;TZID=UTC:20271202T190000
DTEND;TZID=UTC:20271202T190000
DTSTAMP:20260421T162533
CREATED:20230205T185301Z
LAST-MODIFIED:20230205T185301Z
UID:10000639-1827774000-1827774000@harvestfellowshipsc.com
SUMMARY:Bible Study
DESCRIPTION:
URL:https://harvestfellowshipsc.com/event/bible-study/2027-12-02/
END:VEVENT
BEGIN:VEVENT
DTSTART;TZID=UTC:20271205T084500
DTEND;TZID=UTC:20271205T094500
DTSTAMP:20260421T162533
CREATED:20230205T190337Z
LAST-MODIFIED:20250709T230237Z
UID:10001276-1827996300-1827999900@harvestfellowshipsc.com
SUMMARY:Foundations I & II
DESCRIPTION:
URL:https://harvestfellowshipsc.com/event/foundations-ii/2027-12-05/
END:VEVENT
BEGIN:VEVENT
DTSTART;TZID=UTC:20271205T100000
DTEND;TZID=UTC:20271205T100000
DTSTAMP:20260421T162533
CREATED:20230205T185654Z
LAST-MODIFIED:20230205T191206Z
UID:10000958-1828000800-1828000800@harvestfellowshipsc.com
SUMMARY:Worship Service
DESCRIPTION:
URL:https://harvestfellowshipsc.com/event/worship-service/2027-12-05/
END:VEVENT
BEGIN:VEVENT
DTSTART;TZID=UTC:20271207T190000
DTEND;TZID=UTC:20271207T190000
DTSTAMP:20260421T162533
CREATED:20230205T184928Z
LAST-MODIFIED:20230205T185121Z
UID:10000265-1828206000-1828206000@harvestfellowshipsc.com
SUMMARY:Prayer
DESCRIPTION:
URL:https://harvestfellowshipsc.com/event/prayer/2027-12-07/
END:VEVENT
BEGIN:VEVENT
DTSTART;TZID=UTC:20271209T190000
DTEND;TZID=UTC:20271209T190000
DTSTAMP:20260421T162533
CREATED:20230205T185301Z
LAST-MODIFIED:20230205T185301Z
UID:10000640-1828378800-1828378800@harvestfellowshipsc.com
SUMMARY:Bible Study
DESCRIPTION:
URL:https://harvestfellowshipsc.com/event/bible-study/2027-12-09/
END:VEVENT
BEGIN:VEVENT
DTSTART;TZID=UTC:20271211T100000
DTEND;TZID=UTC:20271211T100000
DTSTAMP:20260421T162533
CREATED:20240409T004830Z
LAST-MODIFIED:20240409T005007Z
UID:10001396-1828519200-1828519200@harvestfellowshipsc.com
SUMMARY:Women's Meeting
DESCRIPTION:
URL:https://harvestfellowshipsc.com/event/womens-meeting/2027-12-11/
END:VEVENT
BEGIN:VEVENT
DTSTART;TZID=UTC:20271212T084500
DTEND;TZID=UTC:20271212T094500
DTSTAMP:20260421T162533
CREATED:20230205T190337Z
LAST-MODIFIED:20250709T230237Z
UID:10001277-1828601100-1828604700@harvestfellowshipsc.com
SUMMARY:Foundations I & II
DESCRIPTION:
URL:https://harvestfellowshipsc.com/event/foundations-ii/2027-12-12/
END:VEVENT
BEGIN:VEVENT
DTSTART;TZID=UTC:20271212T100000
DTEND;TZID=UTC:20271212T100000
DTSTAMP:20260421T162533
CREATED:20230205T185654Z
LAST-MODIFIED:20230205T191206Z
UID:10000959-1828605600-1828605600@harvestfellowshipsc.com
SUMMARY:Worship Service
DESCRIPTION:
URL:https://harvestfellowshipsc.com/event/worship-service/2027-12-12/
END:VEVENT
BEGIN:VEVENT
DTSTART;TZID=UTC:20271214T190000
DTEND;TZID=UTC:20271214T190000
DTSTAMP:20260421T162533
CREATED:20230205T184928Z
LAST-MODIFIED:20230205T185121Z
UID:10000266-1828810800-1828810800@harvestfellowshipsc.com
SUMMARY:Prayer
DESCRIPTION:
URL:https://harvestfellowshipsc.com/event/prayer/2027-12-14/
END:VEVENT
BEGIN:VEVENT
DTSTART;TZID=UTC:20271216T190000
DTEND;TZID=UTC:20271216T190000
DTSTAMP:20260421T162533
CREATED:20230205T185301Z
LAST-MODIFIED:20230205T185301Z
UID:10000641-1828983600-1828983600@harvestfellowshipsc.com
SUMMARY:Bible Study
DESCRIPTION:
URL:https://harvestfellowshipsc.com/event/bible-study/2027-12-16/
END:VEVENT
BEGIN:VEVENT
DTSTART;TZID=UTC:20271219T084500
DTEND;TZID=UTC:20271219T094500
DTSTAMP:20260421T162533
CREATED:20230205T190337Z
LAST-MODIFIED:20250709T230237Z
UID:10001278-1829205900-1829209500@harvestfellowshipsc.com
SUMMARY:Foundations I & II
DESCRIPTION:
URL:https://harvestfellowshipsc.com/event/foundations-ii/2027-12-19/
END:VEVENT
BEGIN:VEVENT
DTSTART;TZID=UTC:20271219T100000
DTEND;TZID=UTC:20271219T100000
DTSTAMP:20260421T162533
CREATED:20230205T185654Z
LAST-MODIFIED:20230205T191206Z
UID:10000960-1829210400-1829210400@harvestfellowshipsc.com
SUMMARY:Worship Service
DESCRIPTION:
URL:https://harvestfellowshipsc.com/event/worship-service/2027-12-19/
END:VEVENT
BEGIN:VEVENT
DTSTART;TZID=UTC:20271221T190000
DTEND;TZID=UTC:20271221T190000
DTSTAMP:20260421T162533
CREATED:20230205T184928Z
LAST-MODIFIED:20230205T185121Z
UID:10000267-1829415600-1829415600@harvestfellowshipsc.com
SUMMARY:Prayer
DESCRIPTION:
URL:https://harvestfellowshipsc.com/event/prayer/2027-12-21/
END:VEVENT
BEGIN:VEVENT
DTSTART;TZID=UTC:20271223T190000
DTEND;TZID=UTC:20271223T190000
DTSTAMP:20260421T162533
CREATED:20230205T185301Z
LAST-MODIFIED:20230205T185301Z
UID:10000642-1829588400-1829588400@harvestfellowshipsc.com
SUMMARY:Bible Study
DESCRIPTION:
URL:https://harvestfellowshipsc.com/event/bible-study/2027-12-23/
END:VEVENT
BEGIN:VEVENT
DTSTART;TZID=UTC:20271225T090000
DTEND;TZID=UTC:20271225T090000
DTSTAMP:20260421T162533
CREATED:20240409T004513Z
LAST-MODIFIED:20240409T004657Z
UID:10001336-1829725200-1829725200@harvestfellowshipsc.com
SUMMARY:Men's Meeting
DESCRIPTION:
URL:https://harvestfellowshipsc.com/event/mens-meeting/2027-12-25/
END:VEVENT
BEGIN:VEVENT
DTSTART;TZID=UTC:20271226T084500
DTEND;TZID=UTC:20271226T094500
DTSTAMP:20260421T162533
CREATED:20230205T190337Z
LAST-MODIFIED:20250709T230237Z
UID:10001279-1829810700-1829814300@harvestfellowshipsc.com
SUMMARY:Foundations I & II
DESCRIPTION:
URL:https://harvestfellowshipsc.com/event/foundations-ii/2027-12-26/
END:VEVENT
BEGIN:VEVENT
DTSTART;TZID=UTC:20271226T100000
DTEND;TZID=UTC:20271226T100000
DTSTAMP:20260421T162533
CREATED:20230205T185654Z
LAST-MODIFIED:20230205T191206Z
UID:10000961-1829815200-1829815200@harvestfellowshipsc.com
SUMMARY:Worship Service
DESCRIPTION:
URL:https://harvestfellowshipsc.com/event/worship-service/2027-12-26/
END:VEVENT
BEGIN:VEVENT
DTSTART;TZID=UTC:20271228T190000
DTEND;TZID=UTC:20271228T190000
DTSTAMP:20260421T162533
CREATED:20230205T184928Z
LAST-MODIFIED:20230205T185121Z
UID:10000268-1830020400-1830020400@harvestfellowshipsc.com
SUMMARY:Prayer
DESCRIPTION:
URL:https://harvestfellowshipsc.com/event/prayer/2027-12-28/
END:VEVENT
BEGIN:VEVENT
DTSTART;TZID=UTC:20271230T190000
DTEND;TZID=UTC:20271230T190000
DTSTAMP:20260421T162533
CREATED:20230205T185301Z
LAST-MODIFIED:20230205T185301Z
UID:10000643-1830193200-1830193200@harvestfellowshipsc.com
SUMMARY:Bible Study
DESCRIPTION:
URL:https://harvestfellowshipsc.com/event/bible-study/2027-12-30/
END:VEVENT
END:VCALENDAR