BEGIN:VCALENDAR
VERSION:2.0
PRODID:-//Harvest Fellowship Church - ECPv6.15.20//NONSGML v1.0//EN
CALSCALE:GREGORIAN
METHOD:PUBLISH
X-WR-CALNAME:Harvest Fellowship Church
X-ORIGINAL-URL:https://harvestfellowshipsc.com
X-WR-CALDESC:Events for Harvest Fellowship Church
REFRESH-INTERVAL;VALUE=DURATION:PT1H
X-Robots-Tag:noindex
X-PUBLISHED-TTL:PT1H
BEGIN:VTIMEZONE
TZID:UTC
BEGIN:STANDARD
TZOFFSETFROM:+0000
TZOFFSETTO:+0000
TZNAME:UTC
DTSTART:20260101T000000
END:STANDARD
END:VTIMEZONE
BEGIN:VEVENT
DTSTART;TZID=UTC:20271003T084500
DTEND;TZID=UTC:20271003T094500
DTSTAMP:20260421T125243
CREATED:20230205T190337Z
LAST-MODIFIED:20250709T230237Z
UID:10001267-1822553100-1822556700@harvestfellowshipsc.com
SUMMARY:Foundations I & II
DESCRIPTION:
URL:https://harvestfellowshipsc.com/event/foundations-ii/2027-10-03/
END:VEVENT
BEGIN:VEVENT
DTSTART;TZID=UTC:20271003T100000
DTEND;TZID=UTC:20271003T100000
DTSTAMP:20260421T125243
CREATED:20230205T185654Z
LAST-MODIFIED:20230205T191206Z
UID:10000949-1822557600-1822557600@harvestfellowshipsc.com
SUMMARY:Worship Service
DESCRIPTION:
URL:https://harvestfellowshipsc.com/event/worship-service/2027-10-03/
END:VEVENT
BEGIN:VEVENT
DTSTART;TZID=UTC:20271005T190000
DTEND;TZID=UTC:20271005T190000
DTSTAMP:20260421T125243
CREATED:20230205T184928Z
LAST-MODIFIED:20230205T185121Z
UID:10000256-1822762800-1822762800@harvestfellowshipsc.com
SUMMARY:Prayer
DESCRIPTION:
URL:https://harvestfellowshipsc.com/event/prayer/2027-10-05/
END:VEVENT
BEGIN:VEVENT
DTSTART;TZID=UTC:20271007T190000
DTEND;TZID=UTC:20271007T190000
DTSTAMP:20260421T125243
CREATED:20230205T185301Z
LAST-MODIFIED:20230205T185301Z
UID:10000631-1822935600-1822935600@harvestfellowshipsc.com
SUMMARY:Bible Study
DESCRIPTION:
URL:https://harvestfellowshipsc.com/event/bible-study/2027-10-07/
END:VEVENT
BEGIN:VEVENT
DTSTART;TZID=UTC:20271009T100000
DTEND;TZID=UTC:20271009T100000
DTSTAMP:20260421T125243
CREATED:20240409T004830Z
LAST-MODIFIED:20240409T005007Z
UID:10001394-1823076000-1823076000@harvestfellowshipsc.com
SUMMARY:Women's Meeting
DESCRIPTION:
URL:https://harvestfellowshipsc.com/event/womens-meeting/2027-10-09/
END:VEVENT
BEGIN:VEVENT
DTSTART;TZID=UTC:20271010T084500
DTEND;TZID=UTC:20271010T094500
DTSTAMP:20260421T125243
CREATED:20230205T190337Z
LAST-MODIFIED:20250709T230237Z
UID:10001268-1823157900-1823161500@harvestfellowshipsc.com
SUMMARY:Foundations I & II
DESCRIPTION:
URL:https://harvestfellowshipsc.com/event/foundations-ii/2027-10-10/
END:VEVENT
BEGIN:VEVENT
DTSTART;TZID=UTC:20271010T100000
DTEND;TZID=UTC:20271010T100000
DTSTAMP:20260421T125243
CREATED:20230205T185654Z
LAST-MODIFIED:20230205T191206Z
UID:10000950-1823162400-1823162400@harvestfellowshipsc.com
SUMMARY:Worship Service
DESCRIPTION:
URL:https://harvestfellowshipsc.com/event/worship-service/2027-10-10/
END:VEVENT
BEGIN:VEVENT
DTSTART;TZID=UTC:20271012T190000
DTEND;TZID=UTC:20271012T190000
DTSTAMP:20260421T125243
CREATED:20230205T184928Z
LAST-MODIFIED:20230205T185121Z
UID:10000257-1823367600-1823367600@harvestfellowshipsc.com
SUMMARY:Prayer
DESCRIPTION:
URL:https://harvestfellowshipsc.com/event/prayer/2027-10-12/
END:VEVENT
BEGIN:VEVENT
DTSTART;TZID=UTC:20271014T190000
DTEND;TZID=UTC:20271014T190000
DTSTAMP:20260421T125243
CREATED:20230205T185301Z
LAST-MODIFIED:20230205T185301Z
UID:10000632-1823540400-1823540400@harvestfellowshipsc.com
SUMMARY:Bible Study
DESCRIPTION:
URL:https://harvestfellowshipsc.com/event/bible-study/2027-10-14/
END:VEVENT
BEGIN:VEVENT
DTSTART;TZID=UTC:20271017T084500
DTEND;TZID=UTC:20271017T094500
DTSTAMP:20260421T125243
CREATED:20230205T190337Z
LAST-MODIFIED:20250709T230237Z
UID:10001269-1823762700-1823766300@harvestfellowshipsc.com
SUMMARY:Foundations I & II
DESCRIPTION:
URL:https://harvestfellowshipsc.com/event/foundations-ii/2027-10-17/
END:VEVENT
BEGIN:VEVENT
DTSTART;TZID=UTC:20271017T100000
DTEND;TZID=UTC:20271017T100000
DTSTAMP:20260421T125243
CREATED:20230205T185654Z
LAST-MODIFIED:20230205T191206Z
UID:10000951-1823767200-1823767200@harvestfellowshipsc.com
SUMMARY:Worship Service
DESCRIPTION:
URL:https://harvestfellowshipsc.com/event/worship-service/2027-10-17/
END:VEVENT
BEGIN:VEVENT
DTSTART;TZID=UTC:20271019T190000
DTEND;TZID=UTC:20271019T190000
DTSTAMP:20260421T125243
CREATED:20230205T184928Z
LAST-MODIFIED:20230205T185121Z
UID:10000258-1823972400-1823972400@harvestfellowshipsc.com
SUMMARY:Prayer
DESCRIPTION:
URL:https://harvestfellowshipsc.com/event/prayer/2027-10-19/
END:VEVENT
BEGIN:VEVENT
DTSTART;TZID=UTC:20271021T190000
DTEND;TZID=UTC:20271021T190000
DTSTAMP:20260421T125243
CREATED:20230205T185301Z
LAST-MODIFIED:20230205T185301Z
UID:10000633-1824145200-1824145200@harvestfellowshipsc.com
SUMMARY:Bible Study
DESCRIPTION:
URL:https://harvestfellowshipsc.com/event/bible-study/2027-10-21/
END:VEVENT
BEGIN:VEVENT
DTSTART;TZID=UTC:20271023T090000
DTEND;TZID=UTC:20271023T090000
DTSTAMP:20260421T125243
CREATED:20240409T004513Z
LAST-MODIFIED:20240409T004657Z
UID:10001334-1824282000-1824282000@harvestfellowshipsc.com
SUMMARY:Men's Meeting
DESCRIPTION:
URL:https://harvestfellowshipsc.com/event/mens-meeting/2027-10-23/
END:VEVENT
BEGIN:VEVENT
DTSTART;TZID=UTC:20271024T084500
DTEND;TZID=UTC:20271024T094500
DTSTAMP:20260421T125243
CREATED:20230205T190337Z
LAST-MODIFIED:20250709T230237Z
UID:10001270-1824367500-1824371100@harvestfellowshipsc.com
SUMMARY:Foundations I & II
DESCRIPTION:
URL:https://harvestfellowshipsc.com/event/foundations-ii/2027-10-24/
END:VEVENT
BEGIN:VEVENT
DTSTART;TZID=UTC:20271024T100000
DTEND;TZID=UTC:20271024T100000
DTSTAMP:20260421T125243
CREATED:20230205T185654Z
LAST-MODIFIED:20230205T191206Z
UID:10000952-1824372000-1824372000@harvestfellowshipsc.com
SUMMARY:Worship Service
DESCRIPTION:
URL:https://harvestfellowshipsc.com/event/worship-service/2027-10-24/
END:VEVENT
BEGIN:VEVENT
DTSTART;TZID=UTC:20271026T190000
DTEND;TZID=UTC:20271026T190000
DTSTAMP:20260421T125243
CREATED:20230205T184928Z
LAST-MODIFIED:20230205T185121Z
UID:10000259-1824577200-1824577200@harvestfellowshipsc.com
SUMMARY:Prayer
DESCRIPTION:
URL:https://harvestfellowshipsc.com/event/prayer/2027-10-26/
END:VEVENT
BEGIN:VEVENT
DTSTART;TZID=UTC:20271028T190000
DTEND;TZID=UTC:20271028T190000
DTSTAMP:20260421T125243
CREATED:20230205T185301Z
LAST-MODIFIED:20230205T185301Z
UID:10000634-1824750000-1824750000@harvestfellowshipsc.com
SUMMARY:Bible Study
DESCRIPTION:
URL:https://harvestfellowshipsc.com/event/bible-study/2027-10-28/
END:VEVENT
BEGIN:VEVENT
DTSTART;TZID=UTC:20271031T084500
DTEND;TZID=UTC:20271031T094500
DTSTAMP:20260421T125243
CREATED:20230205T190337Z
LAST-MODIFIED:20250709T230237Z
UID:10001271-1824972300-1824975900@harvestfellowshipsc.com
SUMMARY:Foundations I & II
DESCRIPTION:
URL:https://harvestfellowshipsc.com/event/foundations-ii/2027-10-31/
END:VEVENT
BEGIN:VEVENT
DTSTART;TZID=UTC:20271031T100000
DTEND;TZID=UTC:20271031T100000
DTSTAMP:20260421T125243
CREATED:20230205T185654Z
LAST-MODIFIED:20230205T191206Z
UID:10000953-1824976800-1824976800@harvestfellowshipsc.com
SUMMARY:Worship Service
DESCRIPTION:
URL:https://harvestfellowshipsc.com/event/worship-service/2027-10-31/
END:VEVENT
END:VCALENDAR