BEGIN:VCALENDAR
VERSION:2.0
PRODID:-//Harvest Fellowship Church - ECPv6.15.20//NONSGML v1.0//EN
CALSCALE:GREGORIAN
METHOD:PUBLISH
X-WR-CALNAME:Harvest Fellowship Church
X-ORIGINAL-URL:https://harvestfellowshipsc.com
X-WR-CALDESC:Events for Harvest Fellowship Church
REFRESH-INTERVAL;VALUE=DURATION:PT1H
X-Robots-Tag:noindex
X-PUBLISHED-TTL:PT1H
BEGIN:VTIMEZONE
TZID:UTC
BEGIN:STANDARD
TZOFFSETFROM:+0000
TZOFFSETTO:+0000
TZNAME:UTC
DTSTART:20260101T000000
END:STANDARD
END:VTIMEZONE
BEGIN:VEVENT
DTSTART;TZID=UTC:20270801T084500
DTEND;TZID=UTC:20270801T094500
DTSTAMP:20260421T092156
CREATED:20230205T190337Z
LAST-MODIFIED:20250709T230237Z
UID:10001258-1817109900-1817113500@harvestfellowshipsc.com
SUMMARY:Foundations I & II
DESCRIPTION:
URL:https://harvestfellowshipsc.com/event/foundations-ii/2027-08-01/
END:VEVENT
BEGIN:VEVENT
DTSTART;TZID=UTC:20270801T100000
DTEND;TZID=UTC:20270801T100000
DTSTAMP:20260421T092156
CREATED:20230205T185654Z
LAST-MODIFIED:20230205T191206Z
UID:10000940-1817114400-1817114400@harvestfellowshipsc.com
SUMMARY:Worship Service
DESCRIPTION:
URL:https://harvestfellowshipsc.com/event/worship-service/2027-08-01/
END:VEVENT
BEGIN:VEVENT
DTSTART;TZID=UTC:20270803T190000
DTEND;TZID=UTC:20270803T190000
DTSTAMP:20260421T092156
CREATED:20230205T184928Z
LAST-MODIFIED:20230205T185121Z
UID:10000247-1817319600-1817319600@harvestfellowshipsc.com
SUMMARY:Prayer
DESCRIPTION:
URL:https://harvestfellowshipsc.com/event/prayer/2027-08-03/
END:VEVENT
BEGIN:VEVENT
DTSTART;TZID=UTC:20270805T190000
DTEND;TZID=UTC:20270805T190000
DTSTAMP:20260421T092156
CREATED:20230205T185301Z
LAST-MODIFIED:20230205T185301Z
UID:10000622-1817492400-1817492400@harvestfellowshipsc.com
SUMMARY:Bible Study
DESCRIPTION:
URL:https://harvestfellowshipsc.com/event/bible-study/2027-08-05/
END:VEVENT
BEGIN:VEVENT
DTSTART;TZID=UTC:20270808T084500
DTEND;TZID=UTC:20270808T094500
DTSTAMP:20260421T092156
CREATED:20230205T190337Z
LAST-MODIFIED:20250709T230237Z
UID:10001259-1817714700-1817718300@harvestfellowshipsc.com
SUMMARY:Foundations I & II
DESCRIPTION:
URL:https://harvestfellowshipsc.com/event/foundations-ii/2027-08-08/
END:VEVENT
BEGIN:VEVENT
DTSTART;TZID=UTC:20270808T100000
DTEND;TZID=UTC:20270808T100000
DTSTAMP:20260421T092157
CREATED:20230205T185654Z
LAST-MODIFIED:20230205T191206Z
UID:10000941-1817719200-1817719200@harvestfellowshipsc.com
SUMMARY:Worship Service
DESCRIPTION:
URL:https://harvestfellowshipsc.com/event/worship-service/2027-08-08/
END:VEVENT
BEGIN:VEVENT
DTSTART;TZID=UTC:20270810T190000
DTEND;TZID=UTC:20270810T190000
DTSTAMP:20260421T092157
CREATED:20230205T184928Z
LAST-MODIFIED:20230205T185121Z
UID:10000248-1817924400-1817924400@harvestfellowshipsc.com
SUMMARY:Prayer
DESCRIPTION:
URL:https://harvestfellowshipsc.com/event/prayer/2027-08-10/
END:VEVENT
BEGIN:VEVENT
DTSTART;TZID=UTC:20270812T190000
DTEND;TZID=UTC:20270812T190000
DTSTAMP:20260421T092157
CREATED:20230205T185301Z
LAST-MODIFIED:20230205T185301Z
UID:10000623-1818097200-1818097200@harvestfellowshipsc.com
SUMMARY:Bible Study
DESCRIPTION:
URL:https://harvestfellowshipsc.com/event/bible-study/2027-08-12/
END:VEVENT
BEGIN:VEVENT
DTSTART;TZID=UTC:20270814T100000
DTEND;TZID=UTC:20270814T100000
DTSTAMP:20260421T092157
CREATED:20240409T004830Z
LAST-MODIFIED:20240409T005007Z
UID:10001392-1818237600-1818237600@harvestfellowshipsc.com
SUMMARY:Women's Meeting
DESCRIPTION:
URL:https://harvestfellowshipsc.com/event/womens-meeting/2027-08-14/
END:VEVENT
BEGIN:VEVENT
DTSTART;TZID=UTC:20270815T084500
DTEND;TZID=UTC:20270815T094500
DTSTAMP:20260421T092157
CREATED:20230205T190337Z
LAST-MODIFIED:20250709T230237Z
UID:10001260-1818319500-1818323100@harvestfellowshipsc.com
SUMMARY:Foundations I & II
DESCRIPTION:
URL:https://harvestfellowshipsc.com/event/foundations-ii/2027-08-15/
END:VEVENT
BEGIN:VEVENT
DTSTART;TZID=UTC:20270815T100000
DTEND;TZID=UTC:20270815T100000
DTSTAMP:20260421T092157
CREATED:20230205T185654Z
LAST-MODIFIED:20230205T191206Z
UID:10000942-1818324000-1818324000@harvestfellowshipsc.com
SUMMARY:Worship Service
DESCRIPTION:
URL:https://harvestfellowshipsc.com/event/worship-service/2027-08-15/
END:VEVENT
BEGIN:VEVENT
DTSTART;TZID=UTC:20270817T190000
DTEND;TZID=UTC:20270817T190000
DTSTAMP:20260421T092157
CREATED:20230205T184928Z
LAST-MODIFIED:20230205T185121Z
UID:10000249-1818529200-1818529200@harvestfellowshipsc.com
SUMMARY:Prayer
DESCRIPTION:
URL:https://harvestfellowshipsc.com/event/prayer/2027-08-17/
END:VEVENT
BEGIN:VEVENT
DTSTART;TZID=UTC:20270819T190000
DTEND;TZID=UTC:20270819T190000
DTSTAMP:20260421T092157
CREATED:20230205T185301Z
LAST-MODIFIED:20230205T185301Z
UID:10000624-1818702000-1818702000@harvestfellowshipsc.com
SUMMARY:Bible Study
DESCRIPTION:
URL:https://harvestfellowshipsc.com/event/bible-study/2027-08-19/
END:VEVENT
BEGIN:VEVENT
DTSTART;TZID=UTC:20270822T084500
DTEND;TZID=UTC:20270822T094500
DTSTAMP:20260421T092157
CREATED:20230205T190337Z
LAST-MODIFIED:20250709T230237Z
UID:10001261-1818924300-1818927900@harvestfellowshipsc.com
SUMMARY:Foundations I & II
DESCRIPTION:
URL:https://harvestfellowshipsc.com/event/foundations-ii/2027-08-22/
END:VEVENT
BEGIN:VEVENT
DTSTART;TZID=UTC:20270822T100000
DTEND;TZID=UTC:20270822T100000
DTSTAMP:20260421T092157
CREATED:20230205T185654Z
LAST-MODIFIED:20230205T191206Z
UID:10000943-1818928800-1818928800@harvestfellowshipsc.com
SUMMARY:Worship Service
DESCRIPTION:
URL:https://harvestfellowshipsc.com/event/worship-service/2027-08-22/
END:VEVENT
BEGIN:VEVENT
DTSTART;TZID=UTC:20270824T190000
DTEND;TZID=UTC:20270824T190000
DTSTAMP:20260421T092157
CREATED:20230205T184928Z
LAST-MODIFIED:20230205T185121Z
UID:10000250-1819134000-1819134000@harvestfellowshipsc.com
SUMMARY:Prayer
DESCRIPTION:
URL:https://harvestfellowshipsc.com/event/prayer/2027-08-24/
END:VEVENT
BEGIN:VEVENT
DTSTART;TZID=UTC:20270826T190000
DTEND;TZID=UTC:20270826T190000
DTSTAMP:20260421T092157
CREATED:20230205T185301Z
LAST-MODIFIED:20230205T185301Z
UID:10000625-1819306800-1819306800@harvestfellowshipsc.com
SUMMARY:Bible Study
DESCRIPTION:
URL:https://harvestfellowshipsc.com/event/bible-study/2027-08-26/
END:VEVENT
BEGIN:VEVENT
DTSTART;TZID=UTC:20270828T090000
DTEND;TZID=UTC:20270828T090000
DTSTAMP:20260421T092157
CREATED:20240409T004513Z
LAST-MODIFIED:20240409T004657Z
UID:10001332-1819443600-1819443600@harvestfellowshipsc.com
SUMMARY:Men's Meeting
DESCRIPTION:
URL:https://harvestfellowshipsc.com/event/mens-meeting/2027-08-28/
END:VEVENT
BEGIN:VEVENT
DTSTART;TZID=UTC:20270829T084500
DTEND;TZID=UTC:20270829T094500
DTSTAMP:20260421T092157
CREATED:20230205T190337Z
LAST-MODIFIED:20250709T230237Z
UID:10001262-1819529100-1819532700@harvestfellowshipsc.com
SUMMARY:Foundations I & II
DESCRIPTION:
URL:https://harvestfellowshipsc.com/event/foundations-ii/2027-08-29/
END:VEVENT
BEGIN:VEVENT
DTSTART;TZID=UTC:20270829T100000
DTEND;TZID=UTC:20270829T100000
DTSTAMP:20260421T092157
CREATED:20230205T185654Z
LAST-MODIFIED:20230205T191206Z
UID:10000944-1819533600-1819533600@harvestfellowshipsc.com
SUMMARY:Worship Service
DESCRIPTION:
URL:https://harvestfellowshipsc.com/event/worship-service/2027-08-29/
END:VEVENT
BEGIN:VEVENT
DTSTART;TZID=UTC:20270831T190000
DTEND;TZID=UTC:20270831T190000
DTSTAMP:20260421T092157
CREATED:20230205T184928Z
LAST-MODIFIED:20230205T185121Z
UID:10000251-1819738800-1819738800@harvestfellowshipsc.com
SUMMARY:Prayer
DESCRIPTION:
URL:https://harvestfellowshipsc.com/event/prayer/2027-08-31/
END:VEVENT
END:VCALENDAR