BEGIN:VCALENDAR
VERSION:2.0
PRODID:-//Harvest Fellowship Church - ECPv6.15.20//NONSGML v1.0//EN
CALSCALE:GREGORIAN
METHOD:PUBLISH
X-ORIGINAL-URL:https://harvestfellowshipsc.com
X-WR-CALDESC:Events for Harvest Fellowship Church
REFRESH-INTERVAL;VALUE=DURATION:PT1H
X-Robots-Tag:noindex
X-PUBLISHED-TTL:PT1H
BEGIN:VTIMEZONE
TZID:UTC
BEGIN:STANDARD
TZOFFSETFROM:+0000
TZOFFSETTO:+0000
TZNAME:UTC
DTSTART:20260101T000000
END:STANDARD
END:VTIMEZONE
BEGIN:VEVENT
DTSTART;TZID=UTC:20270401T190000
DTEND;TZID=UTC:20270401T190000
DTSTAMP:20260421T015454
CREATED:20230205T185301Z
LAST-MODIFIED:20230205T185301Z
UID:10000604-1806606000-1806606000@harvestfellowshipsc.com
SUMMARY:Bible Study
DESCRIPTION:
URL:https://harvestfellowshipsc.com/event/bible-study/2027-04-01/
END:VEVENT
BEGIN:VEVENT
DTSTART;TZID=UTC:20270404T084500
DTEND;TZID=UTC:20270404T094500
DTSTAMP:20260421T015454
CREATED:20230205T190337Z
LAST-MODIFIED:20250709T230237Z
UID:10001241-1806828300-1806831900@harvestfellowshipsc.com
SUMMARY:Foundations I & II
DESCRIPTION:
URL:https://harvestfellowshipsc.com/event/foundations-ii/2027-04-04/
END:VEVENT
BEGIN:VEVENT
DTSTART;TZID=UTC:20270404T100000
DTEND;TZID=UTC:20270404T100000
DTSTAMP:20260421T015454
CREATED:20230205T185654Z
LAST-MODIFIED:20230205T191206Z
UID:10000923-1806832800-1806832800@harvestfellowshipsc.com
SUMMARY:Worship Service
DESCRIPTION:
URL:https://harvestfellowshipsc.com/event/worship-service/2027-04-04/
END:VEVENT
BEGIN:VEVENT
DTSTART;TZID=UTC:20270406T190000
DTEND;TZID=UTC:20270406T190000
DTSTAMP:20260421T015454
CREATED:20230205T184928Z
LAST-MODIFIED:20230205T185121Z
UID:10000230-1807038000-1807038000@harvestfellowshipsc.com
SUMMARY:Prayer
DESCRIPTION:
URL:https://harvestfellowshipsc.com/event/prayer/2027-04-06/
END:VEVENT
BEGIN:VEVENT
DTSTART;TZID=UTC:20270408T190000
DTEND;TZID=UTC:20270408T190000
DTSTAMP:20260421T015454
CREATED:20230205T185301Z
LAST-MODIFIED:20230205T185301Z
UID:10000605-1807210800-1807210800@harvestfellowshipsc.com
SUMMARY:Bible Study
DESCRIPTION:
URL:https://harvestfellowshipsc.com/event/bible-study/2027-04-08/
END:VEVENT
BEGIN:VEVENT
DTSTART;TZID=UTC:20270410T100000
DTEND;TZID=UTC:20270410T100000
DTSTAMP:20260421T015454
CREATED:20240409T004830Z
LAST-MODIFIED:20240409T005007Z
UID:10001388-1807351200-1807351200@harvestfellowshipsc.com
SUMMARY:Women's Meeting
DESCRIPTION:
URL:https://harvestfellowshipsc.com/event/womens-meeting/2027-04-10/
END:VEVENT
BEGIN:VEVENT
DTSTART;TZID=UTC:20270411T084500
DTEND;TZID=UTC:20270411T094500
DTSTAMP:20260421T015454
CREATED:20230205T190337Z
LAST-MODIFIED:20250709T230237Z
UID:10001242-1807433100-1807436700@harvestfellowshipsc.com
SUMMARY:Foundations I & II
DESCRIPTION:
URL:https://harvestfellowshipsc.com/event/foundations-ii/2027-04-11/
END:VEVENT
BEGIN:VEVENT
DTSTART;TZID=UTC:20270411T100000
DTEND;TZID=UTC:20270411T100000
DTSTAMP:20260421T015454
CREATED:20230205T185654Z
LAST-MODIFIED:20230205T191206Z
UID:10000924-1807437600-1807437600@harvestfellowshipsc.com
SUMMARY:Worship Service
DESCRIPTION:
URL:https://harvestfellowshipsc.com/event/worship-service/2027-04-11/
END:VEVENT
BEGIN:VEVENT
DTSTART;TZID=UTC:20270413T190000
DTEND;TZID=UTC:20270413T190000
DTSTAMP:20260421T015454
CREATED:20230205T184928Z
LAST-MODIFIED:20230205T185121Z
UID:10000231-1807642800-1807642800@harvestfellowshipsc.com
SUMMARY:Prayer
DESCRIPTION:
URL:https://harvestfellowshipsc.com/event/prayer/2027-04-13/
END:VEVENT
BEGIN:VEVENT
DTSTART;TZID=UTC:20270415T190000
DTEND;TZID=UTC:20270415T190000
DTSTAMP:20260421T015454
CREATED:20230205T185301Z
LAST-MODIFIED:20230205T185301Z
UID:10000606-1807815600-1807815600@harvestfellowshipsc.com
SUMMARY:Bible Study
DESCRIPTION:
URL:https://harvestfellowshipsc.com/event/bible-study/2027-04-15/
END:VEVENT
BEGIN:VEVENT
DTSTART;TZID=UTC:20270418T084500
DTEND;TZID=UTC:20270418T094500
DTSTAMP:20260421T015454
CREATED:20230205T190337Z
LAST-MODIFIED:20250709T230237Z
UID:10001243-1808037900-1808041500@harvestfellowshipsc.com
SUMMARY:Foundations I & II
DESCRIPTION:
URL:https://harvestfellowshipsc.com/event/foundations-ii/2027-04-18/
END:VEVENT
BEGIN:VEVENT
DTSTART;TZID=UTC:20270418T100000
DTEND;TZID=UTC:20270418T100000
DTSTAMP:20260421T015454
CREATED:20230205T185654Z
LAST-MODIFIED:20230205T191206Z
UID:10000925-1808042400-1808042400@harvestfellowshipsc.com
SUMMARY:Worship Service
DESCRIPTION:
URL:https://harvestfellowshipsc.com/event/worship-service/2027-04-18/
END:VEVENT
BEGIN:VEVENT
DTSTART;TZID=UTC:20270420T190000
DTEND;TZID=UTC:20270420T190000
DTSTAMP:20260421T015454
CREATED:20230205T184928Z
LAST-MODIFIED:20230205T185121Z
UID:10000232-1808247600-1808247600@harvestfellowshipsc.com
SUMMARY:Prayer
DESCRIPTION:
URL:https://harvestfellowshipsc.com/event/prayer/2027-04-20/
END:VEVENT
BEGIN:VEVENT
DTSTART;TZID=UTC:20270422T190000
DTEND;TZID=UTC:20270422T190000
DTSTAMP:20260421T015454
CREATED:20230205T185301Z
LAST-MODIFIED:20230205T185301Z
UID:10000607-1808420400-1808420400@harvestfellowshipsc.com
SUMMARY:Bible Study
DESCRIPTION:
URL:https://harvestfellowshipsc.com/event/bible-study/2027-04-22/
END:VEVENT
BEGIN:VEVENT
DTSTART;TZID=UTC:20270424T090000
DTEND;TZID=UTC:20270424T090000
DTSTAMP:20260421T015454
CREATED:20240409T004513Z
LAST-MODIFIED:20240409T004657Z
UID:10001328-1808557200-1808557200@harvestfellowshipsc.com
SUMMARY:Men's Meeting
DESCRIPTION:
URL:https://harvestfellowshipsc.com/event/mens-meeting/2027-04-24/
END:VEVENT
BEGIN:VEVENT
DTSTART;TZID=UTC:20270425T084500
DTEND;TZID=UTC:20270425T094500
DTSTAMP:20260421T015454
CREATED:20230205T190337Z
LAST-MODIFIED:20250709T230237Z
UID:10001244-1808642700-1808646300@harvestfellowshipsc.com
SUMMARY:Foundations I & II
DESCRIPTION:
URL:https://harvestfellowshipsc.com/event/foundations-ii/2027-04-25/
END:VEVENT
BEGIN:VEVENT
DTSTART;TZID=UTC:20270425T100000
DTEND;TZID=UTC:20270425T100000
DTSTAMP:20260421T015454
CREATED:20230205T185654Z
LAST-MODIFIED:20230205T191206Z
UID:10000926-1808647200-1808647200@harvestfellowshipsc.com
SUMMARY:Worship Service
DESCRIPTION:
URL:https://harvestfellowshipsc.com/event/worship-service/2027-04-25/
END:VEVENT
BEGIN:VEVENT
DTSTART;TZID=UTC:20270427T190000
DTEND;TZID=UTC:20270427T190000
DTSTAMP:20260421T015454
CREATED:20230205T184928Z
LAST-MODIFIED:20230205T185121Z
UID:10000233-1808852400-1808852400@harvestfellowshipsc.com
SUMMARY:Prayer
DESCRIPTION:
URL:https://harvestfellowshipsc.com/event/prayer/2027-04-27/
END:VEVENT
BEGIN:VEVENT
DTSTART;TZID=UTC:20270429T190000
DTEND;TZID=UTC:20270429T190000
DTSTAMP:20260421T015454
CREATED:20230205T185301Z
LAST-MODIFIED:20230205T185301Z
UID:10000608-1809025200-1809025200@harvestfellowshipsc.com
SUMMARY:Bible Study
DESCRIPTION:
URL:https://harvestfellowshipsc.com/event/bible-study/2027-04-29/
END:VEVENT
END:VCALENDAR