BEGIN:VCALENDAR
VERSION:2.0
PRODID:-//Harvest Fellowship Church - ECPv6.15.20//NONSGML v1.0//EN
CALSCALE:GREGORIAN
METHOD:PUBLISH
X-ORIGINAL-URL:https://harvestfellowshipsc.com
X-WR-CALDESC:Events for Harvest Fellowship Church
REFRESH-INTERVAL;VALUE=DURATION:PT1H
X-Robots-Tag:noindex
X-PUBLISHED-TTL:PT1H
BEGIN:VTIMEZONE
TZID:UTC
BEGIN:STANDARD
TZOFFSETFROM:+0000
TZOFFSETTO:+0000
TZNAME:UTC
DTSTART:20260101T000000
END:STANDARD
END:VTIMEZONE
BEGIN:VEVENT
DTSTART;TZID=UTC:20270302T190000
DTEND;TZID=UTC:20270302T190000
DTSTAMP:20260420T235004
CREATED:20230205T184928Z
LAST-MODIFIED:20230205T185121Z
UID:10000225-1804014000-1804014000@harvestfellowshipsc.com
SUMMARY:Prayer
DESCRIPTION:
URL:https://harvestfellowshipsc.com/event/prayer/2027-03-02/
END:VEVENT
BEGIN:VEVENT
DTSTART;TZID=UTC:20270304T190000
DTEND;TZID=UTC:20270304T190000
DTSTAMP:20260420T235004
CREATED:20230205T185301Z
LAST-MODIFIED:20230205T185301Z
UID:10000600-1804186800-1804186800@harvestfellowshipsc.com
SUMMARY:Bible Study
DESCRIPTION:
URL:https://harvestfellowshipsc.com/event/bible-study/2027-03-04/
END:VEVENT
BEGIN:VEVENT
DTSTART;TZID=UTC:20270307T084500
DTEND;TZID=UTC:20270307T094500
DTSTAMP:20260420T235004
CREATED:20230205T190337Z
LAST-MODIFIED:20250709T230237Z
UID:10001237-1804409100-1804412700@harvestfellowshipsc.com
SUMMARY:Foundations I & II
DESCRIPTION:
URL:https://harvestfellowshipsc.com/event/foundations-ii/2027-03-07/
END:VEVENT
BEGIN:VEVENT
DTSTART;TZID=UTC:20270307T100000
DTEND;TZID=UTC:20270307T100000
DTSTAMP:20260420T235004
CREATED:20230205T185654Z
LAST-MODIFIED:20230205T191206Z
UID:10000919-1804413600-1804413600@harvestfellowshipsc.com
SUMMARY:Worship Service
DESCRIPTION:
URL:https://harvestfellowshipsc.com/event/worship-service/2027-03-07/
END:VEVENT
BEGIN:VEVENT
DTSTART;TZID=UTC:20270309T190000
DTEND;TZID=UTC:20270309T190000
DTSTAMP:20260420T235004
CREATED:20230205T184928Z
LAST-MODIFIED:20230205T185121Z
UID:10000226-1804618800-1804618800@harvestfellowshipsc.com
SUMMARY:Prayer
DESCRIPTION:
URL:https://harvestfellowshipsc.com/event/prayer/2027-03-09/
END:VEVENT
BEGIN:VEVENT
DTSTART;TZID=UTC:20270311T190000
DTEND;TZID=UTC:20270311T190000
DTSTAMP:20260420T235004
CREATED:20230205T185301Z
LAST-MODIFIED:20230205T185301Z
UID:10000601-1804791600-1804791600@harvestfellowshipsc.com
SUMMARY:Bible Study
DESCRIPTION:
URL:https://harvestfellowshipsc.com/event/bible-study/2027-03-11/
END:VEVENT
BEGIN:VEVENT
DTSTART;TZID=UTC:20270313T100000
DTEND;TZID=UTC:20270313T100000
DTSTAMP:20260420T235004
CREATED:20240409T004830Z
LAST-MODIFIED:20240409T005007Z
UID:10001387-1804932000-1804932000@harvestfellowshipsc.com
SUMMARY:Women's Meeting
DESCRIPTION:
URL:https://harvestfellowshipsc.com/event/womens-meeting/2027-03-13/
END:VEVENT
BEGIN:VEVENT
DTSTART;TZID=UTC:20270314T084500
DTEND;TZID=UTC:20270314T094500
DTSTAMP:20260420T235004
CREATED:20230205T190337Z
LAST-MODIFIED:20250709T230237Z
UID:10001238-1805013900-1805017500@harvestfellowshipsc.com
SUMMARY:Foundations I & II
DESCRIPTION:
URL:https://harvestfellowshipsc.com/event/foundations-ii/2027-03-14/
END:VEVENT
BEGIN:VEVENT
DTSTART;TZID=UTC:20270314T100000
DTEND;TZID=UTC:20270314T100000
DTSTAMP:20260420T235004
CREATED:20230205T185654Z
LAST-MODIFIED:20230205T191206Z
UID:10000920-1805018400-1805018400@harvestfellowshipsc.com
SUMMARY:Worship Service
DESCRIPTION:
URL:https://harvestfellowshipsc.com/event/worship-service/2027-03-14/
END:VEVENT
BEGIN:VEVENT
DTSTART;TZID=UTC:20270316T190000
DTEND;TZID=UTC:20270316T190000
DTSTAMP:20260420T235004
CREATED:20230205T184928Z
LAST-MODIFIED:20230205T185121Z
UID:10000227-1805223600-1805223600@harvestfellowshipsc.com
SUMMARY:Prayer
DESCRIPTION:
URL:https://harvestfellowshipsc.com/event/prayer/2027-03-16/
END:VEVENT
BEGIN:VEVENT
DTSTART;TZID=UTC:20270318T190000
DTEND;TZID=UTC:20270318T190000
DTSTAMP:20260420T235004
CREATED:20230205T185301Z
LAST-MODIFIED:20230205T185301Z
UID:10000602-1805396400-1805396400@harvestfellowshipsc.com
SUMMARY:Bible Study
DESCRIPTION:
URL:https://harvestfellowshipsc.com/event/bible-study/2027-03-18/
END:VEVENT
BEGIN:VEVENT
DTSTART;TZID=UTC:20270321T084500
DTEND;TZID=UTC:20270321T094500
DTSTAMP:20260420T235004
CREATED:20230205T190337Z
LAST-MODIFIED:20250709T230237Z
UID:10001239-1805618700-1805622300@harvestfellowshipsc.com
SUMMARY:Foundations I & II
DESCRIPTION:
URL:https://harvestfellowshipsc.com/event/foundations-ii/2027-03-21/
END:VEVENT
BEGIN:VEVENT
DTSTART;TZID=UTC:20270321T100000
DTEND;TZID=UTC:20270321T100000
DTSTAMP:20260420T235004
CREATED:20230205T185654Z
LAST-MODIFIED:20230205T191206Z
UID:10000921-1805623200-1805623200@harvestfellowshipsc.com
SUMMARY:Worship Service
DESCRIPTION:
URL:https://harvestfellowshipsc.com/event/worship-service/2027-03-21/
END:VEVENT
BEGIN:VEVENT
DTSTART;TZID=UTC:20270323T190000
DTEND;TZID=UTC:20270323T190000
DTSTAMP:20260420T235004
CREATED:20230205T184928Z
LAST-MODIFIED:20230205T185121Z
UID:10000228-1805828400-1805828400@harvestfellowshipsc.com
SUMMARY:Prayer
DESCRIPTION:
URL:https://harvestfellowshipsc.com/event/prayer/2027-03-23/
END:VEVENT
BEGIN:VEVENT
DTSTART;TZID=UTC:20270325T190000
DTEND;TZID=UTC:20270325T190000
DTSTAMP:20260420T235004
CREATED:20230205T185301Z
LAST-MODIFIED:20230205T185301Z
UID:10000603-1806001200-1806001200@harvestfellowshipsc.com
SUMMARY:Bible Study
DESCRIPTION:
URL:https://harvestfellowshipsc.com/event/bible-study/2027-03-25/
END:VEVENT
BEGIN:VEVENT
DTSTART;TZID=UTC:20270327T090000
DTEND;TZID=UTC:20270327T090000
DTSTAMP:20260420T235004
CREATED:20240409T004513Z
LAST-MODIFIED:20240409T004657Z
UID:10001327-1806138000-1806138000@harvestfellowshipsc.com
SUMMARY:Men's Meeting
DESCRIPTION:
URL:https://harvestfellowshipsc.com/event/mens-meeting/2027-03-27/
END:VEVENT
BEGIN:VEVENT
DTSTART;TZID=UTC:20270328T084500
DTEND;TZID=UTC:20270328T094500
DTSTAMP:20260420T235004
CREATED:20230205T190337Z
LAST-MODIFIED:20250709T230237Z
UID:10001240-1806223500-1806227100@harvestfellowshipsc.com
SUMMARY:Foundations I & II
DESCRIPTION:
URL:https://harvestfellowshipsc.com/event/foundations-ii/2027-03-28/
END:VEVENT
BEGIN:VEVENT
DTSTART;TZID=UTC:20270328T100000
DTEND;TZID=UTC:20270328T100000
DTSTAMP:20260420T235004
CREATED:20230205T185654Z
LAST-MODIFIED:20230205T191206Z
UID:10000922-1806228000-1806228000@harvestfellowshipsc.com
SUMMARY:Worship Service
DESCRIPTION:
URL:https://harvestfellowshipsc.com/event/worship-service/2027-03-28/
END:VEVENT
BEGIN:VEVENT
DTSTART;TZID=UTC:20270330T190000
DTEND;TZID=UTC:20270330T190000
DTSTAMP:20260420T235004
CREATED:20230205T184928Z
LAST-MODIFIED:20230205T185121Z
UID:10000229-1806433200-1806433200@harvestfellowshipsc.com
SUMMARY:Prayer
DESCRIPTION:
URL:https://harvestfellowshipsc.com/event/prayer/2027-03-30/
END:VEVENT
END:VCALENDAR