BEGIN:VCALENDAR
VERSION:2.0
PRODID:-//Harvest Fellowship Church - ECPv6.15.20//NONSGML v1.0//EN
CALSCALE:GREGORIAN
METHOD:PUBLISH
X-ORIGINAL-URL:https://harvestfellowshipsc.com
X-WR-CALDESC:Events for Harvest Fellowship Church
REFRESH-INTERVAL;VALUE=DURATION:PT1H
X-Robots-Tag:noindex
X-PUBLISHED-TTL:PT1H
BEGIN:VTIMEZONE
TZID:UTC
BEGIN:STANDARD
TZOFFSETFROM:+0000
TZOFFSETTO:+0000
TZNAME:UTC
DTSTART:20260101T000000
END:STANDARD
END:VTIMEZONE
BEGIN:VEVENT
DTSTART;TZID=UTC:20270103T084500
DTEND;TZID=UTC:20270103T094500
DTSTAMP:20260420T195812
CREATED:20230205T190337Z
LAST-MODIFIED:20250709T230237Z
UID:10001228-1798965900-1798969500@harvestfellowshipsc.com
SUMMARY:Foundations I & II
DESCRIPTION:
URL:https://harvestfellowshipsc.com/event/foundations-ii/2027-01-03/
END:VEVENT
BEGIN:VEVENT
DTSTART;TZID=UTC:20270103T100000
DTEND;TZID=UTC:20270103T100000
DTSTAMP:20260420T195812
CREATED:20230205T185654Z
LAST-MODIFIED:20230205T191206Z
UID:10000910-1798970400-1798970400@harvestfellowshipsc.com
SUMMARY:Worship Service
DESCRIPTION:
URL:https://harvestfellowshipsc.com/event/worship-service/2027-01-03/
END:VEVENT
BEGIN:VEVENT
DTSTART;TZID=UTC:20270105T190000
DTEND;TZID=UTC:20270105T190000
DTSTAMP:20260420T195812
CREATED:20230205T184928Z
LAST-MODIFIED:20230205T185121Z
UID:10000217-1799175600-1799175600@harvestfellowshipsc.com
SUMMARY:Prayer
DESCRIPTION:
URL:https://harvestfellowshipsc.com/event/prayer/2027-01-05/
END:VEVENT
BEGIN:VEVENT
DTSTART;TZID=UTC:20270107T190000
DTEND;TZID=UTC:20270107T190000
DTSTAMP:20260420T195812
CREATED:20230205T185301Z
LAST-MODIFIED:20230205T185301Z
UID:10000592-1799348400-1799348400@harvestfellowshipsc.com
SUMMARY:Bible Study
DESCRIPTION:
URL:https://harvestfellowshipsc.com/event/bible-study/2027-01-07/
END:VEVENT
BEGIN:VEVENT
DTSTART;TZID=UTC:20270109T100000
DTEND;TZID=UTC:20270109T100000
DTSTAMP:20260420T195812
CREATED:20240409T004830Z
LAST-MODIFIED:20240409T005007Z
UID:10001385-1799488800-1799488800@harvestfellowshipsc.com
SUMMARY:Women's Meeting
DESCRIPTION:
URL:https://harvestfellowshipsc.com/event/womens-meeting/2027-01-09/
END:VEVENT
BEGIN:VEVENT
DTSTART;TZID=UTC:20270110T084500
DTEND;TZID=UTC:20270110T094500
DTSTAMP:20260420T195812
CREATED:20230205T190337Z
LAST-MODIFIED:20250709T230237Z
UID:10001229-1799570700-1799574300@harvestfellowshipsc.com
SUMMARY:Foundations I & II
DESCRIPTION:
URL:https://harvestfellowshipsc.com/event/foundations-ii/2027-01-10/
END:VEVENT
BEGIN:VEVENT
DTSTART;TZID=UTC:20270110T100000
DTEND;TZID=UTC:20270110T100000
DTSTAMP:20260420T195812
CREATED:20230205T185654Z
LAST-MODIFIED:20230205T191206Z
UID:10000911-1799575200-1799575200@harvestfellowshipsc.com
SUMMARY:Worship Service
DESCRIPTION:
URL:https://harvestfellowshipsc.com/event/worship-service/2027-01-10/
END:VEVENT
BEGIN:VEVENT
DTSTART;TZID=UTC:20270112T190000
DTEND;TZID=UTC:20270112T190000
DTSTAMP:20260420T195812
CREATED:20230205T184928Z
LAST-MODIFIED:20230205T185121Z
UID:10000218-1799780400-1799780400@harvestfellowshipsc.com
SUMMARY:Prayer
DESCRIPTION:
URL:https://harvestfellowshipsc.com/event/prayer/2027-01-12/
END:VEVENT
BEGIN:VEVENT
DTSTART;TZID=UTC:20270114T190000
DTEND;TZID=UTC:20270114T190000
DTSTAMP:20260420T195812
CREATED:20230205T185301Z
LAST-MODIFIED:20230205T185301Z
UID:10000593-1799953200-1799953200@harvestfellowshipsc.com
SUMMARY:Bible Study
DESCRIPTION:
URL:https://harvestfellowshipsc.com/event/bible-study/2027-01-14/
END:VEVENT
BEGIN:VEVENT
DTSTART;TZID=UTC:20270117T084500
DTEND;TZID=UTC:20270117T094500
DTSTAMP:20260420T195812
CREATED:20230205T190337Z
LAST-MODIFIED:20250709T230237Z
UID:10001230-1800175500-1800179100@harvestfellowshipsc.com
SUMMARY:Foundations I & II
DESCRIPTION:
URL:https://harvestfellowshipsc.com/event/foundations-ii/2027-01-17/
END:VEVENT
BEGIN:VEVENT
DTSTART;TZID=UTC:20270117T100000
DTEND;TZID=UTC:20270117T100000
DTSTAMP:20260420T195812
CREATED:20230205T185654Z
LAST-MODIFIED:20230205T191206Z
UID:10000912-1800180000-1800180000@harvestfellowshipsc.com
SUMMARY:Worship Service
DESCRIPTION:
URL:https://harvestfellowshipsc.com/event/worship-service/2027-01-17/
END:VEVENT
BEGIN:VEVENT
DTSTART;TZID=UTC:20270119T190000
DTEND;TZID=UTC:20270119T190000
DTSTAMP:20260420T195812
CREATED:20230205T184928Z
LAST-MODIFIED:20230205T185121Z
UID:10000219-1800385200-1800385200@harvestfellowshipsc.com
SUMMARY:Prayer
DESCRIPTION:
URL:https://harvestfellowshipsc.com/event/prayer/2027-01-19/
END:VEVENT
BEGIN:VEVENT
DTSTART;TZID=UTC:20270121T190000
DTEND;TZID=UTC:20270121T190000
DTSTAMP:20260420T195812
CREATED:20230205T185301Z
LAST-MODIFIED:20230205T185301Z
UID:10000594-1800558000-1800558000@harvestfellowshipsc.com
SUMMARY:Bible Study
DESCRIPTION:
URL:https://harvestfellowshipsc.com/event/bible-study/2027-01-21/
END:VEVENT
BEGIN:VEVENT
DTSTART;TZID=UTC:20270123T090000
DTEND;TZID=UTC:20270123T090000
DTSTAMP:20260420T195812
CREATED:20240409T004513Z
LAST-MODIFIED:20240409T004657Z
UID:10001325-1800694800-1800694800@harvestfellowshipsc.com
SUMMARY:Men's Meeting
DESCRIPTION:
URL:https://harvestfellowshipsc.com/event/mens-meeting/2027-01-23/
END:VEVENT
BEGIN:VEVENT
DTSTART;TZID=UTC:20270124T084500
DTEND;TZID=UTC:20270124T094500
DTSTAMP:20260420T195812
CREATED:20230205T190337Z
LAST-MODIFIED:20250709T230237Z
UID:10001231-1800780300-1800783900@harvestfellowshipsc.com
SUMMARY:Foundations I & II
DESCRIPTION:
URL:https://harvestfellowshipsc.com/event/foundations-ii/2027-01-24/
END:VEVENT
BEGIN:VEVENT
DTSTART;TZID=UTC:20270124T100000
DTEND;TZID=UTC:20270124T100000
DTSTAMP:20260420T195812
CREATED:20230205T185654Z
LAST-MODIFIED:20230205T191206Z
UID:10000913-1800784800-1800784800@harvestfellowshipsc.com
SUMMARY:Worship Service
DESCRIPTION:
URL:https://harvestfellowshipsc.com/event/worship-service/2027-01-24/
END:VEVENT
BEGIN:VEVENT
DTSTART;TZID=UTC:20270126T190000
DTEND;TZID=UTC:20270126T190000
DTSTAMP:20260420T195812
CREATED:20230205T184928Z
LAST-MODIFIED:20230205T185121Z
UID:10000220-1800990000-1800990000@harvestfellowshipsc.com
SUMMARY:Prayer
DESCRIPTION:
URL:https://harvestfellowshipsc.com/event/prayer/2027-01-26/
END:VEVENT
BEGIN:VEVENT
DTSTART;TZID=UTC:20270128T190000
DTEND;TZID=UTC:20270128T190000
DTSTAMP:20260420T195812
CREATED:20230205T185301Z
LAST-MODIFIED:20230205T185301Z
UID:10000595-1801162800-1801162800@harvestfellowshipsc.com
SUMMARY:Bible Study
DESCRIPTION:
URL:https://harvestfellowshipsc.com/event/bible-study/2027-01-28/
END:VEVENT
BEGIN:VEVENT
DTSTART;TZID=UTC:20270131T084500
DTEND;TZID=UTC:20270131T094500
DTSTAMP:20260420T195812
CREATED:20230205T190337Z
LAST-MODIFIED:20250709T230237Z
UID:10001232-1801385100-1801388700@harvestfellowshipsc.com
SUMMARY:Foundations I & II
DESCRIPTION:
URL:https://harvestfellowshipsc.com/event/foundations-ii/2027-01-31/
END:VEVENT
BEGIN:VEVENT
DTSTART;TZID=UTC:20270131T100000
DTEND;TZID=UTC:20270131T100000
DTSTAMP:20260420T195812
CREATED:20230205T185654Z
LAST-MODIFIED:20230205T191206Z
UID:10000914-1801389600-1801389600@harvestfellowshipsc.com
SUMMARY:Worship Service
DESCRIPTION:
URL:https://harvestfellowshipsc.com/event/worship-service/2027-01-31/
END:VEVENT
END:VCALENDAR