BEGIN:VCALENDAR
VERSION:2.0
PRODID:-//Harvest Fellowship Church - ECPv6.15.20//NONSGML v1.0//EN
CALSCALE:GREGORIAN
METHOD:PUBLISH
X-ORIGINAL-URL:https://harvestfellowshipsc.com
X-WR-CALDESC:Events for Harvest Fellowship Church
REFRESH-INTERVAL;VALUE=DURATION:PT1H
X-Robots-Tag:noindex
X-PUBLISHED-TTL:PT1H
BEGIN:VTIMEZONE
TZID:UTC
BEGIN:STANDARD
TZOFFSETFROM:+0000
TZOFFSETTO:+0000
TZNAME:UTC
DTSTART:20250101T000000
END:STANDARD
END:VTIMEZONE
BEGIN:VEVENT
DTSTART;TZID=UTC:20261101T084500
DTEND;TZID=UTC:20261101T094500
DTSTAMP:20260420T162200
CREATED:20230205T190337Z
LAST-MODIFIED:20250709T230237Z
UID:10001219-1793522700-1793526300@harvestfellowshipsc.com
SUMMARY:Foundations I & II
DESCRIPTION:
URL:https://harvestfellowshipsc.com/event/foundations-ii/2026-11-01/
END:VEVENT
BEGIN:VEVENT
DTSTART;TZID=UTC:20261101T100000
DTEND;TZID=UTC:20261101T100000
DTSTAMP:20260420T162200
CREATED:20230205T185654Z
LAST-MODIFIED:20230205T191206Z
UID:10000901-1793527200-1793527200@harvestfellowshipsc.com
SUMMARY:Worship Service
DESCRIPTION:
URL:https://harvestfellowshipsc.com/event/worship-service/2026-11-01/
END:VEVENT
BEGIN:VEVENT
DTSTART;TZID=UTC:20261103T190000
DTEND;TZID=UTC:20261103T190000
DTSTAMP:20260420T162200
CREATED:20230205T184928Z
LAST-MODIFIED:20230205T185121Z
UID:10000208-1793732400-1793732400@harvestfellowshipsc.com
SUMMARY:Prayer
DESCRIPTION:
URL:https://harvestfellowshipsc.com/event/prayer/2026-11-03/
END:VEVENT
BEGIN:VEVENT
DTSTART;TZID=UTC:20261105T190000
DTEND;TZID=UTC:20261105T190000
DTSTAMP:20260420T162200
CREATED:20230205T185301Z
LAST-MODIFIED:20230205T185301Z
UID:10000583-1793905200-1793905200@harvestfellowshipsc.com
SUMMARY:Bible Study
DESCRIPTION:
URL:https://harvestfellowshipsc.com/event/bible-study/2026-11-05/
END:VEVENT
BEGIN:VEVENT
DTSTART;TZID=UTC:20261108T084500
DTEND;TZID=UTC:20261108T094500
DTSTAMP:20260420T162200
CREATED:20230205T190337Z
LAST-MODIFIED:20250709T230237Z
UID:10001220-1794127500-1794131100@harvestfellowshipsc.com
SUMMARY:Foundations I & II
DESCRIPTION:
URL:https://harvestfellowshipsc.com/event/foundations-ii/2026-11-08/
END:VEVENT
BEGIN:VEVENT
DTSTART;TZID=UTC:20261108T100000
DTEND;TZID=UTC:20261108T100000
DTSTAMP:20260420T162200
CREATED:20230205T185654Z
LAST-MODIFIED:20230205T191206Z
UID:10000902-1794132000-1794132000@harvestfellowshipsc.com
SUMMARY:Worship Service
DESCRIPTION:
URL:https://harvestfellowshipsc.com/event/worship-service/2026-11-08/
END:VEVENT
BEGIN:VEVENT
DTSTART;TZID=UTC:20261110T190000
DTEND;TZID=UTC:20261110T190000
DTSTAMP:20260420T162200
CREATED:20230205T184928Z
LAST-MODIFIED:20230205T185121Z
UID:10000209-1794337200-1794337200@harvestfellowshipsc.com
SUMMARY:Prayer
DESCRIPTION:
URL:https://harvestfellowshipsc.com/event/prayer/2026-11-10/
END:VEVENT
BEGIN:VEVENT
DTSTART;TZID=UTC:20261112T190000
DTEND;TZID=UTC:20261112T190000
DTSTAMP:20260420T162200
CREATED:20230205T185301Z
LAST-MODIFIED:20230205T185301Z
UID:10000584-1794510000-1794510000@harvestfellowshipsc.com
SUMMARY:Bible Study
DESCRIPTION:
URL:https://harvestfellowshipsc.com/event/bible-study/2026-11-12/
END:VEVENT
BEGIN:VEVENT
DTSTART;TZID=UTC:20261114T100000
DTEND;TZID=UTC:20261114T100000
DTSTAMP:20260420T162200
CREATED:20240409T004830Z
LAST-MODIFIED:20240409T005007Z
UID:10001383-1794650400-1794650400@harvestfellowshipsc.com
SUMMARY:Women's Meeting
DESCRIPTION:
URL:https://harvestfellowshipsc.com/event/womens-meeting/2026-11-14/
END:VEVENT
BEGIN:VEVENT
DTSTART;TZID=UTC:20261115T084500
DTEND;TZID=UTC:20261115T094500
DTSTAMP:20260420T162200
CREATED:20230205T190337Z
LAST-MODIFIED:20250709T230237Z
UID:10001221-1794732300-1794735900@harvestfellowshipsc.com
SUMMARY:Foundations I & II
DESCRIPTION:
URL:https://harvestfellowshipsc.com/event/foundations-ii/2026-11-15/
END:VEVENT
BEGIN:VEVENT
DTSTART;TZID=UTC:20261115T100000
DTEND;TZID=UTC:20261115T100000
DTSTAMP:20260420T162200
CREATED:20230205T185654Z
LAST-MODIFIED:20230205T191206Z
UID:10000903-1794736800-1794736800@harvestfellowshipsc.com
SUMMARY:Worship Service
DESCRIPTION:
URL:https://harvestfellowshipsc.com/event/worship-service/2026-11-15/
END:VEVENT
BEGIN:VEVENT
DTSTART;TZID=UTC:20261117T190000
DTEND;TZID=UTC:20261117T190000
DTSTAMP:20260420T162200
CREATED:20230205T184928Z
LAST-MODIFIED:20230205T185121Z
UID:10000210-1794942000-1794942000@harvestfellowshipsc.com
SUMMARY:Prayer
DESCRIPTION:
URL:https://harvestfellowshipsc.com/event/prayer/2026-11-17/
END:VEVENT
BEGIN:VEVENT
DTSTART;TZID=UTC:20261119T190000
DTEND;TZID=UTC:20261119T190000
DTSTAMP:20260420T162200
CREATED:20230205T185301Z
LAST-MODIFIED:20230205T185301Z
UID:10000585-1795114800-1795114800@harvestfellowshipsc.com
SUMMARY:Bible Study
DESCRIPTION:
URL:https://harvestfellowshipsc.com/event/bible-study/2026-11-19/
END:VEVENT
BEGIN:VEVENT
DTSTART;TZID=UTC:20261122T084500
DTEND;TZID=UTC:20261122T094500
DTSTAMP:20260420T162200
CREATED:20230205T190337Z
LAST-MODIFIED:20250709T230237Z
UID:10001222-1795337100-1795340700@harvestfellowshipsc.com
SUMMARY:Foundations I & II
DESCRIPTION:
URL:https://harvestfellowshipsc.com/event/foundations-ii/2026-11-22/
END:VEVENT
BEGIN:VEVENT
DTSTART;TZID=UTC:20261122T100000
DTEND;TZID=UTC:20261122T100000
DTSTAMP:20260420T162200
CREATED:20230205T185654Z
LAST-MODIFIED:20230205T191206Z
UID:10000904-1795341600-1795341600@harvestfellowshipsc.com
SUMMARY:Worship Service
DESCRIPTION:
URL:https://harvestfellowshipsc.com/event/worship-service/2026-11-22/
END:VEVENT
BEGIN:VEVENT
DTSTART;TZID=UTC:20261124T190000
DTEND;TZID=UTC:20261124T190000
DTSTAMP:20260420T162200
CREATED:20230205T184928Z
LAST-MODIFIED:20230205T185121Z
UID:10000211-1795546800-1795546800@harvestfellowshipsc.com
SUMMARY:Prayer
DESCRIPTION:
URL:https://harvestfellowshipsc.com/event/prayer/2026-11-24/
END:VEVENT
BEGIN:VEVENT
DTSTART;TZID=UTC:20261126T190000
DTEND;TZID=UTC:20261126T190000
DTSTAMP:20260420T162200
CREATED:20230205T185301Z
LAST-MODIFIED:20230205T185301Z
UID:10000586-1795719600-1795719600@harvestfellowshipsc.com
SUMMARY:Bible Study
DESCRIPTION:
URL:https://harvestfellowshipsc.com/event/bible-study/2026-11-26/
END:VEVENT
BEGIN:VEVENT
DTSTART;TZID=UTC:20261128T090000
DTEND;TZID=UTC:20261128T090000
DTSTAMP:20260420T162200
CREATED:20240409T004513Z
LAST-MODIFIED:20240409T004657Z
UID:10001323-1795856400-1795856400@harvestfellowshipsc.com
SUMMARY:Men's Meeting
DESCRIPTION:
URL:https://harvestfellowshipsc.com/event/mens-meeting/2026-11-28/
END:VEVENT
BEGIN:VEVENT
DTSTART;TZID=UTC:20261129T084500
DTEND;TZID=UTC:20261129T094500
DTSTAMP:20260420T162200
CREATED:20230205T190337Z
LAST-MODIFIED:20250709T230237Z
UID:10001223-1795941900-1795945500@harvestfellowshipsc.com
SUMMARY:Foundations I & II
DESCRIPTION:
URL:https://harvestfellowshipsc.com/event/foundations-ii/2026-11-29/
END:VEVENT
BEGIN:VEVENT
DTSTART;TZID=UTC:20261129T100000
DTEND;TZID=UTC:20261129T100000
DTSTAMP:20260420T162200
CREATED:20230205T185654Z
LAST-MODIFIED:20230205T191206Z
UID:10000905-1795946400-1795946400@harvestfellowshipsc.com
SUMMARY:Worship Service
DESCRIPTION:
URL:https://harvestfellowshipsc.com/event/worship-service/2026-11-29/
END:VEVENT
END:VCALENDAR