BEGIN:VCALENDAR
VERSION:2.0
PRODID:-//Harvest Fellowship Church - ECPv6.15.20//NONSGML v1.0//EN
CALSCALE:GREGORIAN
METHOD:PUBLISH
X-WR-CALNAME:Harvest Fellowship Church
X-ORIGINAL-URL:https://harvestfellowshipsc.com
X-WR-CALDESC:Events for Harvest Fellowship Church
REFRESH-INTERVAL;VALUE=DURATION:PT1H
X-Robots-Tag:noindex
X-PUBLISHED-TTL:PT1H
BEGIN:VTIMEZONE
TZID:UTC
BEGIN:STANDARD
TZOFFSETFROM:+0000
TZOFFSETTO:+0000
TZNAME:UTC
DTSTART:20250101T000000
END:STANDARD
END:VTIMEZONE
BEGIN:VEVENT
DTSTART;TZID=UTC:20260901T190000
DTEND;TZID=UTC:20260901T190000
DTSTAMP:20260420T124536
CREATED:20230205T184928Z
LAST-MODIFIED:20230205T185121Z
UID:10000199-1788289200-1788289200@harvestfellowshipsc.com
SUMMARY:Prayer
DESCRIPTION:
URL:https://harvestfellowshipsc.com/event/prayer/2026-09-01/
END:VEVENT
BEGIN:VEVENT
DTSTART;TZID=UTC:20260903T190000
DTEND;TZID=UTC:20260903T190000
DTSTAMP:20260420T124536
CREATED:20230205T185301Z
LAST-MODIFIED:20230205T185301Z
UID:10000574-1788462000-1788462000@harvestfellowshipsc.com
SUMMARY:Bible Study
DESCRIPTION:
URL:https://harvestfellowshipsc.com/event/bible-study/2026-09-03/
END:VEVENT
BEGIN:VEVENT
DTSTART;TZID=UTC:20260906T084500
DTEND;TZID=UTC:20260906T094500
DTSTAMP:20260420T124536
CREATED:20230205T190337Z
LAST-MODIFIED:20250709T230237Z
UID:10001211-1788684300-1788687900@harvestfellowshipsc.com
SUMMARY:Foundations I & II
DESCRIPTION:
URL:https://harvestfellowshipsc.com/event/foundations-ii/2026-09-06/
END:VEVENT
BEGIN:VEVENT
DTSTART;TZID=UTC:20260906T100000
DTEND;TZID=UTC:20260906T100000
DTSTAMP:20260420T124536
CREATED:20230205T185654Z
LAST-MODIFIED:20230205T191206Z
UID:10000893-1788688800-1788688800@harvestfellowshipsc.com
SUMMARY:Worship Service
DESCRIPTION:
URL:https://harvestfellowshipsc.com/event/worship-service/2026-09-06/
END:VEVENT
BEGIN:VEVENT
DTSTART;TZID=UTC:20260908T190000
DTEND;TZID=UTC:20260908T190000
DTSTAMP:20260420T124536
CREATED:20230205T184928Z
LAST-MODIFIED:20230205T185121Z
UID:10000200-1788894000-1788894000@harvestfellowshipsc.com
SUMMARY:Prayer
DESCRIPTION:
URL:https://harvestfellowshipsc.com/event/prayer/2026-09-08/
END:VEVENT
BEGIN:VEVENT
DTSTART;TZID=UTC:20260910T190000
DTEND;TZID=UTC:20260910T190000
DTSTAMP:20260420T124536
CREATED:20230205T185301Z
LAST-MODIFIED:20230205T185301Z
UID:10000575-1789066800-1789066800@harvestfellowshipsc.com
SUMMARY:Bible Study
DESCRIPTION:
URL:https://harvestfellowshipsc.com/event/bible-study/2026-09-10/
END:VEVENT
BEGIN:VEVENT
DTSTART;TZID=UTC:20260912T100000
DTEND;TZID=UTC:20260912T100000
DTSTAMP:20260420T124536
CREATED:20240409T004830Z
LAST-MODIFIED:20240409T005007Z
UID:10001381-1789207200-1789207200@harvestfellowshipsc.com
SUMMARY:Women's Meeting
DESCRIPTION:
URL:https://harvestfellowshipsc.com/event/womens-meeting/2026-09-12/
END:VEVENT
BEGIN:VEVENT
DTSTART;TZID=UTC:20260913T084500
DTEND;TZID=UTC:20260913T094500
DTSTAMP:20260420T124536
CREATED:20230205T190337Z
LAST-MODIFIED:20250709T230237Z
UID:10001212-1789289100-1789292700@harvestfellowshipsc.com
SUMMARY:Foundations I & II
DESCRIPTION:
URL:https://harvestfellowshipsc.com/event/foundations-ii/2026-09-13/
END:VEVENT
BEGIN:VEVENT
DTSTART;TZID=UTC:20260913T100000
DTEND;TZID=UTC:20260913T100000
DTSTAMP:20260420T124536
CREATED:20230205T185654Z
LAST-MODIFIED:20230205T191206Z
UID:10000894-1789293600-1789293600@harvestfellowshipsc.com
SUMMARY:Worship Service
DESCRIPTION:
URL:https://harvestfellowshipsc.com/event/worship-service/2026-09-13/
END:VEVENT
BEGIN:VEVENT
DTSTART;TZID=UTC:20260915T190000
DTEND;TZID=UTC:20260915T190000
DTSTAMP:20260420T124536
CREATED:20230205T184928Z
LAST-MODIFIED:20230205T185121Z
UID:10000201-1789498800-1789498800@harvestfellowshipsc.com
SUMMARY:Prayer
DESCRIPTION:
URL:https://harvestfellowshipsc.com/event/prayer/2026-09-15/
END:VEVENT
BEGIN:VEVENT
DTSTART;TZID=UTC:20260917T190000
DTEND;TZID=UTC:20260917T190000
DTSTAMP:20260420T124536
CREATED:20230205T185301Z
LAST-MODIFIED:20230205T185301Z
UID:10000576-1789671600-1789671600@harvestfellowshipsc.com
SUMMARY:Bible Study
DESCRIPTION:
URL:https://harvestfellowshipsc.com/event/bible-study/2026-09-17/
END:VEVENT
BEGIN:VEVENT
DTSTART;TZID=UTC:20260920T084500
DTEND;TZID=UTC:20260920T094500
DTSTAMP:20260420T124536
CREATED:20230205T190337Z
LAST-MODIFIED:20250709T230237Z
UID:10001213-1789893900-1789897500@harvestfellowshipsc.com
SUMMARY:Foundations I & II
DESCRIPTION:
URL:https://harvestfellowshipsc.com/event/foundations-ii/2026-09-20/
END:VEVENT
BEGIN:VEVENT
DTSTART;TZID=UTC:20260920T100000
DTEND;TZID=UTC:20260920T100000
DTSTAMP:20260420T124536
CREATED:20230205T185654Z
LAST-MODIFIED:20230205T191206Z
UID:10000895-1789898400-1789898400@harvestfellowshipsc.com
SUMMARY:Worship Service
DESCRIPTION:
URL:https://harvestfellowshipsc.com/event/worship-service/2026-09-20/
END:VEVENT
BEGIN:VEVENT
DTSTART;TZID=UTC:20260922T190000
DTEND;TZID=UTC:20260922T190000
DTSTAMP:20260420T124536
CREATED:20230205T184928Z
LAST-MODIFIED:20230205T185121Z
UID:10000202-1790103600-1790103600@harvestfellowshipsc.com
SUMMARY:Prayer
DESCRIPTION:
URL:https://harvestfellowshipsc.com/event/prayer/2026-09-22/
END:VEVENT
BEGIN:VEVENT
DTSTART;TZID=UTC:20260924T190000
DTEND;TZID=UTC:20260924T190000
DTSTAMP:20260420T124536
CREATED:20230205T185301Z
LAST-MODIFIED:20230205T185301Z
UID:10000577-1790276400-1790276400@harvestfellowshipsc.com
SUMMARY:Bible Study
DESCRIPTION:
URL:https://harvestfellowshipsc.com/event/bible-study/2026-09-24/
END:VEVENT
BEGIN:VEVENT
DTSTART;TZID=UTC:20260926T090000
DTEND;TZID=UTC:20260926T090000
DTSTAMP:20260420T124536
CREATED:20240409T004513Z
LAST-MODIFIED:20240409T004657Z
UID:10001321-1790413200-1790413200@harvestfellowshipsc.com
SUMMARY:Men's Meeting
DESCRIPTION:
URL:https://harvestfellowshipsc.com/event/mens-meeting/2026-09-26/
END:VEVENT
BEGIN:VEVENT
DTSTART;TZID=UTC:20260927T084500
DTEND;TZID=UTC:20260927T094500
DTSTAMP:20260420T124536
CREATED:20230205T190337Z
LAST-MODIFIED:20250709T230237Z
UID:10001214-1790498700-1790502300@harvestfellowshipsc.com
SUMMARY:Foundations I & II
DESCRIPTION:
URL:https://harvestfellowshipsc.com/event/foundations-ii/2026-09-27/
END:VEVENT
BEGIN:VEVENT
DTSTART;TZID=UTC:20260927T100000
DTEND;TZID=UTC:20260927T100000
DTSTAMP:20260420T124536
CREATED:20230205T185654Z
LAST-MODIFIED:20230205T191206Z
UID:10000896-1790503200-1790503200@harvestfellowshipsc.com
SUMMARY:Worship Service
DESCRIPTION:
URL:https://harvestfellowshipsc.com/event/worship-service/2026-09-27/
END:VEVENT
BEGIN:VEVENT
DTSTART;TZID=UTC:20260929T190000
DTEND;TZID=UTC:20260929T190000
DTSTAMP:20260420T124536
CREATED:20230205T184928Z
LAST-MODIFIED:20230205T185121Z
UID:10000203-1790708400-1790708400@harvestfellowshipsc.com
SUMMARY:Prayer
DESCRIPTION:
URL:https://harvestfellowshipsc.com/event/prayer/2026-09-29/
END:VEVENT
END:VCALENDAR