BEGIN:VCALENDAR
VERSION:2.0
PRODID:-//Harvest Fellowship Church - ECPv6.15.20//NONSGML v1.0//EN
CALSCALE:GREGORIAN
METHOD:PUBLISH
X-WR-CALNAME:Harvest Fellowship Church
X-ORIGINAL-URL:https://harvestfellowshipsc.com
X-WR-CALDESC:Events for Harvest Fellowship Church
REFRESH-INTERVAL;VALUE=DURATION:PT1H
X-Robots-Tag:noindex
X-PUBLISHED-TTL:PT1H
BEGIN:VTIMEZONE
TZID:UTC
BEGIN:STANDARD
TZOFFSETFROM:+0000
TZOFFSETTO:+0000
TZNAME:UTC
DTSTART:20250101T000000
END:STANDARD
END:VTIMEZONE
BEGIN:VEVENT
DTSTART;TZID=UTC:20260802T084500
DTEND;TZID=UTC:20260802T094500
DTSTAMP:20260420T104637
CREATED:20230205T190337Z
LAST-MODIFIED:20250709T230237Z
UID:10001206-1785660300-1785663900@harvestfellowshipsc.com
SUMMARY:Foundations I & II
DESCRIPTION:
URL:https://harvestfellowshipsc.com/event/foundations-ii/2026-08-02/
END:VEVENT
BEGIN:VEVENT
DTSTART;TZID=UTC:20260802T100000
DTEND;TZID=UTC:20260802T100000
DTSTAMP:20260420T104637
CREATED:20230205T185654Z
LAST-MODIFIED:20230205T191206Z
UID:10000888-1785664800-1785664800@harvestfellowshipsc.com
SUMMARY:Worship Service
DESCRIPTION:
URL:https://harvestfellowshipsc.com/event/worship-service/2026-08-02/
END:VEVENT
BEGIN:VEVENT
DTSTART;TZID=UTC:20260804T190000
DTEND;TZID=UTC:20260804T190000
DTSTAMP:20260420T104637
CREATED:20230205T184928Z
LAST-MODIFIED:20230205T185121Z
UID:10000195-1785870000-1785870000@harvestfellowshipsc.com
SUMMARY:Prayer
DESCRIPTION:
URL:https://harvestfellowshipsc.com/event/prayer/2026-08-04/
END:VEVENT
BEGIN:VEVENT
DTSTART;TZID=UTC:20260806T190000
DTEND;TZID=UTC:20260806T190000
DTSTAMP:20260420T104637
CREATED:20230205T185301Z
LAST-MODIFIED:20230205T185301Z
UID:10000570-1786042800-1786042800@harvestfellowshipsc.com
SUMMARY:Bible Study
DESCRIPTION:
URL:https://harvestfellowshipsc.com/event/bible-study/2026-08-06/
END:VEVENT
BEGIN:VEVENT
DTSTART;TZID=UTC:20260808T100000
DTEND;TZID=UTC:20260808T100000
DTSTAMP:20260420T104637
CREATED:20240409T004830Z
LAST-MODIFIED:20240409T005007Z
UID:10001380-1786183200-1786183200@harvestfellowshipsc.com
SUMMARY:Women's Meeting
DESCRIPTION:
URL:https://harvestfellowshipsc.com/event/womens-meeting/2026-08-08/
END:VEVENT
BEGIN:VEVENT
DTSTART;TZID=UTC:20260809T084500
DTEND;TZID=UTC:20260809T094500
DTSTAMP:20260420T104637
CREATED:20230205T190337Z
LAST-MODIFIED:20250709T230237Z
UID:10001207-1786265100-1786268700@harvestfellowshipsc.com
SUMMARY:Foundations I & II
DESCRIPTION:
URL:https://harvestfellowshipsc.com/event/foundations-ii/2026-08-09/
END:VEVENT
BEGIN:VEVENT
DTSTART;TZID=UTC:20260809T100000
DTEND;TZID=UTC:20260809T100000
DTSTAMP:20260420T104637
CREATED:20230205T185654Z
LAST-MODIFIED:20230205T191206Z
UID:10000889-1786269600-1786269600@harvestfellowshipsc.com
SUMMARY:Worship Service
DESCRIPTION:
URL:https://harvestfellowshipsc.com/event/worship-service/2026-08-09/
END:VEVENT
BEGIN:VEVENT
DTSTART;TZID=UTC:20260811T190000
DTEND;TZID=UTC:20260811T190000
DTSTAMP:20260420T104637
CREATED:20230205T184928Z
LAST-MODIFIED:20230205T185121Z
UID:10000196-1786474800-1786474800@harvestfellowshipsc.com
SUMMARY:Prayer
DESCRIPTION:
URL:https://harvestfellowshipsc.com/event/prayer/2026-08-11/
END:VEVENT
BEGIN:VEVENT
DTSTART;TZID=UTC:20260813T190000
DTEND;TZID=UTC:20260813T190000
DTSTAMP:20260420T104637
CREATED:20230205T185301Z
LAST-MODIFIED:20230205T185301Z
UID:10000571-1786647600-1786647600@harvestfellowshipsc.com
SUMMARY:Bible Study
DESCRIPTION:
URL:https://harvestfellowshipsc.com/event/bible-study/2026-08-13/
END:VEVENT
BEGIN:VEVENT
DTSTART;TZID=UTC:20260816T084500
DTEND;TZID=UTC:20260816T094500
DTSTAMP:20260420T104637
CREATED:20230205T190337Z
LAST-MODIFIED:20250709T230237Z
UID:10001208-1786869900-1786873500@harvestfellowshipsc.com
SUMMARY:Foundations I & II
DESCRIPTION:
URL:https://harvestfellowshipsc.com/event/foundations-ii/2026-08-16/
END:VEVENT
BEGIN:VEVENT
DTSTART;TZID=UTC:20260816T100000
DTEND;TZID=UTC:20260816T100000
DTSTAMP:20260420T104637
CREATED:20230205T185654Z
LAST-MODIFIED:20230205T191206Z
UID:10000890-1786874400-1786874400@harvestfellowshipsc.com
SUMMARY:Worship Service
DESCRIPTION:
URL:https://harvestfellowshipsc.com/event/worship-service/2026-08-16/
END:VEVENT
BEGIN:VEVENT
DTSTART;TZID=UTC:20260818T190000
DTEND;TZID=UTC:20260818T190000
DTSTAMP:20260420T104637
CREATED:20230205T184928Z
LAST-MODIFIED:20230205T185121Z
UID:10000197-1787079600-1787079600@harvestfellowshipsc.com
SUMMARY:Prayer
DESCRIPTION:
URL:https://harvestfellowshipsc.com/event/prayer/2026-08-18/
END:VEVENT
BEGIN:VEVENT
DTSTART;TZID=UTC:20260820T190000
DTEND;TZID=UTC:20260820T190000
DTSTAMP:20260420T104637
CREATED:20230205T185301Z
LAST-MODIFIED:20230205T185301Z
UID:10000572-1787252400-1787252400@harvestfellowshipsc.com
SUMMARY:Bible Study
DESCRIPTION:
URL:https://harvestfellowshipsc.com/event/bible-study/2026-08-20/
END:VEVENT
BEGIN:VEVENT
DTSTART;TZID=UTC:20260822T090000
DTEND;TZID=UTC:20260822T090000
DTSTAMP:20260420T104637
CREATED:20240409T004513Z
LAST-MODIFIED:20240409T004657Z
UID:10001320-1787389200-1787389200@harvestfellowshipsc.com
SUMMARY:Men's Meeting
DESCRIPTION:
URL:https://harvestfellowshipsc.com/event/mens-meeting/2026-08-22/
END:VEVENT
BEGIN:VEVENT
DTSTART;TZID=UTC:20260823T084500
DTEND;TZID=UTC:20260823T094500
DTSTAMP:20260420T104637
CREATED:20230205T190337Z
LAST-MODIFIED:20250709T230237Z
UID:10001209-1787474700-1787478300@harvestfellowshipsc.com
SUMMARY:Foundations I & II
DESCRIPTION:
URL:https://harvestfellowshipsc.com/event/foundations-ii/2026-08-23/
END:VEVENT
BEGIN:VEVENT
DTSTART;TZID=UTC:20260823T100000
DTEND;TZID=UTC:20260823T100000
DTSTAMP:20260420T104637
CREATED:20230205T185654Z
LAST-MODIFIED:20230205T191206Z
UID:10000891-1787479200-1787479200@harvestfellowshipsc.com
SUMMARY:Worship Service
DESCRIPTION:
URL:https://harvestfellowshipsc.com/event/worship-service/2026-08-23/
END:VEVENT
BEGIN:VEVENT
DTSTART;TZID=UTC:20260825T190000
DTEND;TZID=UTC:20260825T190000
DTSTAMP:20260420T104637
CREATED:20230205T184928Z
LAST-MODIFIED:20230205T185121Z
UID:10000198-1787684400-1787684400@harvestfellowshipsc.com
SUMMARY:Prayer
DESCRIPTION:
URL:https://harvestfellowshipsc.com/event/prayer/2026-08-25/
END:VEVENT
BEGIN:VEVENT
DTSTART;TZID=UTC:20260827T190000
DTEND;TZID=UTC:20260827T190000
DTSTAMP:20260420T104637
CREATED:20230205T185301Z
LAST-MODIFIED:20230205T185301Z
UID:10000573-1787857200-1787857200@harvestfellowshipsc.com
SUMMARY:Bible Study
DESCRIPTION:
URL:https://harvestfellowshipsc.com/event/bible-study/2026-08-27/
END:VEVENT
BEGIN:VEVENT
DTSTART;TZID=UTC:20260830T084500
DTEND;TZID=UTC:20260830T094500
DTSTAMP:20260420T104637
CREATED:20230205T190337Z
LAST-MODIFIED:20250709T230237Z
UID:10001210-1788079500-1788083100@harvestfellowshipsc.com
SUMMARY:Foundations I & II
DESCRIPTION:
URL:https://harvestfellowshipsc.com/event/foundations-ii/2026-08-30/
END:VEVENT
BEGIN:VEVENT
DTSTART;TZID=UTC:20260830T100000
DTEND;TZID=UTC:20260830T100000
DTSTAMP:20260420T104637
CREATED:20230205T185654Z
LAST-MODIFIED:20230205T191206Z
UID:10000892-1788084000-1788084000@harvestfellowshipsc.com
SUMMARY:Worship Service
DESCRIPTION:
URL:https://harvestfellowshipsc.com/event/worship-service/2026-08-30/
END:VEVENT
END:VCALENDAR