BEGIN:VCALENDAR
VERSION:2.0
PRODID:-//Harvest Fellowship Church - ECPv6.15.20//NONSGML v1.0//EN
CALSCALE:GREGORIAN
METHOD:PUBLISH
X-WR-CALNAME:Harvest Fellowship Church
X-ORIGINAL-URL:https://harvestfellowshipsc.com
X-WR-CALDESC:Events for Harvest Fellowship Church
REFRESH-INTERVAL;VALUE=DURATION:PT1H
X-Robots-Tag:noindex
X-PUBLISHED-TTL:PT1H
BEGIN:VTIMEZONE
TZID:UTC
BEGIN:STANDARD
TZOFFSETFROM:+0000
TZOFFSETTO:+0000
TZNAME:UTC
DTSTART:20250101T000000
END:STANDARD
END:VTIMEZONE
BEGIN:VEVENT
DTSTART;TZID=UTC:20260702T190000
DTEND;TZID=UTC:20260702T190000
DTSTAMP:20260420T090509
CREATED:20230205T185301Z
LAST-MODIFIED:20230205T185301Z
UID:10000565-1783018800-1783018800@harvestfellowshipsc.com
SUMMARY:Bible Study
DESCRIPTION:
URL:https://harvestfellowshipsc.com/event/bible-study/2026-07-02/
END:VEVENT
BEGIN:VEVENT
DTSTART;TZID=UTC:20260705T084500
DTEND;TZID=UTC:20260705T094500
DTSTAMP:20260420T090509
CREATED:20230205T190337Z
LAST-MODIFIED:20250709T230237Z
UID:10001202-1783241100-1783244700@harvestfellowshipsc.com
SUMMARY:Foundations I & II
DESCRIPTION:
URL:https://harvestfellowshipsc.com/event/foundations-ii/2026-07-05/
END:VEVENT
BEGIN:VEVENT
DTSTART;TZID=UTC:20260705T100000
DTEND;TZID=UTC:20260705T100000
DTSTAMP:20260420T090509
CREATED:20230205T185654Z
LAST-MODIFIED:20230205T191206Z
UID:10000884-1783245600-1783245600@harvestfellowshipsc.com
SUMMARY:Worship Service
DESCRIPTION:
URL:https://harvestfellowshipsc.com/event/worship-service/2026-07-05/
END:VEVENT
BEGIN:VEVENT
DTSTART;TZID=UTC:20260707T190000
DTEND;TZID=UTC:20260707T190000
DTSTAMP:20260420T090509
CREATED:20230205T184928Z
LAST-MODIFIED:20230205T185121Z
UID:10000191-1783450800-1783450800@harvestfellowshipsc.com
SUMMARY:Prayer
DESCRIPTION:
URL:https://harvestfellowshipsc.com/event/prayer/2026-07-07/
END:VEVENT
BEGIN:VEVENT
DTSTART;TZID=UTC:20260709T190000
DTEND;TZID=UTC:20260709T190000
DTSTAMP:20260420T090509
CREATED:20230205T185301Z
LAST-MODIFIED:20230205T185301Z
UID:10000566-1783623600-1783623600@harvestfellowshipsc.com
SUMMARY:Bible Study
DESCRIPTION:
URL:https://harvestfellowshipsc.com/event/bible-study/2026-07-09/
END:VEVENT
BEGIN:VEVENT
DTSTART;TZID=UTC:20260711T100000
DTEND;TZID=UTC:20260711T100000
DTSTAMP:20260420T090509
CREATED:20240409T004830Z
LAST-MODIFIED:20240409T005007Z
UID:10001379-1783764000-1783764000@harvestfellowshipsc.com
SUMMARY:Women's Meeting
DESCRIPTION:
URL:https://harvestfellowshipsc.com/event/womens-meeting/2026-07-11/
END:VEVENT
BEGIN:VEVENT
DTSTART;TZID=UTC:20260712T084500
DTEND;TZID=UTC:20260712T094500
DTSTAMP:20260420T090509
CREATED:20230205T190337Z
LAST-MODIFIED:20250709T230237Z
UID:10001203-1783845900-1783849500@harvestfellowshipsc.com
SUMMARY:Foundations I & II
DESCRIPTION:
URL:https://harvestfellowshipsc.com/event/foundations-ii/2026-07-12/
END:VEVENT
BEGIN:VEVENT
DTSTART;TZID=UTC:20260712T100000
DTEND;TZID=UTC:20260712T100000
DTSTAMP:20260420T090509
CREATED:20230205T185654Z
LAST-MODIFIED:20230205T191206Z
UID:10000885-1783850400-1783850400@harvestfellowshipsc.com
SUMMARY:Worship Service
DESCRIPTION:
URL:https://harvestfellowshipsc.com/event/worship-service/2026-07-12/
END:VEVENT
BEGIN:VEVENT
DTSTART;TZID=UTC:20260714T190000
DTEND;TZID=UTC:20260714T190000
DTSTAMP:20260420T090509
CREATED:20230205T184928Z
LAST-MODIFIED:20230205T185121Z
UID:10000192-1784055600-1784055600@harvestfellowshipsc.com
SUMMARY:Prayer
DESCRIPTION:
URL:https://harvestfellowshipsc.com/event/prayer/2026-07-14/
END:VEVENT
BEGIN:VEVENT
DTSTART;TZID=UTC:20260716T190000
DTEND;TZID=UTC:20260716T190000
DTSTAMP:20260420T090509
CREATED:20230205T185301Z
LAST-MODIFIED:20230205T185301Z
UID:10000567-1784228400-1784228400@harvestfellowshipsc.com
SUMMARY:Bible Study
DESCRIPTION:
URL:https://harvestfellowshipsc.com/event/bible-study/2026-07-16/
END:VEVENT
BEGIN:VEVENT
DTSTART;TZID=UTC:20260719T084500
DTEND;TZID=UTC:20260719T094500
DTSTAMP:20260420T090509
CREATED:20230205T190337Z
LAST-MODIFIED:20250709T230237Z
UID:10001204-1784450700-1784454300@harvestfellowshipsc.com
SUMMARY:Foundations I & II
DESCRIPTION:
URL:https://harvestfellowshipsc.com/event/foundations-ii/2026-07-19/
END:VEVENT
BEGIN:VEVENT
DTSTART;TZID=UTC:20260719T100000
DTEND;TZID=UTC:20260719T100000
DTSTAMP:20260420T090509
CREATED:20230205T185654Z
LAST-MODIFIED:20230205T191206Z
UID:10000886-1784455200-1784455200@harvestfellowshipsc.com
SUMMARY:Worship Service
DESCRIPTION:
URL:https://harvestfellowshipsc.com/event/worship-service/2026-07-19/
END:VEVENT
BEGIN:VEVENT
DTSTART;TZID=UTC:20260721T190000
DTEND;TZID=UTC:20260721T190000
DTSTAMP:20260420T090509
CREATED:20230205T184928Z
LAST-MODIFIED:20230205T185121Z
UID:10000193-1784660400-1784660400@harvestfellowshipsc.com
SUMMARY:Prayer
DESCRIPTION:
URL:https://harvestfellowshipsc.com/event/prayer/2026-07-21/
END:VEVENT
BEGIN:VEVENT
DTSTART;TZID=UTC:20260723T190000
DTEND;TZID=UTC:20260723T190000
DTSTAMP:20260420T090509
CREATED:20230205T185301Z
LAST-MODIFIED:20230205T185301Z
UID:10000568-1784833200-1784833200@harvestfellowshipsc.com
SUMMARY:Bible Study
DESCRIPTION:
URL:https://harvestfellowshipsc.com/event/bible-study/2026-07-23/
END:VEVENT
BEGIN:VEVENT
DTSTART;TZID=UTC:20260725T090000
DTEND;TZID=UTC:20260725T090000
DTSTAMP:20260420T090509
CREATED:20240409T004513Z
LAST-MODIFIED:20240409T004657Z
UID:10001319-1784970000-1784970000@harvestfellowshipsc.com
SUMMARY:Men's Meeting
DESCRIPTION:
URL:https://harvestfellowshipsc.com/event/mens-meeting/2026-07-25/
END:VEVENT
BEGIN:VEVENT
DTSTART;TZID=UTC:20260726T084500
DTEND;TZID=UTC:20260726T094500
DTSTAMP:20260420T090509
CREATED:20230205T190337Z
LAST-MODIFIED:20250709T230237Z
UID:10001205-1785055500-1785059100@harvestfellowshipsc.com
SUMMARY:Foundations I & II
DESCRIPTION:
URL:https://harvestfellowshipsc.com/event/foundations-ii/2026-07-26/
END:VEVENT
BEGIN:VEVENT
DTSTART;TZID=UTC:20260726T100000
DTEND;TZID=UTC:20260726T100000
DTSTAMP:20260420T090509
CREATED:20230205T185654Z
LAST-MODIFIED:20230205T191206Z
UID:10000887-1785060000-1785060000@harvestfellowshipsc.com
SUMMARY:Worship Service
DESCRIPTION:
URL:https://harvestfellowshipsc.com/event/worship-service/2026-07-26/
END:VEVENT
BEGIN:VEVENT
DTSTART;TZID=UTC:20260728T190000
DTEND;TZID=UTC:20260728T190000
DTSTAMP:20260420T090509
CREATED:20230205T184928Z
LAST-MODIFIED:20230205T185121Z
UID:10000194-1785265200-1785265200@harvestfellowshipsc.com
SUMMARY:Prayer
DESCRIPTION:
URL:https://harvestfellowshipsc.com/event/prayer/2026-07-28/
END:VEVENT
BEGIN:VEVENT
DTSTART;TZID=UTC:20260730T190000
DTEND;TZID=UTC:20260730T190000
DTSTAMP:20260420T090509
CREATED:20230205T185301Z
LAST-MODIFIED:20230205T185301Z
UID:10000569-1785438000-1785438000@harvestfellowshipsc.com
SUMMARY:Bible Study
DESCRIPTION:
URL:https://harvestfellowshipsc.com/event/bible-study/2026-07-30/
END:VEVENT
END:VCALENDAR