BEGIN:VCALENDAR
VERSION:2.0
PRODID:-//Harvest Fellowship Church - ECPv6.15.20//NONSGML v1.0//EN
CALSCALE:GREGORIAN
METHOD:PUBLISH
X-WR-CALNAME:Harvest Fellowship Church
X-ORIGINAL-URL:https://harvestfellowshipsc.com
X-WR-CALDESC:Events for Harvest Fellowship Church
REFRESH-INTERVAL;VALUE=DURATION:PT1H
X-Robots-Tag:noindex
X-PUBLISHED-TTL:PT1H
BEGIN:VTIMEZONE
TZID:UTC
BEGIN:STANDARD
TZOFFSETFROM:+0000
TZOFFSETTO:+0000
TZNAME:UTC
DTSTART:20250101T000000
END:STANDARD
END:VTIMEZONE
BEGIN:VEVENT
DTSTART;TZID=UTC:20260602T190000
DTEND;TZID=UTC:20260602T190000
DTSTAMP:20260418T044544
CREATED:20230205T184928Z
LAST-MODIFIED:20230205T185121Z
UID:10000186-1780426800-1780426800@harvestfellowshipsc.com
SUMMARY:Prayer
DESCRIPTION:
URL:https://harvestfellowshipsc.com/event/prayer/2026-06-02/
END:VEVENT
BEGIN:VEVENT
DTSTART;TZID=UTC:20260604T190000
DTEND;TZID=UTC:20260604T190000
DTSTAMP:20260418T044544
CREATED:20230205T185301Z
LAST-MODIFIED:20230205T185301Z
UID:10000561-1780599600-1780599600@harvestfellowshipsc.com
SUMMARY:Bible Study
DESCRIPTION:
URL:https://harvestfellowshipsc.com/event/bible-study/2026-06-04/
END:VEVENT
BEGIN:VEVENT
DTSTART;TZID=UTC:20260607T084500
DTEND;TZID=UTC:20260607T094500
DTSTAMP:20260418T044544
CREATED:20230205T190337Z
LAST-MODIFIED:20250709T230237Z
UID:10001198-1780821900-1780825500@harvestfellowshipsc.com
SUMMARY:Foundations I & II
DESCRIPTION:
URL:https://harvestfellowshipsc.com/event/foundations-ii/2026-06-07/
END:VEVENT
BEGIN:VEVENT
DTSTART;TZID=UTC:20260607T100000
DTEND;TZID=UTC:20260607T100000
DTSTAMP:20260418T044544
CREATED:20230205T185654Z
LAST-MODIFIED:20230205T191206Z
UID:10000880-1780826400-1780826400@harvestfellowshipsc.com
SUMMARY:Worship Service
DESCRIPTION:
URL:https://harvestfellowshipsc.com/event/worship-service/2026-06-07/
END:VEVENT
BEGIN:VEVENT
DTSTART;TZID=UTC:20260609T190000
DTEND;TZID=UTC:20260609T190000
DTSTAMP:20260418T044544
CREATED:20230205T184928Z
LAST-MODIFIED:20230205T185121Z
UID:10000187-1781031600-1781031600@harvestfellowshipsc.com
SUMMARY:Prayer
DESCRIPTION:
URL:https://harvestfellowshipsc.com/event/prayer/2026-06-09/
END:VEVENT
BEGIN:VEVENT
DTSTART;TZID=UTC:20260611T190000
DTEND;TZID=UTC:20260611T190000
DTSTAMP:20260418T044544
CREATED:20230205T185301Z
LAST-MODIFIED:20230205T185301Z
UID:10000562-1781204400-1781204400@harvestfellowshipsc.com
SUMMARY:Bible Study
DESCRIPTION:
URL:https://harvestfellowshipsc.com/event/bible-study/2026-06-11/
END:VEVENT
BEGIN:VEVENT
DTSTART;TZID=UTC:20260613T100000
DTEND;TZID=UTC:20260613T100000
DTSTAMP:20260418T044544
CREATED:20240409T004830Z
LAST-MODIFIED:20240409T005007Z
UID:10001378-1781344800-1781344800@harvestfellowshipsc.com
SUMMARY:Women's Meeting
DESCRIPTION:
URL:https://harvestfellowshipsc.com/event/womens-meeting/2026-06-13/
END:VEVENT
BEGIN:VEVENT
DTSTART;TZID=UTC:20260614T084500
DTEND;TZID=UTC:20260614T094500
DTSTAMP:20260418T044544
CREATED:20230205T190337Z
LAST-MODIFIED:20250709T230237Z
UID:10001199-1781426700-1781430300@harvestfellowshipsc.com
SUMMARY:Foundations I & II
DESCRIPTION:
URL:https://harvestfellowshipsc.com/event/foundations-ii/2026-06-14/
END:VEVENT
BEGIN:VEVENT
DTSTART;TZID=UTC:20260614T100000
DTEND;TZID=UTC:20260614T100000
DTSTAMP:20260418T044544
CREATED:20230205T185654Z
LAST-MODIFIED:20230205T191206Z
UID:10000881-1781431200-1781431200@harvestfellowshipsc.com
SUMMARY:Worship Service
DESCRIPTION:
URL:https://harvestfellowshipsc.com/event/worship-service/2026-06-14/
END:VEVENT
BEGIN:VEVENT
DTSTART;TZID=UTC:20260616T190000
DTEND;TZID=UTC:20260616T190000
DTSTAMP:20260418T044544
CREATED:20230205T184928Z
LAST-MODIFIED:20230205T185121Z
UID:10000188-1781636400-1781636400@harvestfellowshipsc.com
SUMMARY:Prayer
DESCRIPTION:
URL:https://harvestfellowshipsc.com/event/prayer/2026-06-16/
END:VEVENT
BEGIN:VEVENT
DTSTART;TZID=UTC:20260618T190000
DTEND;TZID=UTC:20260618T190000
DTSTAMP:20260418T044544
CREATED:20230205T185301Z
LAST-MODIFIED:20230205T185301Z
UID:10000563-1781809200-1781809200@harvestfellowshipsc.com
SUMMARY:Bible Study
DESCRIPTION:
URL:https://harvestfellowshipsc.com/event/bible-study/2026-06-18/
END:VEVENT
BEGIN:VEVENT
DTSTART;TZID=UTC:20260621T084500
DTEND;TZID=UTC:20260621T094500
DTSTAMP:20260418T044544
CREATED:20230205T190337Z
LAST-MODIFIED:20250709T230237Z
UID:10001200-1782031500-1782035100@harvestfellowshipsc.com
SUMMARY:Foundations I & II
DESCRIPTION:
URL:https://harvestfellowshipsc.com/event/foundations-ii/2026-06-21/
END:VEVENT
BEGIN:VEVENT
DTSTART;TZID=UTC:20260621T100000
DTEND;TZID=UTC:20260621T100000
DTSTAMP:20260418T044544
CREATED:20230205T185654Z
LAST-MODIFIED:20230205T191206Z
UID:10000882-1782036000-1782036000@harvestfellowshipsc.com
SUMMARY:Worship Service
DESCRIPTION:
URL:https://harvestfellowshipsc.com/event/worship-service/2026-06-21/
END:VEVENT
BEGIN:VEVENT
DTSTART;TZID=UTC:20260623T190000
DTEND;TZID=UTC:20260623T190000
DTSTAMP:20260418T044544
CREATED:20230205T184928Z
LAST-MODIFIED:20230205T185121Z
UID:10000189-1782241200-1782241200@harvestfellowshipsc.com
SUMMARY:Prayer
DESCRIPTION:
URL:https://harvestfellowshipsc.com/event/prayer/2026-06-23/
END:VEVENT
BEGIN:VEVENT
DTSTART;TZID=UTC:20260625T190000
DTEND;TZID=UTC:20260625T190000
DTSTAMP:20260418T044544
CREATED:20230205T185301Z
LAST-MODIFIED:20230205T185301Z
UID:10000564-1782414000-1782414000@harvestfellowshipsc.com
SUMMARY:Bible Study
DESCRIPTION:
URL:https://harvestfellowshipsc.com/event/bible-study/2026-06-25/
END:VEVENT
BEGIN:VEVENT
DTSTART;TZID=UTC:20260627T090000
DTEND;TZID=UTC:20260627T090000
DTSTAMP:20260418T044544
CREATED:20240409T004513Z
LAST-MODIFIED:20240409T004657Z
UID:10001318-1782550800-1782550800@harvestfellowshipsc.com
SUMMARY:Men's Meeting
DESCRIPTION:
URL:https://harvestfellowshipsc.com/event/mens-meeting/2026-06-27/
END:VEVENT
BEGIN:VEVENT
DTSTART;TZID=UTC:20260628T084500
DTEND;TZID=UTC:20260628T094500
DTSTAMP:20260418T044544
CREATED:20230205T190337Z
LAST-MODIFIED:20250709T230237Z
UID:10001201-1782636300-1782639900@harvestfellowshipsc.com
SUMMARY:Foundations I & II
DESCRIPTION:
URL:https://harvestfellowshipsc.com/event/foundations-ii/2026-06-28/
END:VEVENT
BEGIN:VEVENT
DTSTART;TZID=UTC:20260628T100000
DTEND;TZID=UTC:20260628T100000
DTSTAMP:20260418T044544
CREATED:20230205T185654Z
LAST-MODIFIED:20230205T191206Z
UID:10000883-1782640800-1782640800@harvestfellowshipsc.com
SUMMARY:Worship Service
DESCRIPTION:
URL:https://harvestfellowshipsc.com/event/worship-service/2026-06-28/
END:VEVENT
BEGIN:VEVENT
DTSTART;TZID=UTC:20260630T190000
DTEND;TZID=UTC:20260630T190000
DTSTAMP:20260418T044544
CREATED:20230205T184928Z
LAST-MODIFIED:20230205T185121Z
UID:10000190-1782846000-1782846000@harvestfellowshipsc.com
SUMMARY:Prayer
DESCRIPTION:
URL:https://harvestfellowshipsc.com/event/prayer/2026-06-30/
END:VEVENT
END:VCALENDAR