BEGIN:VCALENDAR
VERSION:2.0
PRODID:-//Harvest Fellowship Church - ECPv6.15.20//NONSGML v1.0//EN
CALSCALE:GREGORIAN
METHOD:PUBLISH
X-ORIGINAL-URL:https://harvestfellowshipsc.com
X-WR-CALDESC:Events for Harvest Fellowship Church
REFRESH-INTERVAL;VALUE=DURATION:PT1H
X-Robots-Tag:noindex
X-PUBLISHED-TTL:PT1H
BEGIN:VTIMEZONE
TZID:UTC
BEGIN:STANDARD
TZOFFSETFROM:+0000
TZOFFSETTO:+0000
TZNAME:UTC
DTSTART:20250101T000000
END:STANDARD
END:VTIMEZONE
BEGIN:VEVENT
DTSTART;TZID=UTC:20260301T084500
DTEND;TZID=UTC:20260301T094500
DTSTAMP:20260420T051418
CREATED:20230205T190337Z
LAST-MODIFIED:20250709T230237Z
UID:10001184-1772354700-1772358300@harvestfellowshipsc.com
SUMMARY:Foundations I & II
DESCRIPTION:
URL:https://harvestfellowshipsc.com/event/foundations-ii/2026-03-01/
END:VEVENT
BEGIN:VEVENT
DTSTART;TZID=UTC:20260301T100000
DTEND;TZID=UTC:20260301T100000
DTSTAMP:20260420T051418
CREATED:20230205T185654Z
LAST-MODIFIED:20230205T191206Z
UID:10000866-1772359200-1772359200@harvestfellowshipsc.com
SUMMARY:Worship Service
DESCRIPTION:
URL:https://harvestfellowshipsc.com/event/worship-service/2026-03-01/
END:VEVENT
BEGIN:VEVENT
DTSTART;TZID=UTC:20260303T190000
DTEND;TZID=UTC:20260303T190000
DTSTAMP:20260420T051418
CREATED:20230205T184928Z
LAST-MODIFIED:20230205T185121Z
UID:10000173-1772564400-1772564400@harvestfellowshipsc.com
SUMMARY:Prayer
DESCRIPTION:
URL:https://harvestfellowshipsc.com/event/prayer/2026-03-03/
END:VEVENT
BEGIN:VEVENT
DTSTART;TZID=UTC:20260305T190000
DTEND;TZID=UTC:20260305T190000
DTSTAMP:20260420T051418
CREATED:20230205T185301Z
LAST-MODIFIED:20230205T185301Z
UID:10000548-1772737200-1772737200@harvestfellowshipsc.com
SUMMARY:Bible Study
DESCRIPTION:
URL:https://harvestfellowshipsc.com/event/bible-study/2026-03-05/
END:VEVENT
BEGIN:VEVENT
DTSTART;TZID=UTC:20260308T084500
DTEND;TZID=UTC:20260308T094500
DTSTAMP:20260420T051418
CREATED:20230205T190337Z
LAST-MODIFIED:20250709T230237Z
UID:10001185-1772959500-1772963100@harvestfellowshipsc.com
SUMMARY:Foundations I & II
DESCRIPTION:
URL:https://harvestfellowshipsc.com/event/foundations-ii/2026-03-08/
END:VEVENT
BEGIN:VEVENT
DTSTART;TZID=UTC:20260308T100000
DTEND;TZID=UTC:20260308T100000
DTSTAMP:20260420T051418
CREATED:20230205T185654Z
LAST-MODIFIED:20230205T191206Z
UID:10000867-1772964000-1772964000@harvestfellowshipsc.com
SUMMARY:Worship Service
DESCRIPTION:
URL:https://harvestfellowshipsc.com/event/worship-service/2026-03-08/
END:VEVENT
BEGIN:VEVENT
DTSTART;TZID=UTC:20260310T190000
DTEND;TZID=UTC:20260310T190000
DTSTAMP:20260420T051418
CREATED:20230205T184928Z
LAST-MODIFIED:20230205T185121Z
UID:10000174-1773169200-1773169200@harvestfellowshipsc.com
SUMMARY:Prayer
DESCRIPTION:
URL:https://harvestfellowshipsc.com/event/prayer/2026-03-10/
END:VEVENT
BEGIN:VEVENT
DTSTART;TZID=UTC:20260312T190000
DTEND;TZID=UTC:20260312T190000
DTSTAMP:20260420T051418
CREATED:20230205T185301Z
LAST-MODIFIED:20230205T185301Z
UID:10000549-1773342000-1773342000@harvestfellowshipsc.com
SUMMARY:Bible Study
DESCRIPTION:
URL:https://harvestfellowshipsc.com/event/bible-study/2026-03-12/
END:VEVENT
BEGIN:VEVENT
DTSTART;TZID=UTC:20260314T100000
DTEND;TZID=UTC:20260314T100000
DTSTAMP:20260420T051418
CREATED:20240409T004830Z
LAST-MODIFIED:20240409T005007Z
UID:10001375-1773482400-1773482400@harvestfellowshipsc.com
SUMMARY:Women's Meeting
DESCRIPTION:
URL:https://harvestfellowshipsc.com/event/womens-meeting/2026-03-14/
END:VEVENT
BEGIN:VEVENT
DTSTART;TZID=UTC:20260315T084500
DTEND;TZID=UTC:20260315T094500
DTSTAMP:20260420T051418
CREATED:20230205T190337Z
LAST-MODIFIED:20250709T230237Z
UID:10001186-1773564300-1773567900@harvestfellowshipsc.com
SUMMARY:Foundations I & II
DESCRIPTION:
URL:https://harvestfellowshipsc.com/event/foundations-ii/2026-03-15/
END:VEVENT
BEGIN:VEVENT
DTSTART;TZID=UTC:20260315T100000
DTEND;TZID=UTC:20260315T100000
DTSTAMP:20260420T051418
CREATED:20230205T185654Z
LAST-MODIFIED:20230205T191206Z
UID:10000868-1773568800-1773568800@harvestfellowshipsc.com
SUMMARY:Worship Service
DESCRIPTION:
URL:https://harvestfellowshipsc.com/event/worship-service/2026-03-15/
END:VEVENT
BEGIN:VEVENT
DTSTART;TZID=UTC:20260317T190000
DTEND;TZID=UTC:20260317T190000
DTSTAMP:20260420T051418
CREATED:20230205T184928Z
LAST-MODIFIED:20230205T185121Z
UID:10000175-1773774000-1773774000@harvestfellowshipsc.com
SUMMARY:Prayer
DESCRIPTION:
URL:https://harvestfellowshipsc.com/event/prayer/2026-03-17/
END:VEVENT
BEGIN:VEVENT
DTSTART;TZID=UTC:20260319T190000
DTEND;TZID=UTC:20260319T190000
DTSTAMP:20260420T051418
CREATED:20230205T185301Z
LAST-MODIFIED:20230205T185301Z
UID:10000550-1773946800-1773946800@harvestfellowshipsc.com
SUMMARY:Bible Study
DESCRIPTION:
URL:https://harvestfellowshipsc.com/event/bible-study/2026-03-19/
END:VEVENT
BEGIN:VEVENT
DTSTART;TZID=UTC:20260322T084500
DTEND;TZID=UTC:20260322T094500
DTSTAMP:20260420T051418
CREATED:20230205T190337Z
LAST-MODIFIED:20250709T230237Z
UID:10001187-1774169100-1774172700@harvestfellowshipsc.com
SUMMARY:Foundations I & II
DESCRIPTION:
URL:https://harvestfellowshipsc.com/event/foundations-ii/2026-03-22/
END:VEVENT
BEGIN:VEVENT
DTSTART;TZID=UTC:20260322T100000
DTEND;TZID=UTC:20260322T100000
DTSTAMP:20260420T051418
CREATED:20230205T185654Z
LAST-MODIFIED:20230205T191206Z
UID:10000869-1774173600-1774173600@harvestfellowshipsc.com
SUMMARY:Worship Service
DESCRIPTION:
URL:https://harvestfellowshipsc.com/event/worship-service/2026-03-22/
END:VEVENT
BEGIN:VEVENT
DTSTART;TZID=UTC:20260324T190000
DTEND;TZID=UTC:20260324T190000
DTSTAMP:20260420T051418
CREATED:20230205T184928Z
LAST-MODIFIED:20230205T185121Z
UID:10000176-1774378800-1774378800@harvestfellowshipsc.com
SUMMARY:Prayer
DESCRIPTION:
URL:https://harvestfellowshipsc.com/event/prayer/2026-03-24/
END:VEVENT
BEGIN:VEVENT
DTSTART;TZID=UTC:20260326T190000
DTEND;TZID=UTC:20260326T190000
DTSTAMP:20260420T051418
CREATED:20230205T185301Z
LAST-MODIFIED:20230205T185301Z
UID:10000551-1774551600-1774551600@harvestfellowshipsc.com
SUMMARY:Bible Study
DESCRIPTION:
URL:https://harvestfellowshipsc.com/event/bible-study/2026-03-26/
END:VEVENT
BEGIN:VEVENT
DTSTART;TZID=UTC:20260328T090000
DTEND;TZID=UTC:20260328T090000
DTSTAMP:20260420T051418
CREATED:20240409T004513Z
LAST-MODIFIED:20240409T004657Z
UID:10001315-1774688400-1774688400@harvestfellowshipsc.com
SUMMARY:Men's Meeting
DESCRIPTION:
URL:https://harvestfellowshipsc.com/event/mens-meeting/2026-03-28/
END:VEVENT
BEGIN:VEVENT
DTSTART;TZID=UTC:20260329T084500
DTEND;TZID=UTC:20260329T094500
DTSTAMP:20260420T051418
CREATED:20230205T190337Z
LAST-MODIFIED:20250709T230237Z
UID:10001188-1774773900-1774777500@harvestfellowshipsc.com
SUMMARY:Foundations I & II
DESCRIPTION:
URL:https://harvestfellowshipsc.com/event/foundations-ii/2026-03-29/
END:VEVENT
BEGIN:VEVENT
DTSTART;TZID=UTC:20260329T100000
DTEND;TZID=UTC:20260329T100000
DTSTAMP:20260420T051418
CREATED:20230205T185654Z
LAST-MODIFIED:20230205T191206Z
UID:10000870-1774778400-1774778400@harvestfellowshipsc.com
SUMMARY:Worship Service
DESCRIPTION:
URL:https://harvestfellowshipsc.com/event/worship-service/2026-03-29/
END:VEVENT
BEGIN:VEVENT
DTSTART;TZID=UTC:20260331T190000
DTEND;TZID=UTC:20260331T190000
DTSTAMP:20260420T051418
CREATED:20230205T184928Z
LAST-MODIFIED:20230205T185121Z
UID:10000177-1774983600-1774983600@harvestfellowshipsc.com
SUMMARY:Prayer
DESCRIPTION:
URL:https://harvestfellowshipsc.com/event/prayer/2026-03-31/
END:VEVENT
END:VCALENDAR