BEGIN:VCALENDAR
VERSION:2.0
PRODID:-//Harvest Fellowship Church - ECPv6.15.20//NONSGML v1.0//EN
CALSCALE:GREGORIAN
METHOD:PUBLISH
X-ORIGINAL-URL:https://harvestfellowshipsc.com
X-WR-CALDESC:Events for Harvest Fellowship Church
REFRESH-INTERVAL;VALUE=DURATION:PT1H
X-Robots-Tag:noindex
X-PUBLISHED-TTL:PT1H
BEGIN:VTIMEZONE
TZID:UTC
BEGIN:STANDARD
TZOFFSETFROM:+0000
TZOFFSETTO:+0000
TZNAME:UTC
DTSTART:20250101T000000
END:STANDARD
END:VTIMEZONE
BEGIN:VEVENT
DTSTART;TZID=UTC:20260201T084500
DTEND;TZID=UTC:20260201T094500
DTSTAMP:20260418T054120
CREATED:20230205T190337Z
LAST-MODIFIED:20250709T230237Z
UID:10001180-1769935500-1769939100@harvestfellowshipsc.com
SUMMARY:Foundations I & II
DESCRIPTION:
URL:https://harvestfellowshipsc.com/event/foundations-ii/2026-02-01/
END:VEVENT
BEGIN:VEVENT
DTSTART;TZID=UTC:20260201T100000
DTEND;TZID=UTC:20260201T100000
DTSTAMP:20260418T054120
CREATED:20230205T185654Z
LAST-MODIFIED:20230205T191206Z
UID:10000862-1769940000-1769940000@harvestfellowshipsc.com
SUMMARY:Worship Service
DESCRIPTION:
URL:https://harvestfellowshipsc.com/event/worship-service/2026-02-01/
END:VEVENT
BEGIN:VEVENT
DTSTART;TZID=UTC:20260203T190000
DTEND;TZID=UTC:20260203T190000
DTSTAMP:20260418T054120
CREATED:20230205T184928Z
LAST-MODIFIED:20230205T185121Z
UID:10000169-1770145200-1770145200@harvestfellowshipsc.com
SUMMARY:Prayer
DESCRIPTION:
URL:https://harvestfellowshipsc.com/event/prayer/2026-02-03/
END:VEVENT
BEGIN:VEVENT
DTSTART;TZID=UTC:20260205T190000
DTEND;TZID=UTC:20260205T190000
DTSTAMP:20260418T054120
CREATED:20230205T185301Z
LAST-MODIFIED:20230205T185301Z
UID:10000544-1770318000-1770318000@harvestfellowshipsc.com
SUMMARY:Bible Study
DESCRIPTION:
URL:https://harvestfellowshipsc.com/event/bible-study/2026-02-05/
END:VEVENT
BEGIN:VEVENT
DTSTART;TZID=UTC:20260208T084500
DTEND;TZID=UTC:20260208T094500
DTSTAMP:20260418T054120
CREATED:20230205T190337Z
LAST-MODIFIED:20250709T230237Z
UID:10001181-1770540300-1770543900@harvestfellowshipsc.com
SUMMARY:Foundations I & II
DESCRIPTION:
URL:https://harvestfellowshipsc.com/event/foundations-ii/2026-02-08/
END:VEVENT
BEGIN:VEVENT
DTSTART;TZID=UTC:20260208T100000
DTEND;TZID=UTC:20260208T100000
DTSTAMP:20260418T054120
CREATED:20230205T185654Z
LAST-MODIFIED:20230205T191206Z
UID:10000863-1770544800-1770544800@harvestfellowshipsc.com
SUMMARY:Worship Service
DESCRIPTION:
URL:https://harvestfellowshipsc.com/event/worship-service/2026-02-08/
END:VEVENT
BEGIN:VEVENT
DTSTART;TZID=UTC:20260210T190000
DTEND;TZID=UTC:20260210T190000
DTSTAMP:20260418T054120
CREATED:20230205T184928Z
LAST-MODIFIED:20230205T185121Z
UID:10000170-1770750000-1770750000@harvestfellowshipsc.com
SUMMARY:Prayer
DESCRIPTION:
URL:https://harvestfellowshipsc.com/event/prayer/2026-02-10/
END:VEVENT
BEGIN:VEVENT
DTSTART;TZID=UTC:20260212T190000
DTEND;TZID=UTC:20260212T190000
DTSTAMP:20260418T054120
CREATED:20230205T185301Z
LAST-MODIFIED:20230205T185301Z
UID:10000545-1770922800-1770922800@harvestfellowshipsc.com
SUMMARY:Bible Study
DESCRIPTION:
URL:https://harvestfellowshipsc.com/event/bible-study/2026-02-12/
END:VEVENT
BEGIN:VEVENT
DTSTART;TZID=UTC:20260214T100000
DTEND;TZID=UTC:20260214T100000
DTSTAMP:20260418T054120
CREATED:20240409T004830Z
LAST-MODIFIED:20240409T005007Z
UID:10001374-1771063200-1771063200@harvestfellowshipsc.com
SUMMARY:Women's Meeting
DESCRIPTION:
URL:https://harvestfellowshipsc.com/event/womens-meeting/2026-02-14/
END:VEVENT
BEGIN:VEVENT
DTSTART;TZID=UTC:20260215T084500
DTEND;TZID=UTC:20260215T094500
DTSTAMP:20260418T054120
CREATED:20230205T190337Z
LAST-MODIFIED:20250709T230237Z
UID:10001182-1771145100-1771148700@harvestfellowshipsc.com
SUMMARY:Foundations I & II
DESCRIPTION:
URL:https://harvestfellowshipsc.com/event/foundations-ii/2026-02-15/
END:VEVENT
BEGIN:VEVENT
DTSTART;TZID=UTC:20260215T100000
DTEND;TZID=UTC:20260215T100000
DTSTAMP:20260418T054120
CREATED:20230205T185654Z
LAST-MODIFIED:20230205T191206Z
UID:10000864-1771149600-1771149600@harvestfellowshipsc.com
SUMMARY:Worship Service
DESCRIPTION:
URL:https://harvestfellowshipsc.com/event/worship-service/2026-02-15/
END:VEVENT
BEGIN:VEVENT
DTSTART;TZID=UTC:20260217T190000
DTEND;TZID=UTC:20260217T190000
DTSTAMP:20260418T054120
CREATED:20230205T184928Z
LAST-MODIFIED:20230205T185121Z
UID:10000171-1771354800-1771354800@harvestfellowshipsc.com
SUMMARY:Prayer
DESCRIPTION:
URL:https://harvestfellowshipsc.com/event/prayer/2026-02-17/
END:VEVENT
BEGIN:VEVENT
DTSTART;TZID=UTC:20260219T190000
DTEND;TZID=UTC:20260219T190000
DTSTAMP:20260418T054120
CREATED:20230205T185301Z
LAST-MODIFIED:20230205T185301Z
UID:10000546-1771527600-1771527600@harvestfellowshipsc.com
SUMMARY:Bible Study
DESCRIPTION:
URL:https://harvestfellowshipsc.com/event/bible-study/2026-02-19/
END:VEVENT
BEGIN:VEVENT
DTSTART;TZID=UTC:20260222T084500
DTEND;TZID=UTC:20260222T094500
DTSTAMP:20260418T054120
CREATED:20230205T190337Z
LAST-MODIFIED:20250709T230237Z
UID:10001183-1771749900-1771753500@harvestfellowshipsc.com
SUMMARY:Foundations I & II
DESCRIPTION:
URL:https://harvestfellowshipsc.com/event/foundations-ii/2026-02-22/
END:VEVENT
BEGIN:VEVENT
DTSTART;TZID=UTC:20260222T100000
DTEND;TZID=UTC:20260222T100000
DTSTAMP:20260418T054120
CREATED:20230205T185654Z
LAST-MODIFIED:20230205T191206Z
UID:10000865-1771754400-1771754400@harvestfellowshipsc.com
SUMMARY:Worship Service
DESCRIPTION:
URL:https://harvestfellowshipsc.com/event/worship-service/2026-02-22/
END:VEVENT
BEGIN:VEVENT
DTSTART;TZID=UTC:20260224T190000
DTEND;TZID=UTC:20260224T190000
DTSTAMP:20260418T054120
CREATED:20230205T184928Z
LAST-MODIFIED:20230205T185121Z
UID:10000172-1771959600-1771959600@harvestfellowshipsc.com
SUMMARY:Prayer
DESCRIPTION:
URL:https://harvestfellowshipsc.com/event/prayer/2026-02-24/
END:VEVENT
BEGIN:VEVENT
DTSTART;TZID=UTC:20260226T190000
DTEND;TZID=UTC:20260226T190000
DTSTAMP:20260418T054120
CREATED:20230205T185301Z
LAST-MODIFIED:20230205T185301Z
UID:10000547-1772132400-1772132400@harvestfellowshipsc.com
SUMMARY:Bible Study
DESCRIPTION:
URL:https://harvestfellowshipsc.com/event/bible-study/2026-02-26/
END:VEVENT
BEGIN:VEVENT
DTSTART;TZID=UTC:20260228T090000
DTEND;TZID=UTC:20260228T090000
DTSTAMP:20260418T054120
CREATED:20240409T004513Z
LAST-MODIFIED:20240409T004657Z
UID:10001314-1772269200-1772269200@harvestfellowshipsc.com
SUMMARY:Men's Meeting
DESCRIPTION:
URL:https://harvestfellowshipsc.com/event/mens-meeting/2026-02-28/
END:VEVENT
END:VCALENDAR