BEGIN:VCALENDAR
VERSION:2.0
PRODID:-//Harvest Fellowship Church - ECPv6.15.20//NONSGML v1.0//EN
CALSCALE:GREGORIAN
METHOD:PUBLISH
X-ORIGINAL-URL:https://harvestfellowshipsc.com
X-WR-CALDESC:Events for Harvest Fellowship Church
REFRESH-INTERVAL;VALUE=DURATION:PT1H
X-Robots-Tag:noindex
X-PUBLISHED-TTL:PT1H
BEGIN:VTIMEZONE
TZID:UTC
BEGIN:STANDARD
TZOFFSETFROM:+0000
TZOFFSETTO:+0000
TZNAME:UTC
DTSTART:20250101T000000
END:STANDARD
END:VTIMEZONE
BEGIN:VEVENT
DTSTART;VALUE=DATE:20260101
DTEND;VALUE=DATE:20260102
DTSTAMP:20260420T090510
CREATED:20251224T000025Z
LAST-MODIFIED:20251224T000025Z
UID:10002329-1767225600-1767311999@harvestfellowshipsc.com
SUMMARY:New Year's Day (No Bible Study)
DESCRIPTION:
URL:https://harvestfellowshipsc.com/event/new-years-day-no-bible-study/
END:VEVENT
BEGIN:VEVENT
DTSTART;TZID=UTC:20260101T190000
DTEND;TZID=UTC:20260101T190000
DTSTAMP:20260420T090510
CREATED:20230205T185301Z
LAST-MODIFIED:20230205T185301Z
UID:10000539-1767294000-1767294000@harvestfellowshipsc.com
SUMMARY:Bible Study
DESCRIPTION:
URL:https://harvestfellowshipsc.com/event/bible-study/2026-01-01/
END:VEVENT
BEGIN:VEVENT
DTSTART;TZID=UTC:20260104T084500
DTEND;TZID=UTC:20260104T094500
DTSTAMP:20260420T090510
CREATED:20230205T190337Z
LAST-MODIFIED:20250709T230237Z
UID:10001176-1767516300-1767519900@harvestfellowshipsc.com
SUMMARY:Foundations I & II
DESCRIPTION:
URL:https://harvestfellowshipsc.com/event/foundations-ii/2026-01-04/
END:VEVENT
BEGIN:VEVENT
DTSTART;TZID=UTC:20260104T100000
DTEND;TZID=UTC:20260104T100000
DTSTAMP:20260420T090510
CREATED:20230205T185654Z
LAST-MODIFIED:20230205T191206Z
UID:10000858-1767520800-1767520800@harvestfellowshipsc.com
SUMMARY:Worship Service
DESCRIPTION:
URL:https://harvestfellowshipsc.com/event/worship-service/2026-01-04/
END:VEVENT
BEGIN:VEVENT
DTSTART;TZID=UTC:20260106T190000
DTEND;TZID=UTC:20260106T190000
DTSTAMP:20260420T090510
CREATED:20230205T184928Z
LAST-MODIFIED:20230205T185121Z
UID:10000165-1767726000-1767726000@harvestfellowshipsc.com
SUMMARY:Prayer
DESCRIPTION:
URL:https://harvestfellowshipsc.com/event/prayer/2026-01-06/
END:VEVENT
BEGIN:VEVENT
DTSTART;TZID=UTC:20260108T190000
DTEND;TZID=UTC:20260108T190000
DTSTAMP:20260420T090510
CREATED:20230205T185301Z
LAST-MODIFIED:20230205T185301Z
UID:10000540-1767898800-1767898800@harvestfellowshipsc.com
SUMMARY:Bible Study
DESCRIPTION:
URL:https://harvestfellowshipsc.com/event/bible-study/2026-01-08/
END:VEVENT
BEGIN:VEVENT
DTSTART;TZID=UTC:20260110T100000
DTEND;TZID=UTC:20260110T100000
DTSTAMP:20260420T090510
CREATED:20240409T004830Z
LAST-MODIFIED:20240409T005007Z
UID:10001373-1768039200-1768039200@harvestfellowshipsc.com
SUMMARY:Women's Meeting
DESCRIPTION:
URL:https://harvestfellowshipsc.com/event/womens-meeting/2026-01-10/
END:VEVENT
BEGIN:VEVENT
DTSTART;TZID=UTC:20260111T084500
DTEND;TZID=UTC:20260111T094500
DTSTAMP:20260420T090510
CREATED:20230205T190337Z
LAST-MODIFIED:20250709T230237Z
UID:10001177-1768121100-1768124700@harvestfellowshipsc.com
SUMMARY:Foundations I & II
DESCRIPTION:
URL:https://harvestfellowshipsc.com/event/foundations-ii/2026-01-11/
END:VEVENT
BEGIN:VEVENT
DTSTART;TZID=UTC:20260111T100000
DTEND;TZID=UTC:20260111T100000
DTSTAMP:20260420T090510
CREATED:20230205T185654Z
LAST-MODIFIED:20230205T191206Z
UID:10000859-1768125600-1768125600@harvestfellowshipsc.com
SUMMARY:Worship Service
DESCRIPTION:
URL:https://harvestfellowshipsc.com/event/worship-service/2026-01-11/
END:VEVENT
BEGIN:VEVENT
DTSTART;TZID=UTC:20260113T190000
DTEND;TZID=UTC:20260113T190000
DTSTAMP:20260420T090510
CREATED:20230205T184928Z
LAST-MODIFIED:20230205T185121Z
UID:10000166-1768330800-1768330800@harvestfellowshipsc.com
SUMMARY:Prayer
DESCRIPTION:
URL:https://harvestfellowshipsc.com/event/prayer/2026-01-13/
END:VEVENT
BEGIN:VEVENT
DTSTART;TZID=UTC:20260115T190000
DTEND;TZID=UTC:20260115T190000
DTSTAMP:20260420T090510
CREATED:20230205T185301Z
LAST-MODIFIED:20230205T185301Z
UID:10000541-1768503600-1768503600@harvestfellowshipsc.com
SUMMARY:Bible Study
DESCRIPTION:
URL:https://harvestfellowshipsc.com/event/bible-study/2026-01-15/
END:VEVENT
BEGIN:VEVENT
DTSTART;TZID=UTC:20260118T084500
DTEND;TZID=UTC:20260118T094500
DTSTAMP:20260420T090510
CREATED:20230205T190337Z
LAST-MODIFIED:20250709T230237Z
UID:10001178-1768725900-1768729500@harvestfellowshipsc.com
SUMMARY:Foundations I & II
DESCRIPTION:
URL:https://harvestfellowshipsc.com/event/foundations-ii/2026-01-18/
END:VEVENT
BEGIN:VEVENT
DTSTART;TZID=UTC:20260118T100000
DTEND;TZID=UTC:20260118T100000
DTSTAMP:20260420T090510
CREATED:20230205T185654Z
LAST-MODIFIED:20230205T191206Z
UID:10000860-1768730400-1768730400@harvestfellowshipsc.com
SUMMARY:Worship Service
DESCRIPTION:
URL:https://harvestfellowshipsc.com/event/worship-service/2026-01-18/
END:VEVENT
BEGIN:VEVENT
DTSTART;TZID=UTC:20260120T190000
DTEND;TZID=UTC:20260120T190000
DTSTAMP:20260420T090510
CREATED:20230205T184928Z
LAST-MODIFIED:20230205T185121Z
UID:10000167-1768935600-1768935600@harvestfellowshipsc.com
SUMMARY:Prayer
DESCRIPTION:
URL:https://harvestfellowshipsc.com/event/prayer/2026-01-20/
END:VEVENT
BEGIN:VEVENT
DTSTART;TZID=UTC:20260122T190000
DTEND;TZID=UTC:20260122T190000
DTSTAMP:20260420T090510
CREATED:20230205T185301Z
LAST-MODIFIED:20230205T185301Z
UID:10000542-1769108400-1769108400@harvestfellowshipsc.com
SUMMARY:Bible Study
DESCRIPTION:
URL:https://harvestfellowshipsc.com/event/bible-study/2026-01-22/
END:VEVENT
BEGIN:VEVENT
DTSTART;TZID=UTC:20260124T090000
DTEND;TZID=UTC:20260124T090000
DTSTAMP:20260420T090510
CREATED:20240409T004513Z
LAST-MODIFIED:20240409T004657Z
UID:10001313-1769245200-1769245200@harvestfellowshipsc.com
SUMMARY:Men's Meeting
DESCRIPTION:
URL:https://harvestfellowshipsc.com/event/mens-meeting/2026-01-24/
END:VEVENT
BEGIN:VEVENT
DTSTART;TZID=UTC:20260125T084500
DTEND;TZID=UTC:20260125T094500
DTSTAMP:20260420T090510
CREATED:20230205T190337Z
LAST-MODIFIED:20250709T230237Z
UID:10001179-1769330700-1769334300@harvestfellowshipsc.com
SUMMARY:Foundations I & II
DESCRIPTION:
URL:https://harvestfellowshipsc.com/event/foundations-ii/2026-01-25/
END:VEVENT
BEGIN:VEVENT
DTSTART;TZID=UTC:20260125T100000
DTEND;TZID=UTC:20260125T100000
DTSTAMP:20260420T090510
CREATED:20230205T185654Z
LAST-MODIFIED:20230205T191206Z
UID:10000861-1769335200-1769335200@harvestfellowshipsc.com
SUMMARY:Worship Service
DESCRIPTION:
URL:https://harvestfellowshipsc.com/event/worship-service/2026-01-25/
END:VEVENT
BEGIN:VEVENT
DTSTART;TZID=UTC:20260127T190000
DTEND;TZID=UTC:20260127T190000
DTSTAMP:20260420T090510
CREATED:20230205T184928Z
LAST-MODIFIED:20230205T185121Z
UID:10000168-1769540400-1769540400@harvestfellowshipsc.com
SUMMARY:Prayer
DESCRIPTION:
URL:https://harvestfellowshipsc.com/event/prayer/2026-01-27/
END:VEVENT
BEGIN:VEVENT
DTSTART;TZID=UTC:20260129T190000
DTEND;TZID=UTC:20260129T190000
DTSTAMP:20260420T090510
CREATED:20230205T185301Z
LAST-MODIFIED:20230205T185301Z
UID:10000543-1769713200-1769713200@harvestfellowshipsc.com
SUMMARY:Bible Study
DESCRIPTION:
URL:https://harvestfellowshipsc.com/event/bible-study/2026-01-29/
END:VEVENT
END:VCALENDAR