BEGIN:VCALENDAR
VERSION:2.0
PRODID:-//Harvest Fellowship Church - ECPv6.15.20//NONSGML v1.0//EN
CALSCALE:GREGORIAN
METHOD:PUBLISH
X-ORIGINAL-URL:https://harvestfellowshipsc.com
X-WR-CALDESC:Events for Harvest Fellowship Church
REFRESH-INTERVAL;VALUE=DURATION:PT1H
X-Robots-Tag:noindex
X-PUBLISHED-TTL:PT1H
BEGIN:VTIMEZONE
TZID:UTC
BEGIN:STANDARD
TZOFFSETFROM:+0000
TZOFFSETTO:+0000
TZNAME:UTC
DTSTART:20240101T000000
END:STANDARD
END:VTIMEZONE
BEGIN:VEVENT
DTSTART;TZID=UTC:20251102T084500
DTEND;TZID=UTC:20251102T094500
DTSTAMP:20260420T124535
CREATED:20230205T190337Z
LAST-MODIFIED:20250709T230237Z
UID:10001167-1762073100-1762076700@harvestfellowshipsc.com
SUMMARY:Foundations I & II
DESCRIPTION:
URL:https://harvestfellowshipsc.com/event/foundations-ii/2025-11-02/
END:VEVENT
BEGIN:VEVENT
DTSTART;TZID=UTC:20251102T100000
DTEND;TZID=UTC:20251102T100000
DTSTAMP:20260420T124535
CREATED:20230205T185654Z
LAST-MODIFIED:20230205T191206Z
UID:10000849-1762077600-1762077600@harvestfellowshipsc.com
SUMMARY:Worship Service
DESCRIPTION:
URL:https://harvestfellowshipsc.com/event/worship-service/2025-11-02/
END:VEVENT
BEGIN:VEVENT
DTSTART;TZID=UTC:20251104T190000
DTEND;TZID=UTC:20251104T190000
DTSTAMP:20260420T124535
CREATED:20230205T184928Z
LAST-MODIFIED:20230205T185121Z
UID:10000156-1762282800-1762282800@harvestfellowshipsc.com
SUMMARY:Prayer
DESCRIPTION:
URL:https://harvestfellowshipsc.com/event/prayer/2025-11-04/
END:VEVENT
BEGIN:VEVENT
DTSTART;TZID=UTC:20251106T190000
DTEND;TZID=UTC:20251106T190000
DTSTAMP:20260420T124535
CREATED:20230205T185301Z
LAST-MODIFIED:20230205T185301Z
UID:10000531-1762455600-1762455600@harvestfellowshipsc.com
SUMMARY:Bible Study
DESCRIPTION:
URL:https://harvestfellowshipsc.com/event/bible-study/2025-11-06/
END:VEVENT
BEGIN:VEVENT
DTSTART;TZID=UTC:20251108T100000
DTEND;TZID=UTC:20251108T100000
DTSTAMP:20260420T124535
CREATED:20240409T004830Z
LAST-MODIFIED:20240409T005007Z
UID:10001371-1762596000-1762596000@harvestfellowshipsc.com
SUMMARY:Women's Meeting
DESCRIPTION:
URL:https://harvestfellowshipsc.com/event/womens-meeting/2025-11-08/
END:VEVENT
BEGIN:VEVENT
DTSTART;TZID=UTC:20251109T084500
DTEND;TZID=UTC:20251109T094500
DTSTAMP:20260420T124535
CREATED:20230205T190337Z
LAST-MODIFIED:20250709T230237Z
UID:10001168-1762677900-1762681500@harvestfellowshipsc.com
SUMMARY:Foundations I & II
DESCRIPTION:
URL:https://harvestfellowshipsc.com/event/foundations-ii/2025-11-09/
END:VEVENT
BEGIN:VEVENT
DTSTART;TZID=UTC:20251109T100000
DTEND;TZID=UTC:20251109T100000
DTSTAMP:20260420T124535
CREATED:20230205T185654Z
LAST-MODIFIED:20230205T191206Z
UID:10000850-1762682400-1762682400@harvestfellowshipsc.com
SUMMARY:Worship Service
DESCRIPTION:
URL:https://harvestfellowshipsc.com/event/worship-service/2025-11-09/
END:VEVENT
BEGIN:VEVENT
DTSTART;TZID=UTC:20251111T190000
DTEND;TZID=UTC:20251111T190000
DTSTAMP:20260420T124535
CREATED:20230205T184928Z
LAST-MODIFIED:20230205T185121Z
UID:10000157-1762887600-1762887600@harvestfellowshipsc.com
SUMMARY:Prayer
DESCRIPTION:
URL:https://harvestfellowshipsc.com/event/prayer/2025-11-11/
END:VEVENT
BEGIN:VEVENT
DTSTART;TZID=UTC:20251113T190000
DTEND;TZID=UTC:20251113T190000
DTSTAMP:20260420T124535
CREATED:20230205T185301Z
LAST-MODIFIED:20230205T185301Z
UID:10000532-1763060400-1763060400@harvestfellowshipsc.com
SUMMARY:Bible Study
DESCRIPTION:
URL:https://harvestfellowshipsc.com/event/bible-study/2025-11-13/
END:VEVENT
BEGIN:VEVENT
DTSTART;TZID=UTC:20251116T084500
DTEND;TZID=UTC:20251116T094500
DTSTAMP:20260420T124535
CREATED:20230205T190337Z
LAST-MODIFIED:20250709T230237Z
UID:10001169-1763282700-1763286300@harvestfellowshipsc.com
SUMMARY:Foundations I & II
DESCRIPTION:
URL:https://harvestfellowshipsc.com/event/foundations-ii/2025-11-16/
END:VEVENT
BEGIN:VEVENT
DTSTART;TZID=UTC:20251116T100000
DTEND;TZID=UTC:20251116T100000
DTSTAMP:20260420T124535
CREATED:20230205T185654Z
LAST-MODIFIED:20230205T191206Z
UID:10000851-1763287200-1763287200@harvestfellowshipsc.com
SUMMARY:Worship Service
DESCRIPTION:
URL:https://harvestfellowshipsc.com/event/worship-service/2025-11-16/
END:VEVENT
BEGIN:VEVENT
DTSTART;TZID=UTC:20251118T190000
DTEND;TZID=UTC:20251118T190000
DTSTAMP:20260420T124535
CREATED:20230205T184928Z
LAST-MODIFIED:20230205T185121Z
UID:10000158-1763492400-1763492400@harvestfellowshipsc.com
SUMMARY:Prayer
DESCRIPTION:
URL:https://harvestfellowshipsc.com/event/prayer/2025-11-18/
END:VEVENT
BEGIN:VEVENT
DTSTART;TZID=UTC:20251120T190000
DTEND;TZID=UTC:20251120T190000
DTSTAMP:20260420T124535
CREATED:20230205T185301Z
LAST-MODIFIED:20230205T185301Z
UID:10000533-1763665200-1763665200@harvestfellowshipsc.com
SUMMARY:Bible Study
DESCRIPTION:
URL:https://harvestfellowshipsc.com/event/bible-study/2025-11-20/
END:VEVENT
BEGIN:VEVENT
DTSTART;TZID=UTC:20251122T090000
DTEND;TZID=UTC:20251122T090000
DTSTAMP:20260420T124535
CREATED:20240409T004513Z
LAST-MODIFIED:20240409T004657Z
UID:10001311-1763802000-1763802000@harvestfellowshipsc.com
SUMMARY:Men's Meeting
DESCRIPTION:
URL:https://harvestfellowshipsc.com/event/mens-meeting/2025-11-22/
END:VEVENT
BEGIN:VEVENT
DTSTART;TZID=UTC:20251123T084500
DTEND;TZID=UTC:20251123T094500
DTSTAMP:20260420T124535
CREATED:20230205T190337Z
LAST-MODIFIED:20250709T230237Z
UID:10001170-1763887500-1763891100@harvestfellowshipsc.com
SUMMARY:Foundations I & II
DESCRIPTION:
URL:https://harvestfellowshipsc.com/event/foundations-ii/2025-11-23/
END:VEVENT
BEGIN:VEVENT
DTSTART;TZID=UTC:20251123T100000
DTEND;TZID=UTC:20251123T100000
DTSTAMP:20260420T124535
CREATED:20230205T185654Z
LAST-MODIFIED:20230205T191206Z
UID:10000852-1763892000-1763892000@harvestfellowshipsc.com
SUMMARY:Worship Service
DESCRIPTION:
URL:https://harvestfellowshipsc.com/event/worship-service/2025-11-23/
END:VEVENT
BEGIN:VEVENT
DTSTART;TZID=UTC:20251125T190000
DTEND;TZID=UTC:20251125T190000
DTSTAMP:20260420T124536
CREATED:20230205T184928Z
LAST-MODIFIED:20230205T185121Z
UID:10000159-1764097200-1764097200@harvestfellowshipsc.com
SUMMARY:Prayer
DESCRIPTION:
URL:https://harvestfellowshipsc.com/event/prayer/2025-11-25/
END:VEVENT
BEGIN:VEVENT
DTSTART;VALUE=DATE:20251127
DTEND;VALUE=DATE:20251128
DTSTAMP:20260420T124536
CREATED:20241127T181959Z
LAST-MODIFIED:20251124T170741Z
UID:10001589-1764201600-1764287999@harvestfellowshipsc.com
SUMMARY:Thanksgiving Day (No Bible Study)
DESCRIPTION:
URL:https://harvestfellowshipsc.com/event/have-a-blessed-thanksgiving/
END:VEVENT
BEGIN:VEVENT
DTSTART;TZID=UTC:20251127T190000
DTEND;TZID=UTC:20251127T190000
DTSTAMP:20260420T124536
CREATED:20230205T185301Z
LAST-MODIFIED:20230205T185301Z
UID:10000534-1764270000-1764270000@harvestfellowshipsc.com
SUMMARY:Bible Study
DESCRIPTION:
URL:https://harvestfellowshipsc.com/event/bible-study/2025-11-27/
END:VEVENT
BEGIN:VEVENT
DTSTART;TZID=UTC:20251130T084500
DTEND;TZID=UTC:20251130T094500
DTSTAMP:20260420T124536
CREATED:20230205T190337Z
LAST-MODIFIED:20250709T230237Z
UID:10001171-1764492300-1764495900@harvestfellowshipsc.com
SUMMARY:Foundations I & II
DESCRIPTION:
URL:https://harvestfellowshipsc.com/event/foundations-ii/2025-11-30/
END:VEVENT
BEGIN:VEVENT
DTSTART;TZID=UTC:20251130T100000
DTEND;TZID=UTC:20251130T100000
DTSTAMP:20260420T124536
CREATED:20230205T185654Z
LAST-MODIFIED:20230205T191206Z
UID:10000853-1764496800-1764496800@harvestfellowshipsc.com
SUMMARY:Worship Service
DESCRIPTION:
URL:https://harvestfellowshipsc.com/event/worship-service/2025-11-30/
END:VEVENT
END:VCALENDAR