BEGIN:VCALENDAR
VERSION:2.0
PRODID:-//Harvest Fellowship Church - ECPv6.15.20//NONSGML v1.0//EN
CALSCALE:GREGORIAN
METHOD:PUBLISH
X-WR-CALNAME:Harvest Fellowship Church
X-ORIGINAL-URL:https://harvestfellowshipsc.com
X-WR-CALDESC:Events for Harvest Fellowship Church
REFRESH-INTERVAL;VALUE=DURATION:PT1H
X-Robots-Tag:noindex
X-PUBLISHED-TTL:PT1H
BEGIN:VTIMEZONE
TZID:UTC
BEGIN:STANDARD
TZOFFSETFROM:+0000
TZOFFSETTO:+0000
TZNAME:UTC
DTSTART:20240101T000000
END:STANDARD
END:VTIMEZONE
BEGIN:VEVENT
DTSTART;TZID=UTC:20251002T190000
DTEND;TZID=UTC:20251002T190000
DTSTAMP:20260420T142740
CREATED:20230205T185301Z
LAST-MODIFIED:20230205T185301Z
UID:10000526-1759431600-1759431600@harvestfellowshipsc.com
SUMMARY:Bible Study
DESCRIPTION:
URL:https://harvestfellowshipsc.com/event/bible-study/2025-10-02/
END:VEVENT
BEGIN:VEVENT
DTSTART;TZID=UTC:20251005T084500
DTEND;TZID=UTC:20251005T094500
DTSTAMP:20260420T142740
CREATED:20230205T190337Z
LAST-MODIFIED:20250709T230237Z
UID:10001163-1759653900-1759657500@harvestfellowshipsc.com
SUMMARY:Foundations I & II
DESCRIPTION:
URL:https://harvestfellowshipsc.com/event/foundations-ii/2025-10-05/
END:VEVENT
BEGIN:VEVENT
DTSTART;TZID=UTC:20251005T100000
DTEND;TZID=UTC:20251005T100000
DTSTAMP:20260420T142740
CREATED:20230205T185654Z
LAST-MODIFIED:20230205T191206Z
UID:10000845-1759658400-1759658400@harvestfellowshipsc.com
SUMMARY:Worship Service
DESCRIPTION:
URL:https://harvestfellowshipsc.com/event/worship-service/2025-10-05/
END:VEVENT
BEGIN:VEVENT
DTSTART;TZID=UTC:20251007T190000
DTEND;TZID=UTC:20251007T190000
DTSTAMP:20260420T142740
CREATED:20230205T184928Z
LAST-MODIFIED:20230205T185121Z
UID:10000152-1759863600-1759863600@harvestfellowshipsc.com
SUMMARY:Prayer
DESCRIPTION:
URL:https://harvestfellowshipsc.com/event/prayer/2025-10-07/
END:VEVENT
BEGIN:VEVENT
DTSTART;TZID=UTC:20251009T190000
DTEND;TZID=UTC:20251009T190000
DTSTAMP:20260420T142740
CREATED:20230205T185301Z
LAST-MODIFIED:20230205T185301Z
UID:10000527-1760036400-1760036400@harvestfellowshipsc.com
SUMMARY:Bible Study
DESCRIPTION:
URL:https://harvestfellowshipsc.com/event/bible-study/2025-10-09/
END:VEVENT
BEGIN:VEVENT
DTSTART;TZID=UTC:20251011T100000
DTEND;TZID=UTC:20251011T100000
DTSTAMP:20260420T142740
CREATED:20240409T004830Z
LAST-MODIFIED:20240409T005007Z
UID:10001370-1760176800-1760176800@harvestfellowshipsc.com
SUMMARY:Women's Meeting
DESCRIPTION:
URL:https://harvestfellowshipsc.com/event/womens-meeting/2025-10-11/
END:VEVENT
BEGIN:VEVENT
DTSTART;TZID=UTC:20251012T084500
DTEND;TZID=UTC:20251012T094500
DTSTAMP:20260420T142740
CREATED:20230205T190337Z
LAST-MODIFIED:20250709T230237Z
UID:10001164-1760258700-1760262300@harvestfellowshipsc.com
SUMMARY:Foundations I & II
DESCRIPTION:
URL:https://harvestfellowshipsc.com/event/foundations-ii/2025-10-12/
END:VEVENT
BEGIN:VEVENT
DTSTART;TZID=UTC:20251012T100000
DTEND;TZID=UTC:20251012T100000
DTSTAMP:20260420T142740
CREATED:20230205T185654Z
LAST-MODIFIED:20230205T191206Z
UID:10000846-1760263200-1760263200@harvestfellowshipsc.com
SUMMARY:Worship Service
DESCRIPTION:
URL:https://harvestfellowshipsc.com/event/worship-service/2025-10-12/
END:VEVENT
BEGIN:VEVENT
DTSTART;TZID=UTC:20251014T190000
DTEND;TZID=UTC:20251014T190000
DTSTAMP:20260420T142740
CREATED:20230205T184928Z
LAST-MODIFIED:20230205T185121Z
UID:10000153-1760468400-1760468400@harvestfellowshipsc.com
SUMMARY:Prayer
DESCRIPTION:
URL:https://harvestfellowshipsc.com/event/prayer/2025-10-14/
END:VEVENT
BEGIN:VEVENT
DTSTART;TZID=UTC:20251016T190000
DTEND;TZID=UTC:20251016T190000
DTSTAMP:20260420T142740
CREATED:20230205T185301Z
LAST-MODIFIED:20230205T185301Z
UID:10000528-1760641200-1760641200@harvestfellowshipsc.com
SUMMARY:Bible Study
DESCRIPTION:
URL:https://harvestfellowshipsc.com/event/bible-study/2025-10-16/
END:VEVENT
BEGIN:VEVENT
DTSTART;TZID=UTC:20251019T084500
DTEND;TZID=UTC:20251019T094500
DTSTAMP:20260420T142740
CREATED:20230205T190337Z
LAST-MODIFIED:20250709T230237Z
UID:10001165-1760863500-1760867100@harvestfellowshipsc.com
SUMMARY:Foundations I & II
DESCRIPTION:
URL:https://harvestfellowshipsc.com/event/foundations-ii/2025-10-19/
END:VEVENT
BEGIN:VEVENT
DTSTART;TZID=UTC:20251019T100000
DTEND;TZID=UTC:20251019T100000
DTSTAMP:20260420T142740
CREATED:20230205T185654Z
LAST-MODIFIED:20230205T191206Z
UID:10000847-1760868000-1760868000@harvestfellowshipsc.com
SUMMARY:Worship Service
DESCRIPTION:
URL:https://harvestfellowshipsc.com/event/worship-service/2025-10-19/
END:VEVENT
BEGIN:VEVENT
DTSTART;TZID=UTC:20251021T190000
DTEND;TZID=UTC:20251021T190000
DTSTAMP:20260420T142740
CREATED:20230205T184928Z
LAST-MODIFIED:20230205T185121Z
UID:10000154-1761073200-1761073200@harvestfellowshipsc.com
SUMMARY:Prayer
DESCRIPTION:
URL:https://harvestfellowshipsc.com/event/prayer/2025-10-21/
END:VEVENT
BEGIN:VEVENT
DTSTART;TZID=UTC:20251023T190000
DTEND;TZID=UTC:20251023T190000
DTSTAMP:20260420T142740
CREATED:20230205T185301Z
LAST-MODIFIED:20230205T185301Z
UID:10000529-1761246000-1761246000@harvestfellowshipsc.com
SUMMARY:Bible Study
DESCRIPTION:
URL:https://harvestfellowshipsc.com/event/bible-study/2025-10-23/
END:VEVENT
BEGIN:VEVENT
DTSTART;TZID=UTC:20251025T090000
DTEND;TZID=UTC:20251025T090000
DTSTAMP:20260420T142740
CREATED:20240409T004513Z
LAST-MODIFIED:20240409T004657Z
UID:10001310-1761382800-1761382800@harvestfellowshipsc.com
SUMMARY:Men's Meeting
DESCRIPTION:
URL:https://harvestfellowshipsc.com/event/mens-meeting/2025-10-25/
END:VEVENT
BEGIN:VEVENT
DTSTART;TZID=UTC:20251026T084500
DTEND;TZID=UTC:20251026T094500
DTSTAMP:20260420T142740
CREATED:20230205T190337Z
LAST-MODIFIED:20250709T230237Z
UID:10001166-1761468300-1761471900@harvestfellowshipsc.com
SUMMARY:Foundations I & II
DESCRIPTION:
URL:https://harvestfellowshipsc.com/event/foundations-ii/2025-10-26/
END:VEVENT
BEGIN:VEVENT
DTSTART;TZID=UTC:20251026T100000
DTEND;TZID=UTC:20251026T100000
DTSTAMP:20260420T142740
CREATED:20230205T185654Z
LAST-MODIFIED:20230205T191206Z
UID:10000848-1761472800-1761472800@harvestfellowshipsc.com
SUMMARY:Worship Service
DESCRIPTION:
URL:https://harvestfellowshipsc.com/event/worship-service/2025-10-26/
END:VEVENT
BEGIN:VEVENT
DTSTART;TZID=UTC:20251028T190000
DTEND;TZID=UTC:20251028T190000
DTSTAMP:20260420T142740
CREATED:20230205T184928Z
LAST-MODIFIED:20230205T185121Z
UID:10000155-1761678000-1761678000@harvestfellowshipsc.com
SUMMARY:Prayer
DESCRIPTION:
URL:https://harvestfellowshipsc.com/event/prayer/2025-10-28/
END:VEVENT
BEGIN:VEVENT
DTSTART;TZID=UTC:20251030T190000
DTEND;TZID=UTC:20251030T190000
DTSTAMP:20260420T142740
CREATED:20230205T185301Z
LAST-MODIFIED:20230205T185301Z
UID:10000530-1761850800-1761850800@harvestfellowshipsc.com
SUMMARY:Bible Study
DESCRIPTION:
URL:https://harvestfellowshipsc.com/event/bible-study/2025-10-30/
END:VEVENT
END:VCALENDAR