BEGIN:VCALENDAR
VERSION:2.0
PRODID:-//Harvest Fellowship Church - ECPv6.15.20//NONSGML v1.0//EN
CALSCALE:GREGORIAN
METHOD:PUBLISH
X-ORIGINAL-URL:https://harvestfellowshipsc.com
X-WR-CALDESC:Events for Harvest Fellowship Church
REFRESH-INTERVAL;VALUE=DURATION:PT1H
X-Robots-Tag:noindex
X-PUBLISHED-TTL:PT1H
BEGIN:VTIMEZONE
TZID:UTC
BEGIN:STANDARD
TZOFFSETFROM:+0000
TZOFFSETTO:+0000
TZNAME:UTC
DTSTART:20240101T000000
END:STANDARD
END:VTIMEZONE
BEGIN:VEVENT
DTSTART;TZID=UTC:20250803T084500
DTEND;TZID=UTC:20250803T094500
DTSTAMP:20260420T181217
CREATED:20230205T190337Z
LAST-MODIFIED:20250709T230237Z
UID:10001154-1754210700-1754214300@harvestfellowshipsc.com
SUMMARY:Foundations I & II
DESCRIPTION:
URL:https://harvestfellowshipsc.com/event/foundations-ii/2025-08-03/
END:VEVENT
BEGIN:VEVENT
DTSTART;TZID=UTC:20250803T100000
DTEND;TZID=UTC:20250803T100000
DTSTAMP:20260420T181217
CREATED:20230205T185654Z
LAST-MODIFIED:20230205T191206Z
UID:10000836-1754215200-1754215200@harvestfellowshipsc.com
SUMMARY:Worship Service
DESCRIPTION:
URL:https://harvestfellowshipsc.com/event/worship-service/2025-08-03/
END:VEVENT
BEGIN:VEVENT
DTSTART;TZID=UTC:20250805T190000
DTEND;TZID=UTC:20250805T190000
DTSTAMP:20260420T181217
CREATED:20230205T184928Z
LAST-MODIFIED:20230205T185121Z
UID:10000143-1754420400-1754420400@harvestfellowshipsc.com
SUMMARY:Prayer
DESCRIPTION:
URL:https://harvestfellowshipsc.com/event/prayer/2025-08-05/
END:VEVENT
BEGIN:VEVENT
DTSTART;TZID=UTC:20250807T190000
DTEND;TZID=UTC:20250807T190000
DTSTAMP:20260420T181217
CREATED:20230205T185301Z
LAST-MODIFIED:20230205T185301Z
UID:10000518-1754593200-1754593200@harvestfellowshipsc.com
SUMMARY:Bible Study
DESCRIPTION:
URL:https://harvestfellowshipsc.com/event/bible-study/2025-08-07/
END:VEVENT
BEGIN:VEVENT
DTSTART;TZID=UTC:20250809T100000
DTEND;TZID=UTC:20250809T100000
DTSTAMP:20260420T181217
CREATED:20240409T004830Z
LAST-MODIFIED:20240409T005007Z
UID:10001368-1754733600-1754733600@harvestfellowshipsc.com
SUMMARY:Women's Meeting
DESCRIPTION:
URL:https://harvestfellowshipsc.com/event/womens-meeting/2025-08-09/
END:VEVENT
BEGIN:VEVENT
DTSTART;TZID=UTC:20250810T084500
DTEND;TZID=UTC:20250810T094500
DTSTAMP:20260420T181217
CREATED:20230205T190337Z
LAST-MODIFIED:20250709T230237Z
UID:10001155-1754815500-1754819100@harvestfellowshipsc.com
SUMMARY:Foundations I & II
DESCRIPTION:
URL:https://harvestfellowshipsc.com/event/foundations-ii/2025-08-10/
END:VEVENT
BEGIN:VEVENT
DTSTART;TZID=UTC:20250810T100000
DTEND;TZID=UTC:20250810T100000
DTSTAMP:20260420T181217
CREATED:20230205T185654Z
LAST-MODIFIED:20230205T191206Z
UID:10000837-1754820000-1754820000@harvestfellowshipsc.com
SUMMARY:Worship Service
DESCRIPTION:
URL:https://harvestfellowshipsc.com/event/worship-service/2025-08-10/
END:VEVENT
BEGIN:VEVENT
DTSTART;TZID=UTC:20250812T190000
DTEND;TZID=UTC:20250812T190000
DTSTAMP:20260420T181217
CREATED:20230205T184928Z
LAST-MODIFIED:20230205T185121Z
UID:10000144-1755025200-1755025200@harvestfellowshipsc.com
SUMMARY:Prayer
DESCRIPTION:
URL:https://harvestfellowshipsc.com/event/prayer/2025-08-12/
END:VEVENT
BEGIN:VEVENT
DTSTART;TZID=UTC:20250814T190000
DTEND;TZID=UTC:20250814T190000
DTSTAMP:20260420T181217
CREATED:20230205T185301Z
LAST-MODIFIED:20230205T185301Z
UID:10000519-1755198000-1755198000@harvestfellowshipsc.com
SUMMARY:Bible Study
DESCRIPTION:
URL:https://harvestfellowshipsc.com/event/bible-study/2025-08-14/
END:VEVENT
BEGIN:VEVENT
DTSTART;TZID=UTC:20250816T100000
DTEND;TZID=UTC:20250816T120000
DTSTAMP:20260420T181217
CREATED:20250408T231901Z
LAST-MODIFIED:20250622T225519Z
UID:10001902-1755338400-1755345600@harvestfellowshipsc.com
SUMMARY:Drive Thru Prayer
DESCRIPTION:
URL:https://harvestfellowshipsc.com/event/drive-thru-prayer-2/2025-08-16/
END:VEVENT
BEGIN:VEVENT
DTSTART;TZID=UTC:20250817T084500
DTEND;TZID=UTC:20250817T094500
DTSTAMP:20260420T181217
CREATED:20230205T190337Z
LAST-MODIFIED:20250709T230237Z
UID:10001156-1755420300-1755423900@harvestfellowshipsc.com
SUMMARY:Foundations I & II
DESCRIPTION:
URL:https://harvestfellowshipsc.com/event/foundations-ii/2025-08-17/
END:VEVENT
BEGIN:VEVENT
DTSTART;TZID=UTC:20250817T100000
DTEND;TZID=UTC:20250817T100000
DTSTAMP:20260420T181217
CREATED:20230205T185654Z
LAST-MODIFIED:20230205T191206Z
UID:10000838-1755424800-1755424800@harvestfellowshipsc.com
SUMMARY:Worship Service
DESCRIPTION:
URL:https://harvestfellowshipsc.com/event/worship-service/2025-08-17/
END:VEVENT
BEGIN:VEVENT
DTSTART;TZID=UTC:20250819T190000
DTEND;TZID=UTC:20250819T190000
DTSTAMP:20260420T181217
CREATED:20230205T184928Z
LAST-MODIFIED:20230205T185121Z
UID:10000145-1755630000-1755630000@harvestfellowshipsc.com
SUMMARY:Prayer
DESCRIPTION:
URL:https://harvestfellowshipsc.com/event/prayer/2025-08-19/
END:VEVENT
BEGIN:VEVENT
DTSTART;TZID=UTC:20250821T190000
DTEND;TZID=UTC:20250821T190000
DTSTAMP:20260420T181217
CREATED:20230205T185301Z
LAST-MODIFIED:20230205T185301Z
UID:10000520-1755802800-1755802800@harvestfellowshipsc.com
SUMMARY:Bible Study
DESCRIPTION:
URL:https://harvestfellowshipsc.com/event/bible-study/2025-08-21/
END:VEVENT
BEGIN:VEVENT
DTSTART;TZID=UTC:20250823T090000
DTEND;TZID=UTC:20250823T090000
DTSTAMP:20260420T181217
CREATED:20240409T004513Z
LAST-MODIFIED:20240409T004657Z
UID:10001308-1755939600-1755939600@harvestfellowshipsc.com
SUMMARY:Men's Meeting
DESCRIPTION:
URL:https://harvestfellowshipsc.com/event/mens-meeting/2025-08-23/
END:VEVENT
BEGIN:VEVENT
DTSTART;TZID=UTC:20250824T084500
DTEND;TZID=UTC:20250824T094500
DTSTAMP:20260420T181217
CREATED:20230205T190337Z
LAST-MODIFIED:20250709T230237Z
UID:10001157-1756025100-1756028700@harvestfellowshipsc.com
SUMMARY:Foundations I & II
DESCRIPTION:
URL:https://harvestfellowshipsc.com/event/foundations-ii/2025-08-24/
END:VEVENT
BEGIN:VEVENT
DTSTART;TZID=UTC:20250824T100000
DTEND;TZID=UTC:20250824T100000
DTSTAMP:20260420T181217
CREATED:20230205T185654Z
LAST-MODIFIED:20230205T191206Z
UID:10000839-1756029600-1756029600@harvestfellowshipsc.com
SUMMARY:Worship Service
DESCRIPTION:
URL:https://harvestfellowshipsc.com/event/worship-service/2025-08-24/
END:VEVENT
BEGIN:VEVENT
DTSTART;TZID=UTC:20250826T190000
DTEND;TZID=UTC:20250826T190000
DTSTAMP:20260420T181217
CREATED:20230205T184928Z
LAST-MODIFIED:20230205T185121Z
UID:10000146-1756234800-1756234800@harvestfellowshipsc.com
SUMMARY:Prayer
DESCRIPTION:
URL:https://harvestfellowshipsc.com/event/prayer/2025-08-26/
END:VEVENT
BEGIN:VEVENT
DTSTART;TZID=UTC:20250828T190000
DTEND;TZID=UTC:20250828T190000
DTSTAMP:20260420T181217
CREATED:20230205T185301Z
LAST-MODIFIED:20230205T185301Z
UID:10000521-1756407600-1756407600@harvestfellowshipsc.com
SUMMARY:Bible Study
DESCRIPTION:
URL:https://harvestfellowshipsc.com/event/bible-study/2025-08-28/
END:VEVENT
BEGIN:VEVENT
DTSTART;TZID=UTC:20250831T084500
DTEND;TZID=UTC:20250831T094500
DTSTAMP:20260420T181217
CREATED:20230205T190337Z
LAST-MODIFIED:20250709T230237Z
UID:10001158-1756629900-1756633500@harvestfellowshipsc.com
SUMMARY:Foundations I & II
DESCRIPTION:
URL:https://harvestfellowshipsc.com/event/foundations-ii/2025-08-31/
END:VEVENT
BEGIN:VEVENT
DTSTART;TZID=UTC:20250831T100000
DTEND;TZID=UTC:20250831T100000
DTSTAMP:20260420T181217
CREATED:20230205T185654Z
LAST-MODIFIED:20230205T191206Z
UID:10000840-1756634400-1756634400@harvestfellowshipsc.com
SUMMARY:Worship Service
DESCRIPTION:
URL:https://harvestfellowshipsc.com/event/worship-service/2025-08-31/
END:VEVENT
END:VCALENDAR