BEGIN:VCALENDAR
VERSION:2.0
PRODID:-//Harvest Fellowship Church - ECPv6.15.20//NONSGML v1.0//EN
CALSCALE:GREGORIAN
METHOD:PUBLISH
X-WR-CALNAME:Harvest Fellowship Church
X-ORIGINAL-URL:https://harvestfellowshipsc.com
X-WR-CALDESC:Events for Harvest Fellowship Church
REFRESH-INTERVAL;VALUE=DURATION:PT1H
X-Robots-Tag:noindex
X-PUBLISHED-TTL:PT1H
BEGIN:VTIMEZONE
TZID:UTC
BEGIN:STANDARD
TZOFFSETFROM:+0000
TZOFFSETTO:+0000
TZNAME:UTC
DTSTART:20240101T000000
END:STANDARD
END:VTIMEZONE
BEGIN:VEVENT
DTSTART;TZID=UTC:20250601T084500
DTEND;TZID=UTC:20250601T094500
DTSTAMP:20260420T215539
CREATED:20230205T190337Z
LAST-MODIFIED:20250709T230237Z
UID:10001145-1748767500-1748771100@harvestfellowshipsc.com
SUMMARY:Foundations I & II
DESCRIPTION:
URL:https://harvestfellowshipsc.com/event/foundations-ii/2025-06-01/
END:VEVENT
BEGIN:VEVENT
DTSTART;TZID=UTC:20250601T100000
DTEND;TZID=UTC:20250601T100000
DTSTAMP:20260420T215539
CREATED:20230205T185654Z
LAST-MODIFIED:20230205T191206Z
UID:10000827-1748772000-1748772000@harvestfellowshipsc.com
SUMMARY:Worship Service
DESCRIPTION:
URL:https://harvestfellowshipsc.com/event/worship-service/2025-06-01/
END:VEVENT
BEGIN:VEVENT
DTSTART;TZID=UTC:20250603T190000
DTEND;TZID=UTC:20250603T190000
DTSTAMP:20260420T215539
CREATED:20230205T184928Z
LAST-MODIFIED:20230205T185121Z
UID:10000134-1748977200-1748977200@harvestfellowshipsc.com
SUMMARY:Prayer
DESCRIPTION:
URL:https://harvestfellowshipsc.com/event/prayer/2025-06-03/
END:VEVENT
BEGIN:VEVENT
DTSTART;TZID=UTC:20250605T190000
DTEND;TZID=UTC:20250605T190000
DTSTAMP:20260420T215539
CREATED:20230205T185301Z
LAST-MODIFIED:20230205T185301Z
UID:10000509-1749150000-1749150000@harvestfellowshipsc.com
SUMMARY:Bible Study
DESCRIPTION:
URL:https://harvestfellowshipsc.com/event/bible-study/2025-06-05/
END:VEVENT
BEGIN:VEVENT
DTSTART;TZID=UTC:20250608T084500
DTEND;TZID=UTC:20250608T094500
DTSTAMP:20260420T215539
CREATED:20230205T190337Z
LAST-MODIFIED:20250709T230237Z
UID:10001146-1749372300-1749375900@harvestfellowshipsc.com
SUMMARY:Foundations I & II
DESCRIPTION:
URL:https://harvestfellowshipsc.com/event/foundations-ii/2025-06-08/
END:VEVENT
BEGIN:VEVENT
DTSTART;TZID=UTC:20250608T100000
DTEND;TZID=UTC:20250608T100000
DTSTAMP:20260420T215539
CREATED:20230205T185654Z
LAST-MODIFIED:20230205T191206Z
UID:10000828-1749376800-1749376800@harvestfellowshipsc.com
SUMMARY:Worship Service
DESCRIPTION:
URL:https://harvestfellowshipsc.com/event/worship-service/2025-06-08/
END:VEVENT
BEGIN:VEVENT
DTSTART;TZID=UTC:20250610T190000
DTEND;TZID=UTC:20250610T190000
DTSTAMP:20260420T215539
CREATED:20230205T184928Z
LAST-MODIFIED:20230205T185121Z
UID:10000135-1749582000-1749582000@harvestfellowshipsc.com
SUMMARY:Prayer
DESCRIPTION:
URL:https://harvestfellowshipsc.com/event/prayer/2025-06-10/
END:VEVENT
BEGIN:VEVENT
DTSTART;TZID=UTC:20250612T190000
DTEND;TZID=UTC:20250612T190000
DTSTAMP:20260420T215539
CREATED:20230205T185301Z
LAST-MODIFIED:20230205T185301Z
UID:10000510-1749754800-1749754800@harvestfellowshipsc.com
SUMMARY:Bible Study
DESCRIPTION:
URL:https://harvestfellowshipsc.com/event/bible-study/2025-06-12/
END:VEVENT
BEGIN:VEVENT
DTSTART;TZID=UTC:20250614T100000
DTEND;TZID=UTC:20250614T100000
DTSTAMP:20260420T215539
CREATED:20250709T230047Z
LAST-MODIFIED:20250709T230047Z
UID:10002219-1749895200-1749895200@harvestfellowshipsc.com
SUMMARY:Women's Meeting
DESCRIPTION:
URL:https://harvestfellowshipsc.com/event/womens-meeting-3/
END:VEVENT
BEGIN:VEVENT
DTSTART;TZID=UTC:20250615T084500
DTEND;TZID=UTC:20250615T094500
DTSTAMP:20260420T215539
CREATED:20230205T190337Z
LAST-MODIFIED:20250709T230237Z
UID:10001147-1749977100-1749980700@harvestfellowshipsc.com
SUMMARY:Foundations I & II
DESCRIPTION:
URL:https://harvestfellowshipsc.com/event/foundations-ii/2025-06-15/
END:VEVENT
BEGIN:VEVENT
DTSTART;TZID=UTC:20250615T100000
DTEND;TZID=UTC:20250615T100000
DTSTAMP:20260420T215539
CREATED:20230205T185654Z
LAST-MODIFIED:20230205T191206Z
UID:10000829-1749981600-1749981600@harvestfellowshipsc.com
SUMMARY:Worship Service
DESCRIPTION:
URL:https://harvestfellowshipsc.com/event/worship-service/2025-06-15/
END:VEVENT
BEGIN:VEVENT
DTSTART;TZID=UTC:20250617T190000
DTEND;TZID=UTC:20250617T190000
DTSTAMP:20260420T215539
CREATED:20230205T184928Z
LAST-MODIFIED:20230205T185121Z
UID:10000136-1750186800-1750186800@harvestfellowshipsc.com
SUMMARY:Prayer
DESCRIPTION:
URL:https://harvestfellowshipsc.com/event/prayer/2025-06-17/
END:VEVENT
BEGIN:VEVENT
DTSTART;TZID=UTC:20250619T190000
DTEND;TZID=UTC:20250619T190000
DTSTAMP:20260420T215539
CREATED:20230205T185301Z
LAST-MODIFIED:20230205T185301Z
UID:10000511-1750359600-1750359600@harvestfellowshipsc.com
SUMMARY:Bible Study
DESCRIPTION:
URL:https://harvestfellowshipsc.com/event/bible-study/2025-06-19/
END:VEVENT
BEGIN:VEVENT
DTSTART;TZID=UTC:20250621T100000
DTEND;TZID=UTC:20250621T120000
DTSTAMP:20260420T215539
CREATED:20250408T231901Z
LAST-MODIFIED:20250622T225519Z
UID:10001900-1750500000-1750507200@harvestfellowshipsc.com
SUMMARY:Drive Thru Prayer
DESCRIPTION:
URL:https://harvestfellowshipsc.com/event/drive-thru-prayer-2/2025-06-21/
END:VEVENT
BEGIN:VEVENT
DTSTART;TZID=UTC:20250622T084500
DTEND;TZID=UTC:20250622T094500
DTSTAMP:20260420T215540
CREATED:20230205T190337Z
LAST-MODIFIED:20250709T230237Z
UID:10001148-1750581900-1750585500@harvestfellowshipsc.com
SUMMARY:Foundations I & II
DESCRIPTION:
URL:https://harvestfellowshipsc.com/event/foundations-ii/2025-06-22/
END:VEVENT
BEGIN:VEVENT
DTSTART;TZID=UTC:20250622T100000
DTEND;TZID=UTC:20250622T100000
DTSTAMP:20260420T215540
CREATED:20230205T185654Z
LAST-MODIFIED:20230205T191206Z
UID:10000830-1750586400-1750586400@harvestfellowshipsc.com
SUMMARY:Worship Service
DESCRIPTION:
URL:https://harvestfellowshipsc.com/event/worship-service/2025-06-22/
END:VEVENT
BEGIN:VEVENT
DTSTART;TZID=UTC:20250624T190000
DTEND;TZID=UTC:20250624T190000
DTSTAMP:20260420T215540
CREATED:20230205T184928Z
LAST-MODIFIED:20230205T185121Z
UID:10000137-1750791600-1750791600@harvestfellowshipsc.com
SUMMARY:Prayer
DESCRIPTION:
URL:https://harvestfellowshipsc.com/event/prayer/2025-06-24/
END:VEVENT
BEGIN:VEVENT
DTSTART;TZID=UTC:20250626T190000
DTEND;TZID=UTC:20250626T190000
DTSTAMP:20260420T215540
CREATED:20230205T185301Z
LAST-MODIFIED:20230205T185301Z
UID:10000512-1750964400-1750964400@harvestfellowshipsc.com
SUMMARY:Bible Study
DESCRIPTION:
URL:https://harvestfellowshipsc.com/event/bible-study/2025-06-26/
END:VEVENT
BEGIN:VEVENT
DTSTART;TZID=UTC:20250628T090000
DTEND;TZID=UTC:20250628T090000
DTSTAMP:20260420T215540
CREATED:20240409T004513Z
LAST-MODIFIED:20240409T004657Z
UID:10001306-1751101200-1751101200@harvestfellowshipsc.com
SUMMARY:Men's Meeting
DESCRIPTION:
URL:https://harvestfellowshipsc.com/event/mens-meeting/2025-06-28/
END:VEVENT
BEGIN:VEVENT
DTSTART;TZID=UTC:20250629T084500
DTEND;TZID=UTC:20250629T094500
DTSTAMP:20260420T215540
CREATED:20230205T190337Z
LAST-MODIFIED:20250709T230237Z
UID:10001149-1751186700-1751190300@harvestfellowshipsc.com
SUMMARY:Foundations I & II
DESCRIPTION:
URL:https://harvestfellowshipsc.com/event/foundations-ii/2025-06-29/
END:VEVENT
BEGIN:VEVENT
DTSTART;TZID=UTC:20250629T100000
DTEND;TZID=UTC:20250629T100000
DTSTAMP:20260420T215540
CREATED:20230205T185654Z
LAST-MODIFIED:20230205T191206Z
UID:10000831-1751191200-1751191200@harvestfellowshipsc.com
SUMMARY:Worship Service
DESCRIPTION:
URL:https://harvestfellowshipsc.com/event/worship-service/2025-06-29/
END:VEVENT
END:VCALENDAR