BEGIN:VCALENDAR
VERSION:2.0
PRODID:-//Harvest Fellowship Church - ECPv6.15.20//NONSGML v1.0//EN
CALSCALE:GREGORIAN
METHOD:PUBLISH
X-ORIGINAL-URL:https://harvestfellowshipsc.com
X-WR-CALDESC:Events for Harvest Fellowship Church
REFRESH-INTERVAL;VALUE=DURATION:PT1H
X-Robots-Tag:noindex
X-PUBLISHED-TTL:PT1H
BEGIN:VTIMEZONE
TZID:UTC
BEGIN:STANDARD
TZOFFSETFROM:+0000
TZOFFSETTO:+0000
TZNAME:UTC
DTSTART:20240101T000000
END:STANDARD
END:VTIMEZONE
BEGIN:VEVENT
DTSTART;TZID=UTC:20250501T190000
DTEND;TZID=UTC:20250501T190000
DTSTAMP:20260421T034826
CREATED:20230205T185301Z
LAST-MODIFIED:20230205T185301Z
UID:10000504-1746126000-1746126000@harvestfellowshipsc.com
SUMMARY:Bible Study
DESCRIPTION:
URL:https://harvestfellowshipsc.com/event/bible-study/2025-05-01/
END:VEVENT
BEGIN:VEVENT
DTSTART;TZID=UTC:20250504T084500
DTEND;TZID=UTC:20250504T094500
DTSTAMP:20260421T034826
CREATED:20230205T190337Z
LAST-MODIFIED:20250709T230237Z
UID:10001141-1746348300-1746351900@harvestfellowshipsc.com
SUMMARY:Foundations I & II
DESCRIPTION:
URL:https://harvestfellowshipsc.com/event/foundations-ii/2025-05-04/
END:VEVENT
BEGIN:VEVENT
DTSTART;TZID=UTC:20250504T100000
DTEND;TZID=UTC:20250504T100000
DTSTAMP:20260421T034826
CREATED:20230205T185654Z
LAST-MODIFIED:20230205T191206Z
UID:10000823-1746352800-1746352800@harvestfellowshipsc.com
SUMMARY:Worship Service
DESCRIPTION:
URL:https://harvestfellowshipsc.com/event/worship-service/2025-05-04/
END:VEVENT
BEGIN:VEVENT
DTSTART;TZID=UTC:20250506T190000
DTEND;TZID=UTC:20250506T190000
DTSTAMP:20260421T034826
CREATED:20230205T184928Z
LAST-MODIFIED:20230205T185121Z
UID:10000130-1746558000-1746558000@harvestfellowshipsc.com
SUMMARY:Prayer
DESCRIPTION:
URL:https://harvestfellowshipsc.com/event/prayer/2025-05-06/
END:VEVENT
BEGIN:VEVENT
DTSTART;TZID=UTC:20250508T190000
DTEND;TZID=UTC:20250508T190000
DTSTAMP:20260421T034826
CREATED:20230205T185301Z
LAST-MODIFIED:20230205T185301Z
UID:10000505-1746730800-1746730800@harvestfellowshipsc.com
SUMMARY:Bible Study
DESCRIPTION:
URL:https://harvestfellowshipsc.com/event/bible-study/2025-05-08/
END:VEVENT
BEGIN:VEVENT
DTSTART;TZID=UTC:20250510T100000
DTEND;TZID=UTC:20250510T100000
DTSTAMP:20260421T034826
CREATED:20240409T004830Z
LAST-MODIFIED:20240409T005007Z
UID:10001365-1746871200-1746871200@harvestfellowshipsc.com
SUMMARY:Women's Meeting
DESCRIPTION:
URL:https://harvestfellowshipsc.com/event/womens-meeting/2025-05-10/
END:VEVENT
BEGIN:VEVENT
DTSTART;TZID=UTC:20250511T084500
DTEND;TZID=UTC:20250511T094500
DTSTAMP:20260421T034826
CREATED:20230205T190337Z
LAST-MODIFIED:20250709T230237Z
UID:10001142-1746953100-1746956700@harvestfellowshipsc.com
SUMMARY:Foundations I & II
DESCRIPTION:
URL:https://harvestfellowshipsc.com/event/foundations-ii/2025-05-11/
END:VEVENT
BEGIN:VEVENT
DTSTART;TZID=UTC:20250511T100000
DTEND;TZID=UTC:20250511T100000
DTSTAMP:20260421T034826
CREATED:20230205T185654Z
LAST-MODIFIED:20230205T191206Z
UID:10000824-1746957600-1746957600@harvestfellowshipsc.com
SUMMARY:Worship Service
DESCRIPTION:
URL:https://harvestfellowshipsc.com/event/worship-service/2025-05-11/
END:VEVENT
BEGIN:VEVENT
DTSTART;TZID=UTC:20250513T190000
DTEND;TZID=UTC:20250513T190000
DTSTAMP:20260421T034826
CREATED:20230205T184928Z
LAST-MODIFIED:20230205T185121Z
UID:10000131-1747162800-1747162800@harvestfellowshipsc.com
SUMMARY:Prayer
DESCRIPTION:
URL:https://harvestfellowshipsc.com/event/prayer/2025-05-13/
END:VEVENT
BEGIN:VEVENT
DTSTART;TZID=UTC:20250515T190000
DTEND;TZID=UTC:20250515T190000
DTSTAMP:20260421T034826
CREATED:20230205T185301Z
LAST-MODIFIED:20230205T185301Z
UID:10000506-1747335600-1747335600@harvestfellowshipsc.com
SUMMARY:Bible Study
DESCRIPTION:
URL:https://harvestfellowshipsc.com/event/bible-study/2025-05-15/
END:VEVENT
BEGIN:VEVENT
DTSTART;TZID=UTC:20250517T100000
DTEND;TZID=UTC:20250517T120000
DTSTAMP:20260421T034826
CREATED:20250408T231901Z
LAST-MODIFIED:20250622T225519Z
UID:10001899-1747476000-1747483200@harvestfellowshipsc.com
SUMMARY:Drive Thru Prayer
DESCRIPTION:
URL:https://harvestfellowshipsc.com/event/drive-thru-prayer-2/2025-05-17/
END:VEVENT
BEGIN:VEVENT
DTSTART;TZID=UTC:20250518T084500
DTEND;TZID=UTC:20250518T094500
DTSTAMP:20260421T034826
CREATED:20230205T190337Z
LAST-MODIFIED:20250709T230237Z
UID:10001143-1747557900-1747561500@harvestfellowshipsc.com
SUMMARY:Foundations I & II
DESCRIPTION:
URL:https://harvestfellowshipsc.com/event/foundations-ii/2025-05-18/
END:VEVENT
BEGIN:VEVENT
DTSTART;TZID=UTC:20250518T100000
DTEND;TZID=UTC:20250518T100000
DTSTAMP:20260421T034826
CREATED:20230205T185654Z
LAST-MODIFIED:20230205T191206Z
UID:10000825-1747562400-1747562400@harvestfellowshipsc.com
SUMMARY:Worship Service
DESCRIPTION:
URL:https://harvestfellowshipsc.com/event/worship-service/2025-05-18/
END:VEVENT
BEGIN:VEVENT
DTSTART;TZID=UTC:20250520T190000
DTEND;TZID=UTC:20250520T190000
DTSTAMP:20260421T034826
CREATED:20230205T184928Z
LAST-MODIFIED:20230205T185121Z
UID:10000132-1747767600-1747767600@harvestfellowshipsc.com
SUMMARY:Prayer
DESCRIPTION:
URL:https://harvestfellowshipsc.com/event/prayer/2025-05-20/
END:VEVENT
BEGIN:VEVENT
DTSTART;TZID=UTC:20250522T190000
DTEND;TZID=UTC:20250522T190000
DTSTAMP:20260421T034826
CREATED:20230205T185301Z
LAST-MODIFIED:20230205T185301Z
UID:10000507-1747940400-1747940400@harvestfellowshipsc.com
SUMMARY:Bible Study
DESCRIPTION:
URL:https://harvestfellowshipsc.com/event/bible-study/2025-05-22/
END:VEVENT
BEGIN:VEVENT
DTSTART;TZID=UTC:20250524T090000
DTEND;TZID=UTC:20250524T090000
DTSTAMP:20260421T034826
CREATED:20240409T004513Z
LAST-MODIFIED:20240409T004657Z
UID:10001305-1748077200-1748077200@harvestfellowshipsc.com
SUMMARY:Men's Meeting
DESCRIPTION:
URL:https://harvestfellowshipsc.com/event/mens-meeting/2025-05-24/
END:VEVENT
BEGIN:VEVENT
DTSTART;TZID=UTC:20250525T084500
DTEND;TZID=UTC:20250525T094500
DTSTAMP:20260421T034826
CREATED:20230205T190337Z
LAST-MODIFIED:20250709T230237Z
UID:10001144-1748162700-1748166300@harvestfellowshipsc.com
SUMMARY:Foundations I & II
DESCRIPTION:
URL:https://harvestfellowshipsc.com/event/foundations-ii/2025-05-25/
END:VEVENT
BEGIN:VEVENT
DTSTART;TZID=UTC:20250525T100000
DTEND;TZID=UTC:20250525T100000
DTSTAMP:20260421T034826
CREATED:20230205T185654Z
LAST-MODIFIED:20230205T191206Z
UID:10000826-1748167200-1748167200@harvestfellowshipsc.com
SUMMARY:Worship Service
DESCRIPTION:
URL:https://harvestfellowshipsc.com/event/worship-service/2025-05-25/
END:VEVENT
BEGIN:VEVENT
DTSTART;TZID=UTC:20250527T190000
DTEND;TZID=UTC:20250527T190000
DTSTAMP:20260421T034826
CREATED:20230205T184928Z
LAST-MODIFIED:20230205T185121Z
UID:10000133-1748372400-1748372400@harvestfellowshipsc.com
SUMMARY:Prayer
DESCRIPTION:
URL:https://harvestfellowshipsc.com/event/prayer/2025-05-27/
END:VEVENT
BEGIN:VEVENT
DTSTART;TZID=UTC:20250529T190000
DTEND;TZID=UTC:20250529T190000
DTSTAMP:20260421T034826
CREATED:20230205T185301Z
LAST-MODIFIED:20230205T185301Z
UID:10000508-1748545200-1748545200@harvestfellowshipsc.com
SUMMARY:Bible Study
DESCRIPTION:
URL:https://harvestfellowshipsc.com/event/bible-study/2025-05-29/
END:VEVENT
END:VCALENDAR