BEGIN:VCALENDAR
VERSION:2.0
PRODID:-//Harvest Fellowship Church - ECPv6.15.20//NONSGML v1.0//EN
CALSCALE:GREGORIAN
METHOD:PUBLISH
X-ORIGINAL-URL:https://harvestfellowshipsc.com
X-WR-CALDESC:Events for Harvest Fellowship Church
REFRESH-INTERVAL;VALUE=DURATION:PT1H
X-Robots-Tag:noindex
X-PUBLISHED-TTL:PT1H
BEGIN:VTIMEZONE
TZID:UTC
BEGIN:STANDARD
TZOFFSETFROM:+0000
TZOFFSETTO:+0000
TZNAME:UTC
DTSTART:20240101T000000
END:STANDARD
END:VTIMEZONE
BEGIN:VEVENT
DTSTART;TZID=UTC:20250401T190000
DTEND;TZID=UTC:20250401T190000
DTSTAMP:20260421T053439
CREATED:20230205T184928Z
LAST-MODIFIED:20230205T185121Z
UID:10000125-1743534000-1743534000@harvestfellowshipsc.com
SUMMARY:Prayer
DESCRIPTION:
URL:https://harvestfellowshipsc.com/event/prayer/2025-04-01/
END:VEVENT
BEGIN:VEVENT
DTSTART;TZID=UTC:20250403T190000
DTEND;TZID=UTC:20250403T190000
DTSTAMP:20260421T053439
CREATED:20230205T185301Z
LAST-MODIFIED:20230205T185301Z
UID:10000500-1743706800-1743706800@harvestfellowshipsc.com
SUMMARY:Bible Study
DESCRIPTION:
URL:https://harvestfellowshipsc.com/event/bible-study/2025-04-03/
END:VEVENT
BEGIN:VEVENT
DTSTART;TZID=UTC:20250406T084500
DTEND;TZID=UTC:20250406T094500
DTSTAMP:20260421T053439
CREATED:20230205T190337Z
LAST-MODIFIED:20250709T230237Z
UID:10001137-1743929100-1743932700@harvestfellowshipsc.com
SUMMARY:Foundations I & II
DESCRIPTION:
URL:https://harvestfellowshipsc.com/event/foundations-ii/2025-04-06/
END:VEVENT
BEGIN:VEVENT
DTSTART;TZID=UTC:20250406T100000
DTEND;TZID=UTC:20250406T100000
DTSTAMP:20260421T053439
CREATED:20230205T185654Z
LAST-MODIFIED:20230205T191206Z
UID:10000819-1743933600-1743933600@harvestfellowshipsc.com
SUMMARY:Worship Service
DESCRIPTION:
URL:https://harvestfellowshipsc.com/event/worship-service/2025-04-06/
END:VEVENT
BEGIN:VEVENT
DTSTART;TZID=UTC:20250408T190000
DTEND;TZID=UTC:20250408T190000
DTSTAMP:20260421T053439
CREATED:20230205T184928Z
LAST-MODIFIED:20230205T185121Z
UID:10000126-1744138800-1744138800@harvestfellowshipsc.com
SUMMARY:Prayer
DESCRIPTION:
URL:https://harvestfellowshipsc.com/event/prayer/2025-04-08/
END:VEVENT
BEGIN:VEVENT
DTSTART;TZID=UTC:20250410T190000
DTEND;TZID=UTC:20250410T190000
DTSTAMP:20260421T053439
CREATED:20250408T232600Z
LAST-MODIFIED:20250408T232600Z
UID:10000501-1744311600-1744311600@harvestfellowshipsc.com
SUMMARY:Bible Study (Zoom only-message for more info)
DESCRIPTION:
URL:https://harvestfellowshipsc.com/event/bible-study-2/
END:VEVENT
BEGIN:VEVENT
DTSTART;TZID=UTC:20250412T100000
DTEND;TZID=UTC:20250412T100000
DTSTAMP:20260421T053439
CREATED:20240409T004830Z
LAST-MODIFIED:20240409T005007Z
UID:10001364-1744452000-1744452000@harvestfellowshipsc.com
SUMMARY:Women's Meeting
DESCRIPTION:
URL:https://harvestfellowshipsc.com/event/womens-meeting/2025-04-12/
END:VEVENT
BEGIN:VEVENT
DTSTART;TZID=UTC:20250413T084500
DTEND;TZID=UTC:20250413T094500
DTSTAMP:20260421T053439
CREATED:20230205T190337Z
LAST-MODIFIED:20250709T230237Z
UID:10001138-1744533900-1744537500@harvestfellowshipsc.com
SUMMARY:Foundations I & II
DESCRIPTION:
URL:https://harvestfellowshipsc.com/event/foundations-ii/2025-04-13/
END:VEVENT
BEGIN:VEVENT
DTSTART;TZID=UTC:20250413T100000
DTEND;TZID=UTC:20250413T100000
DTSTAMP:20260421T053439
CREATED:20230205T185654Z
LAST-MODIFIED:20230205T191206Z
UID:10000820-1744538400-1744538400@harvestfellowshipsc.com
SUMMARY:Worship Service
DESCRIPTION:
URL:https://harvestfellowshipsc.com/event/worship-service/2025-04-13/
END:VEVENT
BEGIN:VEVENT
DTSTART;TZID=UTC:20250415T190000
DTEND;TZID=UTC:20250415T190000
DTSTAMP:20260421T053439
CREATED:20230205T184928Z
LAST-MODIFIED:20230205T185121Z
UID:10000127-1744743600-1744743600@harvestfellowshipsc.com
SUMMARY:Prayer
DESCRIPTION:
URL:https://harvestfellowshipsc.com/event/prayer/2025-04-15/
END:VEVENT
BEGIN:VEVENT
DTSTART;TZID=UTC:20250417T190000
DTEND;TZID=UTC:20250417T190000
DTSTAMP:20260421T053439
CREATED:20230205T185301Z
LAST-MODIFIED:20230205T185301Z
UID:10000502-1744916400-1744916400@harvestfellowshipsc.com
SUMMARY:Bible Study
DESCRIPTION:
URL:https://harvestfellowshipsc.com/event/bible-study/2025-04-17/
END:VEVENT
BEGIN:VEVENT
DTSTART;TZID=UTC:20250419T100000
DTEND;TZID=UTC:20250419T120000
DTSTAMP:20260421T053439
CREATED:20250408T231901Z
LAST-MODIFIED:20250622T225519Z
UID:10001416-1745056800-1745064000@harvestfellowshipsc.com
SUMMARY:Drive Thru Prayer
DESCRIPTION:
URL:https://harvestfellowshipsc.com/event/drive-thru-prayer-2/2025-04-19/
END:VEVENT
BEGIN:VEVENT
DTSTART;TZID=UTC:20250420T084500
DTEND;TZID=UTC:20250420T094500
DTSTAMP:20260421T053439
CREATED:20230205T190337Z
LAST-MODIFIED:20250709T230237Z
UID:10001139-1745138700-1745142300@harvestfellowshipsc.com
SUMMARY:Foundations I & II
DESCRIPTION:
URL:https://harvestfellowshipsc.com/event/foundations-ii/2025-04-20/
END:VEVENT
BEGIN:VEVENT
DTSTART;TZID=UTC:20250420T100000
DTEND;TZID=UTC:20250420T100000
DTSTAMP:20260421T053439
CREATED:20230205T185654Z
LAST-MODIFIED:20230205T191206Z
UID:10000821-1745143200-1745143200@harvestfellowshipsc.com
SUMMARY:Worship Service
DESCRIPTION:
URL:https://harvestfellowshipsc.com/event/worship-service/2025-04-20/
END:VEVENT
BEGIN:VEVENT
DTSTART;TZID=UTC:20250422T190000
DTEND;TZID=UTC:20250422T190000
DTSTAMP:20260421T053439
CREATED:20230205T184928Z
LAST-MODIFIED:20230205T185121Z
UID:10000128-1745348400-1745348400@harvestfellowshipsc.com
SUMMARY:Prayer
DESCRIPTION:
URL:https://harvestfellowshipsc.com/event/prayer/2025-04-22/
END:VEVENT
BEGIN:VEVENT
DTSTART;TZID=UTC:20250424T190000
DTEND;TZID=UTC:20250424T190000
DTSTAMP:20260421T053439
CREATED:20230205T185301Z
LAST-MODIFIED:20230205T185301Z
UID:10000503-1745521200-1745521200@harvestfellowshipsc.com
SUMMARY:Bible Study
DESCRIPTION:
URL:https://harvestfellowshipsc.com/event/bible-study/2025-04-24/
END:VEVENT
BEGIN:VEVENT
DTSTART;TZID=UTC:20250426T090000
DTEND;TZID=UTC:20250426T090000
DTSTAMP:20260421T053439
CREATED:20240409T004513Z
LAST-MODIFIED:20240409T004657Z
UID:10001304-1745658000-1745658000@harvestfellowshipsc.com
SUMMARY:Men's Meeting
DESCRIPTION:
URL:https://harvestfellowshipsc.com/event/mens-meeting/2025-04-26/
END:VEVENT
BEGIN:VEVENT
DTSTART;TZID=UTC:20250427T084500
DTEND;TZID=UTC:20250427T094500
DTSTAMP:20260421T053439
CREATED:20230205T190337Z
LAST-MODIFIED:20250709T230237Z
UID:10001140-1745743500-1745747100@harvestfellowshipsc.com
SUMMARY:Foundations I & II
DESCRIPTION:
URL:https://harvestfellowshipsc.com/event/foundations-ii/2025-04-27/
END:VEVENT
BEGIN:VEVENT
DTSTART;TZID=UTC:20250427T100000
DTEND;TZID=UTC:20250427T100000
DTSTAMP:20260421T053439
CREATED:20230205T185654Z
LAST-MODIFIED:20230205T191206Z
UID:10000822-1745748000-1745748000@harvestfellowshipsc.com
SUMMARY:Worship Service
DESCRIPTION:
URL:https://harvestfellowshipsc.com/event/worship-service/2025-04-27/
END:VEVENT
BEGIN:VEVENT
DTSTART;TZID=UTC:20250429T190000
DTEND;TZID=UTC:20250429T190000
DTSTAMP:20260421T053439
CREATED:20230205T184928Z
LAST-MODIFIED:20230205T185121Z
UID:10000129-1745953200-1745953200@harvestfellowshipsc.com
SUMMARY:Prayer
DESCRIPTION:
URL:https://harvestfellowshipsc.com/event/prayer/2025-04-29/
END:VEVENT
END:VCALENDAR