BEGIN:VCALENDAR
VERSION:2.0
PRODID:-//Harvest Fellowship Church - ECPv6.15.20//NONSGML v1.0//EN
CALSCALE:GREGORIAN
METHOD:PUBLISH
X-ORIGINAL-URL:https://harvestfellowshipsc.com
X-WR-CALDESC:Events for Harvest Fellowship Church
REFRESH-INTERVAL;VALUE=DURATION:PT1H
X-Robots-Tag:noindex
X-PUBLISHED-TTL:PT1H
BEGIN:VTIMEZONE
TZID:UTC
BEGIN:STANDARD
TZOFFSETFROM:+0000
TZOFFSETTO:+0000
TZNAME:UTC
DTSTART:20240101T000000
END:STANDARD
END:VTIMEZONE
BEGIN:VEVENT
DTSTART;TZID=UTC:20250202T084500
DTEND;TZID=UTC:20250202T094500
DTSTAMP:20260421T094703
CREATED:20230205T190337Z
LAST-MODIFIED:20250709T230237Z
UID:10001128-1738485900-1738489500@harvestfellowshipsc.com
SUMMARY:Foundations I & II
DESCRIPTION:
URL:https://harvestfellowshipsc.com/event/foundations-ii/2025-02-02/
END:VEVENT
BEGIN:VEVENT
DTSTART;TZID=UTC:20250202T100000
DTEND;TZID=UTC:20250202T100000
DTSTAMP:20260421T094703
CREATED:20230205T185654Z
LAST-MODIFIED:20230205T191206Z
UID:10000810-1738490400-1738490400@harvestfellowshipsc.com
SUMMARY:Worship Service
DESCRIPTION:
URL:https://harvestfellowshipsc.com/event/worship-service/2025-02-02/
END:VEVENT
BEGIN:VEVENT
DTSTART;TZID=UTC:20250204T190000
DTEND;TZID=UTC:20250204T190000
DTSTAMP:20260421T094703
CREATED:20230205T184928Z
LAST-MODIFIED:20230205T185121Z
UID:10000117-1738695600-1738695600@harvestfellowshipsc.com
SUMMARY:Prayer
DESCRIPTION:
URL:https://harvestfellowshipsc.com/event/prayer/2025-02-04/
END:VEVENT
BEGIN:VEVENT
DTSTART;TZID=UTC:20250206T190000
DTEND;TZID=UTC:20250206T190000
DTSTAMP:20260421T094703
CREATED:20230205T185301Z
LAST-MODIFIED:20230205T185301Z
UID:10000492-1738868400-1738868400@harvestfellowshipsc.com
SUMMARY:Bible Study
DESCRIPTION:
URL:https://harvestfellowshipsc.com/event/bible-study/2025-02-06/
END:VEVENT
BEGIN:VEVENT
DTSTART;TZID=UTC:20250208T100000
DTEND;TZID=UTC:20250208T100000
DTSTAMP:20260421T094703
CREATED:20240409T004830Z
LAST-MODIFIED:20240409T005007Z
UID:10001362-1739008800-1739008800@harvestfellowshipsc.com
SUMMARY:Women's Meeting
DESCRIPTION:
URL:https://harvestfellowshipsc.com/event/womens-meeting/2025-02-08/
END:VEVENT
BEGIN:VEVENT
DTSTART;TZID=UTC:20250209T084500
DTEND;TZID=UTC:20250209T094500
DTSTAMP:20260421T094703
CREATED:20230205T190337Z
LAST-MODIFIED:20250709T230237Z
UID:10001129-1739090700-1739094300@harvestfellowshipsc.com
SUMMARY:Foundations I & II
DESCRIPTION:
URL:https://harvestfellowshipsc.com/event/foundations-ii/2025-02-09/
END:VEVENT
BEGIN:VEVENT
DTSTART;TZID=UTC:20250211T190000
DTEND;TZID=UTC:20250211T190000
DTSTAMP:20260421T094703
CREATED:20230205T184928Z
LAST-MODIFIED:20230205T185121Z
UID:10000118-1739300400-1739300400@harvestfellowshipsc.com
SUMMARY:Prayer
DESCRIPTION:
URL:https://harvestfellowshipsc.com/event/prayer/2025-02-11/
END:VEVENT
BEGIN:VEVENT
DTSTART;TZID=UTC:20250213T190000
DTEND;TZID=UTC:20250213T190000
DTSTAMP:20260421T094703
CREATED:20230205T185301Z
LAST-MODIFIED:20230205T185301Z
UID:10000493-1739473200-1739473200@harvestfellowshipsc.com
SUMMARY:Bible Study
DESCRIPTION:
URL:https://harvestfellowshipsc.com/event/bible-study/2025-02-13/
END:VEVENT
BEGIN:VEVENT
DTSTART;TZID=UTC:20250216T100000
DTEND;TZID=UTC:20250216T100000
DTSTAMP:20260421T094703
CREATED:20250207T210823Z
LAST-MODIFIED:20250207T210858Z
UID:10000811-1739700000-1739700000@harvestfellowshipsc.com
SUMMARY:Worship Service via ZOOM only
DESCRIPTION:(Send us a message for the meeting ID and passcode)
URL:https://harvestfellowshipsc.com/event/worship-service-2/
END:VEVENT
BEGIN:VEVENT
DTSTART;TZID=UTC:20250218T190000
DTEND;TZID=UTC:20250218T190000
DTSTAMP:20260421T094703
CREATED:20230205T184928Z
LAST-MODIFIED:20230205T185121Z
UID:10000119-1739905200-1739905200@harvestfellowshipsc.com
SUMMARY:Prayer
DESCRIPTION:
URL:https://harvestfellowshipsc.com/event/prayer/2025-02-18/
END:VEVENT
BEGIN:VEVENT
DTSTART;TZID=UTC:20250220T190000
DTEND;TZID=UTC:20250220T190000
DTSTAMP:20260421T094703
CREATED:20230205T185301Z
LAST-MODIFIED:20230205T185301Z
UID:10000494-1740078000-1740078000@harvestfellowshipsc.com
SUMMARY:Bible Study
DESCRIPTION:
URL:https://harvestfellowshipsc.com/event/bible-study/2025-02-20/
END:VEVENT
BEGIN:VEVENT
DTSTART;TZID=UTC:20250222T090000
DTEND;TZID=UTC:20250222T090000
DTSTAMP:20260421T094703
CREATED:20240409T004513Z
LAST-MODIFIED:20240409T004657Z
UID:10001302-1740214800-1740214800@harvestfellowshipsc.com
SUMMARY:Men's Meeting
DESCRIPTION:
URL:https://harvestfellowshipsc.com/event/mens-meeting/2025-02-22/
END:VEVENT
BEGIN:VEVENT
DTSTART;TZID=UTC:20250223T084500
DTEND;TZID=UTC:20250223T094500
DTSTAMP:20260421T094703
CREATED:20230205T190337Z
LAST-MODIFIED:20250709T230237Z
UID:10001131-1740300300-1740303900@harvestfellowshipsc.com
SUMMARY:Foundations I & II
DESCRIPTION:
URL:https://harvestfellowshipsc.com/event/foundations-ii/2025-02-23/
END:VEVENT
BEGIN:VEVENT
DTSTART;TZID=UTC:20250223T100000
DTEND;TZID=UTC:20250223T100000
DTSTAMP:20260421T094703
CREATED:20230205T185654Z
LAST-MODIFIED:20230205T191206Z
UID:10000813-1740304800-1740304800@harvestfellowshipsc.com
SUMMARY:Worship Service
DESCRIPTION:
URL:https://harvestfellowshipsc.com/event/worship-service/2025-02-23/
END:VEVENT
BEGIN:VEVENT
DTSTART;TZID=UTC:20250225T190000
DTEND;TZID=UTC:20250225T190000
DTSTAMP:20260421T094703
CREATED:20230205T184928Z
LAST-MODIFIED:20230205T185121Z
UID:10000120-1740510000-1740510000@harvestfellowshipsc.com
SUMMARY:Prayer
DESCRIPTION:
URL:https://harvestfellowshipsc.com/event/prayer/2025-02-25/
END:VEVENT
BEGIN:VEVENT
DTSTART;TZID=UTC:20250227T190000
DTEND;TZID=UTC:20250227T190000
DTSTAMP:20260421T094703
CREATED:20230205T185301Z
LAST-MODIFIED:20230205T185301Z
UID:10000495-1740682800-1740682800@harvestfellowshipsc.com
SUMMARY:Bible Study
DESCRIPTION:
URL:https://harvestfellowshipsc.com/event/bible-study/2025-02-27/
END:VEVENT
END:VCALENDAR