BEGIN:VCALENDAR
VERSION:2.0
PRODID:-//Harvest Fellowship Church - ECPv6.15.20//NONSGML v1.0//EN
CALSCALE:GREGORIAN
METHOD:PUBLISH
X-ORIGINAL-URL:https://harvestfellowshipsc.com
X-WR-CALDESC:Events for Harvest Fellowship Church
REFRESH-INTERVAL;VALUE=DURATION:PT1H
X-Robots-Tag:noindex
X-PUBLISHED-TTL:PT1H
BEGIN:VTIMEZONE
TZID:UTC
BEGIN:STANDARD
TZOFFSETFROM:+0000
TZOFFSETTO:+0000
TZNAME:UTC
DTSTART:20230101T000000
END:STANDARD
END:VTIMEZONE
BEGIN:VEVENT
DTSTART;TZID=UTC:20241103T084500
DTEND;TZID=UTC:20241103T094500
DTSTAMP:20260421T152113
CREATED:20230205T190337Z
LAST-MODIFIED:20250709T230237Z
UID:10001115-1730623500-1730627100@harvestfellowshipsc.com
SUMMARY:Foundations I & II
DESCRIPTION:
URL:https://harvestfellowshipsc.com/event/foundations-ii/2024-11-03/
END:VEVENT
BEGIN:VEVENT
DTSTART;TZID=UTC:20241103T100000
DTEND;TZID=UTC:20241103T100000
DTSTAMP:20260421T152113
CREATED:20230205T185654Z
LAST-MODIFIED:20230205T191206Z
UID:10000797-1730628000-1730628000@harvestfellowshipsc.com
SUMMARY:Worship Service
DESCRIPTION:
URL:https://harvestfellowshipsc.com/event/worship-service/2024-11-03/
END:VEVENT
BEGIN:VEVENT
DTSTART;TZID=UTC:20241105T190000
DTEND;TZID=UTC:20241105T190000
DTSTAMP:20260421T152113
CREATED:20230205T184928Z
LAST-MODIFIED:20230205T185121Z
UID:10000104-1730833200-1730833200@harvestfellowshipsc.com
SUMMARY:Prayer
DESCRIPTION:
URL:https://harvestfellowshipsc.com/event/prayer/2024-11-05/
END:VEVENT
BEGIN:VEVENT
DTSTART;TZID=UTC:20241107T190000
DTEND;TZID=UTC:20241107T190000
DTSTAMP:20260421T152113
CREATED:20230205T185301Z
LAST-MODIFIED:20230205T185301Z
UID:10000479-1731006000-1731006000@harvestfellowshipsc.com
SUMMARY:Bible Study
DESCRIPTION:
URL:https://harvestfellowshipsc.com/event/bible-study/2024-11-07/
END:VEVENT
BEGIN:VEVENT
DTSTART;TZID=UTC:20241110T084500
DTEND;TZID=UTC:20241110T094500
DTSTAMP:20260421T152113
CREATED:20230205T190337Z
LAST-MODIFIED:20250709T230237Z
UID:10001116-1731228300-1731231900@harvestfellowshipsc.com
SUMMARY:Foundations I & II
DESCRIPTION:
URL:https://harvestfellowshipsc.com/event/foundations-ii/2024-11-10/
END:VEVENT
BEGIN:VEVENT
DTSTART;TZID=UTC:20241110T100000
DTEND;TZID=UTC:20241110T100000
DTSTAMP:20260421T152113
CREATED:20230205T185654Z
LAST-MODIFIED:20230205T191206Z
UID:10000798-1731232800-1731232800@harvestfellowshipsc.com
SUMMARY:Worship Service
DESCRIPTION:
URL:https://harvestfellowshipsc.com/event/worship-service/2024-11-10/
END:VEVENT
BEGIN:VEVENT
DTSTART;TZID=UTC:20241110T100000
DTEND;TZID=UTC:20241110T100000
DTSTAMP:20260421T152113
CREATED:20241027T220025Z
LAST-MODIFIED:20241027T220025Z
UID:10001476-1731232800-1731232800@harvestfellowshipsc.com
SUMMARY:Military Appreciation Service
DESCRIPTION:
URL:https://harvestfellowshipsc.com/event/military-appreciation-service-2/
END:VEVENT
BEGIN:VEVENT
DTSTART;TZID=UTC:20241112T190000
DTEND;TZID=UTC:20241112T190000
DTSTAMP:20260421T152113
CREATED:20230205T184928Z
LAST-MODIFIED:20230205T185121Z
UID:10000105-1731438000-1731438000@harvestfellowshipsc.com
SUMMARY:Prayer
DESCRIPTION:
URL:https://harvestfellowshipsc.com/event/prayer/2024-11-12/
END:VEVENT
BEGIN:VEVENT
DTSTART;TZID=UTC:20241114T190000
DTEND;TZID=UTC:20241114T190000
DTSTAMP:20260421T152113
CREATED:20230205T185301Z
LAST-MODIFIED:20230205T185301Z
UID:10000480-1731610800-1731610800@harvestfellowshipsc.com
SUMMARY:Bible Study
DESCRIPTION:
URL:https://harvestfellowshipsc.com/event/bible-study/2024-11-14/
END:VEVENT
BEGIN:VEVENT
DTSTART;TZID=UTC:20241116T100000
DTEND;TZID=UTC:20241116T120000
DTSTAMP:20260421T152113
CREATED:20241108T012607Z
LAST-MODIFIED:20241108T012607Z
UID:10001494-1731751200-1731758400@harvestfellowshipsc.com
SUMMARY:Women's Meeting
DESCRIPTION:
URL:https://harvestfellowshipsc.com/event/womens-meeting-2/
END:VEVENT
BEGIN:VEVENT
DTSTART;TZID=UTC:20241117T084500
DTEND;TZID=UTC:20241117T094500
DTSTAMP:20260421T152113
CREATED:20230205T190337Z
LAST-MODIFIED:20250709T230237Z
UID:10001117-1731833100-1731836700@harvestfellowshipsc.com
SUMMARY:Foundations I & II
DESCRIPTION:
URL:https://harvestfellowshipsc.com/event/foundations-ii/2024-11-17/
END:VEVENT
BEGIN:VEVENT
DTSTART;TZID=UTC:20241117T100000
DTEND;TZID=UTC:20241117T100000
DTSTAMP:20260421T152113
CREATED:20230205T185654Z
LAST-MODIFIED:20230205T191206Z
UID:10000799-1731837600-1731837600@harvestfellowshipsc.com
SUMMARY:Worship Service
DESCRIPTION:
URL:https://harvestfellowshipsc.com/event/worship-service/2024-11-17/
END:VEVENT
BEGIN:VEVENT
DTSTART;TZID=UTC:20241119T190000
DTEND;TZID=UTC:20241119T190000
DTSTAMP:20260421T152113
CREATED:20230205T184928Z
LAST-MODIFIED:20230205T185121Z
UID:10000106-1732042800-1732042800@harvestfellowshipsc.com
SUMMARY:Prayer
DESCRIPTION:
URL:https://harvestfellowshipsc.com/event/prayer/2024-11-19/
END:VEVENT
BEGIN:VEVENT
DTSTART;TZID=UTC:20241121T190000
DTEND;TZID=UTC:20241121T190000
DTSTAMP:20260421T152113
CREATED:20230205T185301Z
LAST-MODIFIED:20230205T185301Z
UID:10000481-1732215600-1732215600@harvestfellowshipsc.com
SUMMARY:Bible Study
DESCRIPTION:
URL:https://harvestfellowshipsc.com/event/bible-study/2024-11-21/
END:VEVENT
BEGIN:VEVENT
DTSTART;TZID=UTC:20241123T090000
DTEND;TZID=UTC:20241123T090000
DTSTAMP:20260421T152113
CREATED:20240409T004513Z
LAST-MODIFIED:20240409T004657Z
UID:10001299-1732352400-1732352400@harvestfellowshipsc.com
SUMMARY:Men's Meeting
DESCRIPTION:
URL:https://harvestfellowshipsc.com/event/mens-meeting/2024-11-23/
END:VEVENT
BEGIN:VEVENT
DTSTART;TZID=UTC:20241124T084500
DTEND;TZID=UTC:20241124T094500
DTSTAMP:20260421T152113
CREATED:20230205T190337Z
LAST-MODIFIED:20250709T230237Z
UID:10001118-1732437900-1732441500@harvestfellowshipsc.com
SUMMARY:Foundations I & II
DESCRIPTION:
URL:https://harvestfellowshipsc.com/event/foundations-ii/2024-11-24/
END:VEVENT
BEGIN:VEVENT
DTSTART;TZID=UTC:20241124T100000
DTEND;TZID=UTC:20241124T100000
DTSTAMP:20260421T152113
CREATED:20230205T185654Z
LAST-MODIFIED:20230205T191206Z
UID:10000800-1732442400-1732442400@harvestfellowshipsc.com
SUMMARY:Worship Service
DESCRIPTION:
URL:https://harvestfellowshipsc.com/event/worship-service/2024-11-24/
END:VEVENT
BEGIN:VEVENT
DTSTART;TZID=UTC:20241126T190000
DTEND;TZID=UTC:20241126T190000
DTSTAMP:20260421T152113
CREATED:20230205T184928Z
LAST-MODIFIED:20230205T185121Z
UID:10000107-1732647600-1732647600@harvestfellowshipsc.com
SUMMARY:Prayer
DESCRIPTION:
URL:https://harvestfellowshipsc.com/event/prayer/2024-11-26/
END:VEVENT
END:VCALENDAR