BEGIN:VCALENDAR
VERSION:2.0
PRODID:-//Harvest Fellowship Church - ECPv6.15.20//NONSGML v1.0//EN
CALSCALE:GREGORIAN
METHOD:PUBLISH
X-WR-CALNAME:Harvest Fellowship Church
X-ORIGINAL-URL:https://harvestfellowshipsc.com
X-WR-CALDESC:Events for Harvest Fellowship Church
REFRESH-INTERVAL;VALUE=DURATION:PT1H
X-Robots-Tag:noindex
X-PUBLISHED-TTL:PT1H
BEGIN:VTIMEZONE
TZID:UTC
BEGIN:STANDARD
TZOFFSETFROM:+0000
TZOFFSETTO:+0000
TZNAME:UTC
DTSTART:20230101T000000
END:STANDARD
END:VTIMEZONE
BEGIN:VEVENT
DTSTART;TZID=UTC:20240901T084500
DTEND;TZID=UTC:20240901T094500
DTSTAMP:20260421T191544
CREATED:20230205T190337Z
LAST-MODIFIED:20250709T230237Z
UID:10001106-1725180300-1725183900@harvestfellowshipsc.com
SUMMARY:Foundations I & II
DESCRIPTION:
URL:https://harvestfellowshipsc.com/event/foundations-ii/2024-09-01/
END:VEVENT
BEGIN:VEVENT
DTSTART;TZID=UTC:20240901T100000
DTEND;TZID=UTC:20240901T100000
DTSTAMP:20260421T191544
CREATED:20230205T185654Z
LAST-MODIFIED:20230205T191206Z
UID:10000788-1725184800-1725184800@harvestfellowshipsc.com
SUMMARY:Worship Service
DESCRIPTION:
URL:https://harvestfellowshipsc.com/event/worship-service/2024-09-01/
END:VEVENT
BEGIN:VEVENT
DTSTART;TZID=UTC:20240903T190000
DTEND;TZID=UTC:20240903T190000
DTSTAMP:20260421T191544
CREATED:20230205T184928Z
LAST-MODIFIED:20230205T185121Z
UID:10000095-1725390000-1725390000@harvestfellowshipsc.com
SUMMARY:Prayer
DESCRIPTION:
URL:https://harvestfellowshipsc.com/event/prayer/2024-09-03/
END:VEVENT
BEGIN:VEVENT
DTSTART;TZID=UTC:20240905T190000
DTEND;TZID=UTC:20240905T190000
DTSTAMP:20260421T191544
CREATED:20230205T185301Z
LAST-MODIFIED:20230205T185301Z
UID:10000470-1725562800-1725562800@harvestfellowshipsc.com
SUMMARY:Bible Study
DESCRIPTION:
URL:https://harvestfellowshipsc.com/event/bible-study/2024-09-05/
END:VEVENT
BEGIN:VEVENT
DTSTART;TZID=UTC:20240908T084500
DTEND;TZID=UTC:20240908T094500
DTSTAMP:20260421T191544
CREATED:20230205T190337Z
LAST-MODIFIED:20250709T230237Z
UID:10001107-1725785100-1725788700@harvestfellowshipsc.com
SUMMARY:Foundations I & II
DESCRIPTION:
URL:https://harvestfellowshipsc.com/event/foundations-ii/2024-09-08/
END:VEVENT
BEGIN:VEVENT
DTSTART;TZID=UTC:20240908T100000
DTEND;TZID=UTC:20240908T100000
DTSTAMP:20260421T191544
CREATED:20230205T185654Z
LAST-MODIFIED:20230205T191206Z
UID:10000789-1725789600-1725789600@harvestfellowshipsc.com
SUMMARY:Worship Service
DESCRIPTION:
URL:https://harvestfellowshipsc.com/event/worship-service/2024-09-08/
END:VEVENT
BEGIN:VEVENT
DTSTART;TZID=UTC:20240910T190000
DTEND;TZID=UTC:20240910T190000
DTSTAMP:20260421T191544
CREATED:20230205T184928Z
LAST-MODIFIED:20230205T185121Z
UID:10000096-1725994800-1725994800@harvestfellowshipsc.com
SUMMARY:Prayer
DESCRIPTION:
URL:https://harvestfellowshipsc.com/event/prayer/2024-09-10/
END:VEVENT
BEGIN:VEVENT
DTSTART;TZID=UTC:20240912T190000
DTEND;TZID=UTC:20240912T190000
DTSTAMP:20260421T191544
CREATED:20230205T185301Z
LAST-MODIFIED:20230205T185301Z
UID:10000471-1726167600-1726167600@harvestfellowshipsc.com
SUMMARY:Bible Study
DESCRIPTION:
URL:https://harvestfellowshipsc.com/event/bible-study/2024-09-12/
END:VEVENT
BEGIN:VEVENT
DTSTART;TZID=UTC:20240914T100000
DTEND;TZID=UTC:20240914T100000
DTSTAMP:20260421T191544
CREATED:20240409T004830Z
LAST-MODIFIED:20240409T005007Z
UID:10001357-1726308000-1726308000@harvestfellowshipsc.com
SUMMARY:Women's Meeting
DESCRIPTION:
URL:https://harvestfellowshipsc.com/event/womens-meeting/2024-09-14/
END:VEVENT
BEGIN:VEVENT
DTSTART;TZID=UTC:20240915T084500
DTEND;TZID=UTC:20240915T094500
DTSTAMP:20260421T191544
CREATED:20230205T190337Z
LAST-MODIFIED:20250709T230237Z
UID:10001108-1726389900-1726393500@harvestfellowshipsc.com
SUMMARY:Foundations I & II
DESCRIPTION:
URL:https://harvestfellowshipsc.com/event/foundations-ii/2024-09-15/
END:VEVENT
BEGIN:VEVENT
DTSTART;TZID=UTC:20240915T100000
DTEND;TZID=UTC:20240915T100000
DTSTAMP:20260421T191544
CREATED:20230205T185654Z
LAST-MODIFIED:20230205T191206Z
UID:10000790-1726394400-1726394400@harvestfellowshipsc.com
SUMMARY:Worship Service
DESCRIPTION:
URL:https://harvestfellowshipsc.com/event/worship-service/2024-09-15/
END:VEVENT
BEGIN:VEVENT
DTSTART;TZID=UTC:20240917T190000
DTEND;TZID=UTC:20240917T190000
DTSTAMP:20260421T191544
CREATED:20230205T184928Z
LAST-MODIFIED:20230205T185121Z
UID:10000097-1726599600-1726599600@harvestfellowshipsc.com
SUMMARY:Prayer
DESCRIPTION:
URL:https://harvestfellowshipsc.com/event/prayer/2024-09-17/
END:VEVENT
BEGIN:VEVENT
DTSTART;TZID=UTC:20240919T190000
DTEND;TZID=UTC:20240919T190000
DTSTAMP:20260421T191544
CREATED:20230205T185301Z
LAST-MODIFIED:20230205T185301Z
UID:10000472-1726772400-1726772400@harvestfellowshipsc.com
SUMMARY:Bible Study
DESCRIPTION:
URL:https://harvestfellowshipsc.com/event/bible-study/2024-09-19/
END:VEVENT
BEGIN:VEVENT
DTSTART;TZID=UTC:20240922T084500
DTEND;TZID=UTC:20240922T094500
DTSTAMP:20260421T191544
CREATED:20230205T190337Z
LAST-MODIFIED:20250709T230237Z
UID:10001109-1726994700-1726998300@harvestfellowshipsc.com
SUMMARY:Foundations I & II
DESCRIPTION:
URL:https://harvestfellowshipsc.com/event/foundations-ii/2024-09-22/
END:VEVENT
BEGIN:VEVENT
DTSTART;TZID=UTC:20240922T100000
DTEND;TZID=UTC:20240922T100000
DTSTAMP:20260421T191544
CREATED:20230205T185654Z
LAST-MODIFIED:20230205T191206Z
UID:10000791-1726999200-1726999200@harvestfellowshipsc.com
SUMMARY:Worship Service
DESCRIPTION:
URL:https://harvestfellowshipsc.com/event/worship-service/2024-09-22/
END:VEVENT
BEGIN:VEVENT
DTSTART;TZID=UTC:20240922T100000
DTEND;TZID=UTC:20240922T100000
DTSTAMP:20260421T191544
CREATED:20240601T183133Z
LAST-MODIFIED:20240930T203434Z
UID:10001472-1726999200-1726999200@harvestfellowshipsc.com
SUMMARY:Church Cookout/End of Mortgage Celebration
DESCRIPTION:
URL:https://harvestfellowshipsc.com/event/church-cookout-end-of-mortgage-celebration/
END:VEVENT
BEGIN:VEVENT
DTSTART;TZID=UTC:20240924T190000
DTEND;TZID=UTC:20240924T190000
DTSTAMP:20260421T191544
CREATED:20230205T184928Z
LAST-MODIFIED:20230205T185121Z
UID:10000098-1727204400-1727204400@harvestfellowshipsc.com
SUMMARY:Prayer
DESCRIPTION:
URL:https://harvestfellowshipsc.com/event/prayer/2024-09-24/
END:VEVENT
BEGIN:VEVENT
DTSTART;TZID=UTC:20240926T190000
DTEND;TZID=UTC:20240926T190000
DTSTAMP:20260421T191544
CREATED:20230205T185301Z
LAST-MODIFIED:20230205T185301Z
UID:10000473-1727377200-1727377200@harvestfellowshipsc.com
SUMMARY:Bible Study
DESCRIPTION:
URL:https://harvestfellowshipsc.com/event/bible-study/2024-09-26/
END:VEVENT
BEGIN:VEVENT
DTSTART;TZID=UTC:20240928T090000
DTEND;TZID=UTC:20240928T090000
DTSTAMP:20260421T191544
CREATED:20240409T004513Z
LAST-MODIFIED:20240409T004657Z
UID:10001297-1727514000-1727514000@harvestfellowshipsc.com
SUMMARY:Men's Meeting
DESCRIPTION:
URL:https://harvestfellowshipsc.com/event/mens-meeting/2024-09-28/
END:VEVENT
BEGIN:VEVENT
DTSTART;TZID=UTC:20240929T084500
DTEND;TZID=UTC:20240929T094500
DTSTAMP:20260421T191545
CREATED:20230205T190337Z
LAST-MODIFIED:20250709T230237Z
UID:10001110-1727599500-1727603100@harvestfellowshipsc.com
SUMMARY:Foundations I & II
DESCRIPTION:
URL:https://harvestfellowshipsc.com/event/foundations-ii/2024-09-29/
END:VEVENT
BEGIN:VEVENT
DTSTART;TZID=UTC:20240929T100000
DTEND;TZID=UTC:20240929T100000
DTSTAMP:20260421T191545
CREATED:20230205T185654Z
LAST-MODIFIED:20230205T191206Z
UID:10000792-1727604000-1727604000@harvestfellowshipsc.com
SUMMARY:Worship Service
DESCRIPTION:
URL:https://harvestfellowshipsc.com/event/worship-service/2024-09-29/
END:VEVENT
END:VCALENDAR