BEGIN:VCALENDAR
VERSION:2.0
PRODID:-//Harvest Fellowship Church - ECPv6.15.20//NONSGML v1.0//EN
CALSCALE:GREGORIAN
METHOD:PUBLISH
X-ORIGINAL-URL:https://harvestfellowshipsc.com
X-WR-CALDESC:Events for Harvest Fellowship Church
REFRESH-INTERVAL;VALUE=DURATION:PT1H
X-Robots-Tag:noindex
X-PUBLISHED-TTL:PT1H
BEGIN:VTIMEZONE
TZID:UTC
BEGIN:STANDARD
TZOFFSETFROM:+0000
TZOFFSETTO:+0000
TZNAME:UTC
DTSTART:20230101T000000
END:STANDARD
END:VTIMEZONE
BEGIN:VEVENT
DTSTART;TZID=UTC:20240502T190000
DTEND;TZID=UTC:20240502T190000
DTSTAMP:20260422T025017
CREATED:20230205T185301Z
LAST-MODIFIED:20230205T185301Z
UID:10000452-1714676400-1714676400@harvestfellowshipsc.com
SUMMARY:Bible Study
DESCRIPTION:
URL:https://harvestfellowshipsc.com/event/bible-study/2024-05-02/
END:VEVENT
BEGIN:VEVENT
DTSTART;TZID=UTC:20240505T084500
DTEND;TZID=UTC:20240505T094500
DTSTAMP:20260422T025017
CREATED:20230205T190337Z
LAST-MODIFIED:20250709T230237Z
UID:10001089-1714898700-1714902300@harvestfellowshipsc.com
SUMMARY:Foundations I & II
DESCRIPTION:
URL:https://harvestfellowshipsc.com/event/foundations-ii/2024-05-05/
END:VEVENT
BEGIN:VEVENT
DTSTART;TZID=UTC:20240505T100000
DTEND;TZID=UTC:20240505T100000
DTSTAMP:20260422T025017
CREATED:20230205T185654Z
LAST-MODIFIED:20230205T191206Z
UID:10000771-1714903200-1714903200@harvestfellowshipsc.com
SUMMARY:Worship Service
DESCRIPTION:
URL:https://harvestfellowshipsc.com/event/worship-service/2024-05-05/
END:VEVENT
BEGIN:VEVENT
DTSTART;TZID=UTC:20240507T190000
DTEND;TZID=UTC:20240507T190000
DTSTAMP:20260422T025017
CREATED:20230205T184928Z
LAST-MODIFIED:20230205T185121Z
UID:10000078-1715108400-1715108400@harvestfellowshipsc.com
SUMMARY:Prayer
DESCRIPTION:
URL:https://harvestfellowshipsc.com/event/prayer/2024-05-07/
END:VEVENT
BEGIN:VEVENT
DTSTART;TZID=UTC:20240509T190000
DTEND;TZID=UTC:20240509T190000
DTSTAMP:20260422T025017
CREATED:20230205T185301Z
LAST-MODIFIED:20230205T185301Z
UID:10000453-1715281200-1715281200@harvestfellowshipsc.com
SUMMARY:Bible Study
DESCRIPTION:
URL:https://harvestfellowshipsc.com/event/bible-study/2024-05-09/
END:VEVENT
BEGIN:VEVENT
DTSTART;TZID=UTC:20240511T100000
DTEND;TZID=UTC:20240511T100000
DTSTAMP:20260422T025017
CREATED:20240409T004830Z
LAST-MODIFIED:20240409T005007Z
UID:10001353-1715421600-1715421600@harvestfellowshipsc.com
SUMMARY:Women's Meeting
DESCRIPTION:
URL:https://harvestfellowshipsc.com/event/womens-meeting/2024-05-11/
END:VEVENT
BEGIN:VEVENT
DTSTART;TZID=UTC:20240512T084500
DTEND;TZID=UTC:20240512T094500
DTSTAMP:20260422T025017
CREATED:20230205T190337Z
LAST-MODIFIED:20250709T230237Z
UID:10001090-1715503500-1715507100@harvestfellowshipsc.com
SUMMARY:Foundations I & II
DESCRIPTION:
URL:https://harvestfellowshipsc.com/event/foundations-ii/2024-05-12/
END:VEVENT
BEGIN:VEVENT
DTSTART;TZID=UTC:20240512T100000
DTEND;TZID=UTC:20240512T100000
DTSTAMP:20260422T025017
CREATED:20230205T185654Z
LAST-MODIFIED:20230205T191206Z
UID:10000772-1715508000-1715508000@harvestfellowshipsc.com
SUMMARY:Worship Service
DESCRIPTION:
URL:https://harvestfellowshipsc.com/event/worship-service/2024-05-12/
END:VEVENT
BEGIN:VEVENT
DTSTART;TZID=UTC:20240514T190000
DTEND;TZID=UTC:20240514T190000
DTSTAMP:20260422T025017
CREATED:20230205T184928Z
LAST-MODIFIED:20230205T185121Z
UID:10000079-1715713200-1715713200@harvestfellowshipsc.com
SUMMARY:Prayer
DESCRIPTION:
URL:https://harvestfellowshipsc.com/event/prayer/2024-05-14/
END:VEVENT
BEGIN:VEVENT
DTSTART;TZID=UTC:20240516T190000
DTEND;TZID=UTC:20240516T190000
DTSTAMP:20260422T025017
CREATED:20230205T185301Z
LAST-MODIFIED:20230205T185301Z
UID:10000454-1715886000-1715886000@harvestfellowshipsc.com
SUMMARY:Bible Study
DESCRIPTION:
URL:https://harvestfellowshipsc.com/event/bible-study/2024-05-16/
END:VEVENT
BEGIN:VEVENT
DTSTART;TZID=UTC:20240519T084500
DTEND;TZID=UTC:20240519T094500
DTSTAMP:20260422T025017
CREATED:20230205T190337Z
LAST-MODIFIED:20250709T230237Z
UID:10001091-1716108300-1716111900@harvestfellowshipsc.com
SUMMARY:Foundations I & II
DESCRIPTION:
URL:https://harvestfellowshipsc.com/event/foundations-ii/2024-05-19/
END:VEVENT
BEGIN:VEVENT
DTSTART;TZID=UTC:20240519T100000
DTEND;TZID=UTC:20240519T100000
DTSTAMP:20260422T025017
CREATED:20230205T185654Z
LAST-MODIFIED:20230205T191206Z
UID:10000773-1716112800-1716112800@harvestfellowshipsc.com
SUMMARY:Worship Service
DESCRIPTION:
URL:https://harvestfellowshipsc.com/event/worship-service/2024-05-19/
END:VEVENT
BEGIN:VEVENT
DTSTART;TZID=UTC:20240521T190000
DTEND;TZID=UTC:20240521T190000
DTSTAMP:20260422T025017
CREATED:20230205T184928Z
LAST-MODIFIED:20230205T185121Z
UID:10000080-1716318000-1716318000@harvestfellowshipsc.com
SUMMARY:Prayer
DESCRIPTION:
URL:https://harvestfellowshipsc.com/event/prayer/2024-05-21/
END:VEVENT
BEGIN:VEVENT
DTSTART;TZID=UTC:20240523T190000
DTEND;TZID=UTC:20240523T190000
DTSTAMP:20260422T025017
CREATED:20230205T185301Z
LAST-MODIFIED:20230205T185301Z
UID:10000455-1716490800-1716490800@harvestfellowshipsc.com
SUMMARY:Bible Study
DESCRIPTION:
URL:https://harvestfellowshipsc.com/event/bible-study/2024-05-23/
END:VEVENT
BEGIN:VEVENT
DTSTART;TZID=UTC:20240525T090000
DTEND;TZID=UTC:20240525T090000
DTSTAMP:20260422T025017
CREATED:20240409T004513Z
LAST-MODIFIED:20240409T004657Z
UID:10001293-1716627600-1716627600@harvestfellowshipsc.com
SUMMARY:Men's Meeting
DESCRIPTION:
URL:https://harvestfellowshipsc.com/event/mens-meeting/2024-05-25/
END:VEVENT
BEGIN:VEVENT
DTSTART;TZID=UTC:20240526T084500
DTEND;TZID=UTC:20240526T094500
DTSTAMP:20260422T025017
CREATED:20230205T190337Z
LAST-MODIFIED:20250709T230237Z
UID:10001092-1716713100-1716716700@harvestfellowshipsc.com
SUMMARY:Foundations I & II
DESCRIPTION:
URL:https://harvestfellowshipsc.com/event/foundations-ii/2024-05-26/
END:VEVENT
BEGIN:VEVENT
DTSTART;TZID=UTC:20240526T100000
DTEND;TZID=UTC:20240526T100000
DTSTAMP:20260422T025017
CREATED:20230205T185654Z
LAST-MODIFIED:20230205T191206Z
UID:10000774-1716717600-1716717600@harvestfellowshipsc.com
SUMMARY:Worship Service
DESCRIPTION:
URL:https://harvestfellowshipsc.com/event/worship-service/2024-05-26/
END:VEVENT
BEGIN:VEVENT
DTSTART;TZID=UTC:20240528T190000
DTEND;TZID=UTC:20240528T190000
DTSTAMP:20260422T025017
CREATED:20230205T184928Z
LAST-MODIFIED:20230205T185121Z
UID:10000081-1716922800-1716922800@harvestfellowshipsc.com
SUMMARY:Prayer
DESCRIPTION:
URL:https://harvestfellowshipsc.com/event/prayer/2024-05-28/
END:VEVENT
BEGIN:VEVENT
DTSTART;TZID=UTC:20240530T190000
DTEND;TZID=UTC:20240530T190000
DTSTAMP:20260422T025017
CREATED:20230205T185301Z
LAST-MODIFIED:20230205T185301Z
UID:10000456-1717095600-1717095600@harvestfellowshipsc.com
SUMMARY:Bible Study
DESCRIPTION:
URL:https://harvestfellowshipsc.com/event/bible-study/2024-05-30/
END:VEVENT
END:VCALENDAR