BEGIN:VCALENDAR
VERSION:2.0
PRODID:-//Harvest Fellowship Church - ECPv6.15.20//NONSGML v1.0//EN
CALSCALE:GREGORIAN
METHOD:PUBLISH
X-WR-CALNAME:Harvest Fellowship Church
X-ORIGINAL-URL:https://harvestfellowshipsc.com
X-WR-CALDESC:Events for Harvest Fellowship Church
REFRESH-INTERVAL;VALUE=DURATION:PT1H
X-Robots-Tag:noindex
X-PUBLISHED-TTL:PT1H
BEGIN:VTIMEZONE
TZID:UTC
BEGIN:STANDARD
TZOFFSETFROM:+0000
TZOFFSETTO:+0000
TZNAME:UTC
DTSTART:20230101T000000
END:STANDARD
END:VTIMEZONE
BEGIN:VEVENT
DTSTART;TZID=UTC:20240402T190000
DTEND;TZID=UTC:20240402T190000
DTSTAMP:20260422T045123
CREATED:20230205T184928Z
LAST-MODIFIED:20230205T185121Z
UID:10000073-1712084400-1712084400@harvestfellowshipsc.com
SUMMARY:Prayer
DESCRIPTION:
URL:https://harvestfellowshipsc.com/event/prayer/2024-04-02/
END:VEVENT
BEGIN:VEVENT
DTSTART;TZID=UTC:20240404T190000
DTEND;TZID=UTC:20240404T190000
DTSTAMP:20260422T045123
CREATED:20230205T185301Z
LAST-MODIFIED:20230205T185301Z
UID:10000448-1712257200-1712257200@harvestfellowshipsc.com
SUMMARY:Bible Study
DESCRIPTION:
URL:https://harvestfellowshipsc.com/event/bible-study/2024-04-04/
END:VEVENT
BEGIN:VEVENT
DTSTART;TZID=UTC:20240407T084500
DTEND;TZID=UTC:20240407T094500
DTSTAMP:20260422T045123
CREATED:20230205T190337Z
LAST-MODIFIED:20250709T230237Z
UID:10001085-1712479500-1712483100@harvestfellowshipsc.com
SUMMARY:Foundations I & II
DESCRIPTION:
URL:https://harvestfellowshipsc.com/event/foundations-ii/2024-04-07/
END:VEVENT
BEGIN:VEVENT
DTSTART;TZID=UTC:20240407T100000
DTEND;TZID=UTC:20240407T100000
DTSTAMP:20260422T045123
CREATED:20230205T185654Z
LAST-MODIFIED:20230205T191206Z
UID:10000767-1712484000-1712484000@harvestfellowshipsc.com
SUMMARY:Worship Service
DESCRIPTION:
URL:https://harvestfellowshipsc.com/event/worship-service/2024-04-07/
END:VEVENT
BEGIN:VEVENT
DTSTART;TZID=UTC:20240409T190000
DTEND;TZID=UTC:20240409T190000
DTSTAMP:20260422T045123
CREATED:20230205T184928Z
LAST-MODIFIED:20230205T185121Z
UID:10000074-1712689200-1712689200@harvestfellowshipsc.com
SUMMARY:Prayer
DESCRIPTION:
URL:https://harvestfellowshipsc.com/event/prayer/2024-04-09/
END:VEVENT
BEGIN:VEVENT
DTSTART;TZID=UTC:20240411T190000
DTEND;TZID=UTC:20240411T190000
DTSTAMP:20260422T045123
CREATED:20230205T185301Z
LAST-MODIFIED:20230205T185301Z
UID:10000449-1712862000-1712862000@harvestfellowshipsc.com
SUMMARY:Bible Study
DESCRIPTION:
URL:https://harvestfellowshipsc.com/event/bible-study/2024-04-11/
END:VEVENT
BEGIN:VEVENT
DTSTART;TZID=UTC:20240413T100000
DTEND;TZID=UTC:20240413T100000
DTSTAMP:20260422T045123
CREATED:20240409T004830Z
LAST-MODIFIED:20240409T005007Z
UID:10001352-1713002400-1713002400@harvestfellowshipsc.com
SUMMARY:Women's Meeting
DESCRIPTION:
URL:https://harvestfellowshipsc.com/event/womens-meeting/2024-04-13/
END:VEVENT
BEGIN:VEVENT
DTSTART;TZID=UTC:20240414T084500
DTEND;TZID=UTC:20240414T094500
DTSTAMP:20260422T045123
CREATED:20230205T190337Z
LAST-MODIFIED:20250709T230237Z
UID:10001086-1713084300-1713087900@harvestfellowshipsc.com
SUMMARY:Foundations I & II
DESCRIPTION:
URL:https://harvestfellowshipsc.com/event/foundations-ii/2024-04-14/
END:VEVENT
BEGIN:VEVENT
DTSTART;TZID=UTC:20240414T100000
DTEND;TZID=UTC:20240414T100000
DTSTAMP:20260422T045123
CREATED:20230205T185654Z
LAST-MODIFIED:20230205T191206Z
UID:10000768-1713088800-1713088800@harvestfellowshipsc.com
SUMMARY:Worship Service
DESCRIPTION:
URL:https://harvestfellowshipsc.com/event/worship-service/2024-04-14/
END:VEVENT
BEGIN:VEVENT
DTSTART;TZID=UTC:20240416T190000
DTEND;TZID=UTC:20240416T190000
DTSTAMP:20260422T045123
CREATED:20230205T184928Z
LAST-MODIFIED:20230205T185121Z
UID:10000075-1713294000-1713294000@harvestfellowshipsc.com
SUMMARY:Prayer
DESCRIPTION:
URL:https://harvestfellowshipsc.com/event/prayer/2024-04-16/
END:VEVENT
BEGIN:VEVENT
DTSTART;TZID=UTC:20240418T190000
DTEND;TZID=UTC:20240418T190000
DTSTAMP:20260422T045123
CREATED:20230205T185301Z
LAST-MODIFIED:20230205T185301Z
UID:10000450-1713466800-1713466800@harvestfellowshipsc.com
SUMMARY:Bible Study
DESCRIPTION:
URL:https://harvestfellowshipsc.com/event/bible-study/2024-04-18/
END:VEVENT
BEGIN:VEVENT
DTSTART;TZID=UTC:20240421T084500
DTEND;TZID=UTC:20240421T094500
DTSTAMP:20260422T045123
CREATED:20230205T190337Z
LAST-MODIFIED:20250709T230237Z
UID:10001087-1713689100-1713692700@harvestfellowshipsc.com
SUMMARY:Foundations I & II
DESCRIPTION:
URL:https://harvestfellowshipsc.com/event/foundations-ii/2024-04-21/
END:VEVENT
BEGIN:VEVENT
DTSTART;TZID=UTC:20240421T100000
DTEND;TZID=UTC:20240421T100000
DTSTAMP:20260422T045123
CREATED:20230205T185654Z
LAST-MODIFIED:20230205T191206Z
UID:10000769-1713693600-1713693600@harvestfellowshipsc.com
SUMMARY:Worship Service
DESCRIPTION:
URL:https://harvestfellowshipsc.com/event/worship-service/2024-04-21/
END:VEVENT
BEGIN:VEVENT
DTSTART;TZID=UTC:20240423T190000
DTEND;TZID=UTC:20240423T190000
DTSTAMP:20260422T045123
CREATED:20230205T184928Z
LAST-MODIFIED:20230205T185121Z
UID:10000076-1713898800-1713898800@harvestfellowshipsc.com
SUMMARY:Prayer
DESCRIPTION:
URL:https://harvestfellowshipsc.com/event/prayer/2024-04-23/
END:VEVENT
BEGIN:VEVENT
DTSTART;TZID=UTC:20240425T190000
DTEND;TZID=UTC:20240425T190000
DTSTAMP:20260422T045123
CREATED:20230205T185301Z
LAST-MODIFIED:20230205T185301Z
UID:10000451-1714071600-1714071600@harvestfellowshipsc.com
SUMMARY:Bible Study
DESCRIPTION:
URL:https://harvestfellowshipsc.com/event/bible-study/2024-04-25/
END:VEVENT
BEGIN:VEVENT
DTSTART;VALUE=DATE:20240426
DTEND;VALUE=DATE:20240429
DTSTAMP:20260422T045123
CREATED:20240409T002343Z
LAST-MODIFIED:20240409T005739Z
UID:10001290-1714089600-1714348799@harvestfellowshipsc.com
SUMMARY:Men's Mentor Retreat
DESCRIPTION:
URL:https://harvestfellowshipsc.com/event/mens-mentor-retreat-mcgrady-training-center/
LOCATION:McGrady Training Center
END:VEVENT
BEGIN:VEVENT
DTSTART;TZID=UTC:20240428T084500
DTEND;TZID=UTC:20240428T094500
DTSTAMP:20260422T045123
CREATED:20230205T190337Z
LAST-MODIFIED:20250709T230237Z
UID:10001088-1714293900-1714297500@harvestfellowshipsc.com
SUMMARY:Foundations I & II
DESCRIPTION:
URL:https://harvestfellowshipsc.com/event/foundations-ii/2024-04-28/
END:VEVENT
BEGIN:VEVENT
DTSTART;TZID=UTC:20240428T100000
DTEND;TZID=UTC:20240428T100000
DTSTAMP:20260422T045123
CREATED:20230205T185654Z
LAST-MODIFIED:20230205T191206Z
UID:10000770-1714298400-1714298400@harvestfellowshipsc.com
SUMMARY:Worship Service
DESCRIPTION:
URL:https://harvestfellowshipsc.com/event/worship-service/2024-04-28/
END:VEVENT
BEGIN:VEVENT
DTSTART;TZID=UTC:20240430T190000
DTEND;TZID=UTC:20240430T190000
DTSTAMP:20260422T045123
CREATED:20230205T184928Z
LAST-MODIFIED:20230205T185121Z
UID:10000077-1714503600-1714503600@harvestfellowshipsc.com
SUMMARY:Prayer
DESCRIPTION:
URL:https://harvestfellowshipsc.com/event/prayer/2024-04-30/
END:VEVENT
END:VCALENDAR