BEGIN:VCALENDAR
VERSION:2.0
PRODID:-//Harvest Fellowship Church - ECPv6.15.20//NONSGML v1.0//EN
CALSCALE:GREGORIAN
METHOD:PUBLISH
X-ORIGINAL-URL:https://harvestfellowshipsc.com
X-WR-CALDESC:Events for Harvest Fellowship Church
REFRESH-INTERVAL;VALUE=DURATION:PT1H
X-Robots-Tag:noindex
X-PUBLISHED-TTL:PT1H
BEGIN:VTIMEZONE
TZID:UTC
BEGIN:STANDARD
TZOFFSETFROM:+0000
TZOFFSETTO:+0000
TZNAME:UTC
DTSTART:20230101T000000
END:STANDARD
END:VTIMEZONE
BEGIN:VEVENT
DTSTART;TZID=UTC:20240201T190000
DTEND;TZID=UTC:20240201T190000
DTSTAMP:20260422T090724
CREATED:20230205T185301Z
LAST-MODIFIED:20230205T185301Z
UID:10000439-1706814000-1706814000@harvestfellowshipsc.com
SUMMARY:Bible Study
DESCRIPTION:
URL:https://harvestfellowshipsc.com/event/bible-study/2024-02-01/
END:VEVENT
BEGIN:VEVENT
DTSTART;TZID=UTC:20240204T084500
DTEND;TZID=UTC:20240204T094500
DTSTAMP:20260422T090724
CREATED:20230205T190337Z
LAST-MODIFIED:20250709T230237Z
UID:10001076-1707036300-1707039900@harvestfellowshipsc.com
SUMMARY:Foundations I & II
DESCRIPTION:
URL:https://harvestfellowshipsc.com/event/foundations-ii/2024-02-04/
END:VEVENT
BEGIN:VEVENT
DTSTART;TZID=UTC:20240204T100000
DTEND;TZID=UTC:20240204T100000
DTSTAMP:20260422T090724
CREATED:20230205T185654Z
LAST-MODIFIED:20230205T191206Z
UID:10000758-1707040800-1707040800@harvestfellowshipsc.com
SUMMARY:Worship Service
DESCRIPTION:
URL:https://harvestfellowshipsc.com/event/worship-service/2024-02-04/
END:VEVENT
BEGIN:VEVENT
DTSTART;TZID=UTC:20240206T190000
DTEND;TZID=UTC:20240206T190000
DTSTAMP:20260422T090724
CREATED:20230205T184928Z
LAST-MODIFIED:20230205T185121Z
UID:10000065-1707246000-1707246000@harvestfellowshipsc.com
SUMMARY:Prayer
DESCRIPTION:
URL:https://harvestfellowshipsc.com/event/prayer/2024-02-06/
END:VEVENT
BEGIN:VEVENT
DTSTART;TZID=UTC:20240208T190000
DTEND;TZID=UTC:20240208T190000
DTSTAMP:20260422T090724
CREATED:20230205T185301Z
LAST-MODIFIED:20230205T185301Z
UID:10000440-1707418800-1707418800@harvestfellowshipsc.com
SUMMARY:Bible Study
DESCRIPTION:
URL:https://harvestfellowshipsc.com/event/bible-study/2024-02-08/
END:VEVENT
BEGIN:VEVENT
DTSTART;TZID=UTC:20240211T084500
DTEND;TZID=UTC:20240211T094500
DTSTAMP:20260422T090724
CREATED:20230205T190337Z
LAST-MODIFIED:20250709T230237Z
UID:10001077-1707641100-1707644700@harvestfellowshipsc.com
SUMMARY:Foundations I & II
DESCRIPTION:
URL:https://harvestfellowshipsc.com/event/foundations-ii/2024-02-11/
END:VEVENT
BEGIN:VEVENT
DTSTART;TZID=UTC:20240211T100000
DTEND;TZID=UTC:20240211T100000
DTSTAMP:20260422T090724
CREATED:20230205T185654Z
LAST-MODIFIED:20230205T191206Z
UID:10000759-1707645600-1707645600@harvestfellowshipsc.com
SUMMARY:Worship Service
DESCRIPTION:
URL:https://harvestfellowshipsc.com/event/worship-service/2024-02-11/
END:VEVENT
BEGIN:VEVENT
DTSTART;TZID=UTC:20240213T190000
DTEND;TZID=UTC:20240213T190000
DTSTAMP:20260422T090724
CREATED:20230205T184928Z
LAST-MODIFIED:20230205T185121Z
UID:10000066-1707850800-1707850800@harvestfellowshipsc.com
SUMMARY:Prayer
DESCRIPTION:
URL:https://harvestfellowshipsc.com/event/prayer/2024-02-13/
END:VEVENT
BEGIN:VEVENT
DTSTART;TZID=UTC:20240215T190000
DTEND;TZID=UTC:20240215T190000
DTSTAMP:20260422T090724
CREATED:20230205T185301Z
LAST-MODIFIED:20230205T185301Z
UID:10000441-1708023600-1708023600@harvestfellowshipsc.com
SUMMARY:Bible Study
DESCRIPTION:
URL:https://harvestfellowshipsc.com/event/bible-study/2024-02-15/
END:VEVENT
BEGIN:VEVENT
DTSTART;TZID=UTC:20240218T084500
DTEND;TZID=UTC:20240218T094500
DTSTAMP:20260422T090724
CREATED:20230205T190337Z
LAST-MODIFIED:20250709T230237Z
UID:10001078-1708245900-1708249500@harvestfellowshipsc.com
SUMMARY:Foundations I & II
DESCRIPTION:
URL:https://harvestfellowshipsc.com/event/foundations-ii/2024-02-18/
END:VEVENT
BEGIN:VEVENT
DTSTART;TZID=UTC:20240218T100000
DTEND;TZID=UTC:20240218T100000
DTSTAMP:20260422T090724
CREATED:20230205T185654Z
LAST-MODIFIED:20230205T191206Z
UID:10000760-1708250400-1708250400@harvestfellowshipsc.com
SUMMARY:Worship Service
DESCRIPTION:
URL:https://harvestfellowshipsc.com/event/worship-service/2024-02-18/
END:VEVENT
BEGIN:VEVENT
DTSTART;TZID=UTC:20240220T190000
DTEND;TZID=UTC:20240220T190000
DTSTAMP:20260422T090724
CREATED:20230205T184928Z
LAST-MODIFIED:20230205T185121Z
UID:10000067-1708455600-1708455600@harvestfellowshipsc.com
SUMMARY:Prayer
DESCRIPTION:
URL:https://harvestfellowshipsc.com/event/prayer/2024-02-20/
END:VEVENT
BEGIN:VEVENT
DTSTART;TZID=UTC:20240222T190000
DTEND;TZID=UTC:20240222T190000
DTSTAMP:20260422T090724
CREATED:20230205T185301Z
LAST-MODIFIED:20230205T185301Z
UID:10000442-1708628400-1708628400@harvestfellowshipsc.com
SUMMARY:Bible Study
DESCRIPTION:
URL:https://harvestfellowshipsc.com/event/bible-study/2024-02-22/
END:VEVENT
BEGIN:VEVENT
DTSTART;TZID=UTC:20240225T084500
DTEND;TZID=UTC:20240225T094500
DTSTAMP:20260422T090724
CREATED:20230205T190337Z
LAST-MODIFIED:20250709T230237Z
UID:10001079-1708850700-1708854300@harvestfellowshipsc.com
SUMMARY:Foundations I & II
DESCRIPTION:
URL:https://harvestfellowshipsc.com/event/foundations-ii/2024-02-25/
END:VEVENT
BEGIN:VEVENT
DTSTART;TZID=UTC:20240225T100000
DTEND;TZID=UTC:20240225T100000
DTSTAMP:20260422T090724
CREATED:20230205T185654Z
LAST-MODIFIED:20230205T191206Z
UID:10000761-1708855200-1708855200@harvestfellowshipsc.com
SUMMARY:Worship Service
DESCRIPTION:
URL:https://harvestfellowshipsc.com/event/worship-service/2024-02-25/
END:VEVENT
BEGIN:VEVENT
DTSTART;TZID=UTC:20240227T190000
DTEND;TZID=UTC:20240227T190000
DTSTAMP:20260422T090724
CREATED:20230205T184928Z
LAST-MODIFIED:20230205T185121Z
UID:10000068-1709060400-1709060400@harvestfellowshipsc.com
SUMMARY:Prayer
DESCRIPTION:
URL:https://harvestfellowshipsc.com/event/prayer/2024-02-27/
END:VEVENT
BEGIN:VEVENT
DTSTART;TZID=UTC:20240229T190000
DTEND;TZID=UTC:20240229T190000
DTSTAMP:20260422T090724
CREATED:20230205T185301Z
LAST-MODIFIED:20230205T185301Z
UID:10000443-1709233200-1709233200@harvestfellowshipsc.com
SUMMARY:Bible Study
DESCRIPTION:
URL:https://harvestfellowshipsc.com/event/bible-study/2024-02-29/
END:VEVENT
END:VCALENDAR