BEGIN:VCALENDAR
VERSION:2.0
PRODID:-//Harvest Fellowship Church - ECPv6.15.20//NONSGML v1.0//EN
CALSCALE:GREGORIAN
METHOD:PUBLISH
X-WR-CALNAME:Harvest Fellowship Church
X-ORIGINAL-URL:https://harvestfellowshipsc.com
X-WR-CALDESC:Events for Harvest Fellowship Church
REFRESH-INTERVAL;VALUE=DURATION:PT1H
X-Robots-Tag:noindex
X-PUBLISHED-TTL:PT1H
BEGIN:VTIMEZONE
TZID:UTC
BEGIN:STANDARD
TZOFFSETFROM:+0000
TZOFFSETTO:+0000
TZNAME:UTC
DTSTART:20230101T000000
END:STANDARD
END:VTIMEZONE
BEGIN:VEVENT
DTSTART;TZID=UTC:20240102T190000
DTEND;TZID=UTC:20240102T190000
DTSTAMP:20260422T105235
CREATED:20230205T184928Z
LAST-MODIFIED:20230205T185121Z
UID:10000060-1704222000-1704222000@harvestfellowshipsc.com
SUMMARY:Prayer
DESCRIPTION:
URL:https://harvestfellowshipsc.com/event/prayer/2024-01-02/
END:VEVENT
BEGIN:VEVENT
DTSTART;TZID=UTC:20240104T190000
DTEND;TZID=UTC:20240104T190000
DTSTAMP:20260422T105235
CREATED:20230205T185301Z
LAST-MODIFIED:20230205T185301Z
UID:10000435-1704394800-1704394800@harvestfellowshipsc.com
SUMMARY:Bible Study
DESCRIPTION:
URL:https://harvestfellowshipsc.com/event/bible-study/2024-01-04/
END:VEVENT
BEGIN:VEVENT
DTSTART;TZID=UTC:20240107T084500
DTEND;TZID=UTC:20240107T094500
DTSTAMP:20260422T105235
CREATED:20230205T190337Z
LAST-MODIFIED:20250709T230237Z
UID:10001072-1704617100-1704620700@harvestfellowshipsc.com
SUMMARY:Foundations I & II
DESCRIPTION:
URL:https://harvestfellowshipsc.com/event/foundations-ii/2024-01-07/
END:VEVENT
BEGIN:VEVENT
DTSTART;TZID=UTC:20240107T100000
DTEND;TZID=UTC:20240107T100000
DTSTAMP:20260422T105235
CREATED:20230205T185654Z
LAST-MODIFIED:20230205T191206Z
UID:10000754-1704621600-1704621600@harvestfellowshipsc.com
SUMMARY:Worship Service
DESCRIPTION:
URL:https://harvestfellowshipsc.com/event/worship-service/2024-01-07/
END:VEVENT
BEGIN:VEVENT
DTSTART;TZID=UTC:20240109T190000
DTEND;TZID=UTC:20240109T190000
DTSTAMP:20260422T105235
CREATED:20230205T184928Z
LAST-MODIFIED:20230205T185121Z
UID:10000061-1704826800-1704826800@harvestfellowshipsc.com
SUMMARY:Prayer
DESCRIPTION:
URL:https://harvestfellowshipsc.com/event/prayer/2024-01-09/
END:VEVENT
BEGIN:VEVENT
DTSTART;TZID=UTC:20240111T190000
DTEND;TZID=UTC:20240111T190000
DTSTAMP:20260422T105235
CREATED:20230205T185301Z
LAST-MODIFIED:20230205T185301Z
UID:10000436-1704999600-1704999600@harvestfellowshipsc.com
SUMMARY:Bible Study
DESCRIPTION:
URL:https://harvestfellowshipsc.com/event/bible-study/2024-01-11/
END:VEVENT
BEGIN:VEVENT
DTSTART;TZID=UTC:20240114T084500
DTEND;TZID=UTC:20240114T094500
DTSTAMP:20260422T105235
CREATED:20230205T190337Z
LAST-MODIFIED:20250709T230237Z
UID:10001073-1705221900-1705225500@harvestfellowshipsc.com
SUMMARY:Foundations I & II
DESCRIPTION:
URL:https://harvestfellowshipsc.com/event/foundations-ii/2024-01-14/
END:VEVENT
BEGIN:VEVENT
DTSTART;TZID=UTC:20240114T100000
DTEND;TZID=UTC:20240114T100000
DTSTAMP:20260422T105235
CREATED:20230205T185654Z
LAST-MODIFIED:20230205T191206Z
UID:10000755-1705226400-1705226400@harvestfellowshipsc.com
SUMMARY:Worship Service
DESCRIPTION:
URL:https://harvestfellowshipsc.com/event/worship-service/2024-01-14/
END:VEVENT
BEGIN:VEVENT
DTSTART;TZID=UTC:20240116T190000
DTEND;TZID=UTC:20240116T190000
DTSTAMP:20260422T105235
CREATED:20230205T184928Z
LAST-MODIFIED:20230205T185121Z
UID:10000062-1705431600-1705431600@harvestfellowshipsc.com
SUMMARY:Prayer
DESCRIPTION:
URL:https://harvestfellowshipsc.com/event/prayer/2024-01-16/
END:VEVENT
BEGIN:VEVENT
DTSTART;TZID=UTC:20240118T190000
DTEND;TZID=UTC:20240118T190000
DTSTAMP:20260422T105235
CREATED:20230205T185301Z
LAST-MODIFIED:20230205T185301Z
UID:10000437-1705604400-1705604400@harvestfellowshipsc.com
SUMMARY:Bible Study
DESCRIPTION:
URL:https://harvestfellowshipsc.com/event/bible-study/2024-01-18/
END:VEVENT
BEGIN:VEVENT
DTSTART;TZID=UTC:20240121T084500
DTEND;TZID=UTC:20240121T094500
DTSTAMP:20260422T105235
CREATED:20230205T190337Z
LAST-MODIFIED:20250709T230237Z
UID:10001074-1705826700-1705830300@harvestfellowshipsc.com
SUMMARY:Foundations I & II
DESCRIPTION:
URL:https://harvestfellowshipsc.com/event/foundations-ii/2024-01-21/
END:VEVENT
BEGIN:VEVENT
DTSTART;TZID=UTC:20240121T100000
DTEND;TZID=UTC:20240121T100000
DTSTAMP:20260422T105235
CREATED:20230205T185654Z
LAST-MODIFIED:20230205T191206Z
UID:10000756-1705831200-1705831200@harvestfellowshipsc.com
SUMMARY:Worship Service
DESCRIPTION:
URL:https://harvestfellowshipsc.com/event/worship-service/2024-01-21/
END:VEVENT
BEGIN:VEVENT
DTSTART;TZID=UTC:20240123T190000
DTEND;TZID=UTC:20240123T190000
DTSTAMP:20260422T105235
CREATED:20230205T184928Z
LAST-MODIFIED:20230205T185121Z
UID:10000063-1706036400-1706036400@harvestfellowshipsc.com
SUMMARY:Prayer
DESCRIPTION:
URL:https://harvestfellowshipsc.com/event/prayer/2024-01-23/
END:VEVENT
BEGIN:VEVENT
DTSTART;TZID=UTC:20240125T190000
DTEND;TZID=UTC:20240125T190000
DTSTAMP:20260422T105235
CREATED:20230205T185301Z
LAST-MODIFIED:20230205T185301Z
UID:10000438-1706209200-1706209200@harvestfellowshipsc.com
SUMMARY:Bible Study
DESCRIPTION:
URL:https://harvestfellowshipsc.com/event/bible-study/2024-01-25/
END:VEVENT
BEGIN:VEVENT
DTSTART;TZID=UTC:20240128T084500
DTEND;TZID=UTC:20240128T094500
DTSTAMP:20260422T105235
CREATED:20230205T190337Z
LAST-MODIFIED:20250709T230237Z
UID:10001075-1706431500-1706435100@harvestfellowshipsc.com
SUMMARY:Foundations I & II
DESCRIPTION:
URL:https://harvestfellowshipsc.com/event/foundations-ii/2024-01-28/
END:VEVENT
BEGIN:VEVENT
DTSTART;TZID=UTC:20240128T100000
DTEND;TZID=UTC:20240128T100000
DTSTAMP:20260422T105235
CREATED:20230205T185654Z
LAST-MODIFIED:20230205T191206Z
UID:10000757-1706436000-1706436000@harvestfellowshipsc.com
SUMMARY:Worship Service
DESCRIPTION:
URL:https://harvestfellowshipsc.com/event/worship-service/2024-01-28/
END:VEVENT
BEGIN:VEVENT
DTSTART;TZID=UTC:20240130T190000
DTEND;TZID=UTC:20240130T190000
DTSTAMP:20260422T105235
CREATED:20230205T184928Z
LAST-MODIFIED:20230205T185121Z
UID:10000064-1706641200-1706641200@harvestfellowshipsc.com
SUMMARY:Prayer
DESCRIPTION:
URL:https://harvestfellowshipsc.com/event/prayer/2024-01-30/
END:VEVENT
END:VCALENDAR