BEGIN:VCALENDAR
VERSION:2.0
PRODID:-//Harvest Fellowship Church - ECPv6.15.20//NONSGML v1.0//EN
CALSCALE:GREGORIAN
METHOD:PUBLISH
X-ORIGINAL-URL:https://harvestfellowshipsc.com
X-WR-CALDESC:Events for Harvest Fellowship Church
REFRESH-INTERVAL;VALUE=DURATION:PT1H
X-Robots-Tag:noindex
X-PUBLISHED-TTL:PT1H
BEGIN:VTIMEZONE
TZID:UTC
BEGIN:STANDARD
TZOFFSETFROM:+0000
TZOFFSETTO:+0000
TZNAME:UTC
DTSTART:20220101T000000
END:STANDARD
END:VTIMEZONE
BEGIN:VEVENT
DTSTART;TZID=UTC:20231203T084500
DTEND;TZID=UTC:20231203T094500
DTSTAMP:20260422T124750
CREATED:20230205T190337Z
LAST-MODIFIED:20250709T230237Z
UID:10001067-1701593100-1701596700@harvestfellowshipsc.com
SUMMARY:Foundations I & II
DESCRIPTION:
URL:https://harvestfellowshipsc.com/event/foundations-ii/2023-12-03/
END:VEVENT
BEGIN:VEVENT
DTSTART;TZID=UTC:20231203T100000
DTEND;TZID=UTC:20231203T100000
DTSTAMP:20260422T124750
CREATED:20230205T185654Z
LAST-MODIFIED:20230205T191206Z
UID:10000749-1701597600-1701597600@harvestfellowshipsc.com
SUMMARY:Worship Service
DESCRIPTION:
URL:https://harvestfellowshipsc.com/event/worship-service/2023-12-03/
END:VEVENT
BEGIN:VEVENT
DTSTART;TZID=UTC:20231205T190000
DTEND;TZID=UTC:20231205T190000
DTSTAMP:20260422T124750
CREATED:20230205T184928Z
LAST-MODIFIED:20230205T185121Z
UID:10000056-1701802800-1701802800@harvestfellowshipsc.com
SUMMARY:Prayer
DESCRIPTION:
URL:https://harvestfellowshipsc.com/event/prayer/2023-12-05/
END:VEVENT
BEGIN:VEVENT
DTSTART;TZID=UTC:20231207T190000
DTEND;TZID=UTC:20231207T190000
DTSTAMP:20260422T124750
CREATED:20230205T185301Z
LAST-MODIFIED:20230205T185301Z
UID:10000431-1701975600-1701975600@harvestfellowshipsc.com
SUMMARY:Bible Study
DESCRIPTION:
URL:https://harvestfellowshipsc.com/event/bible-study/2023-12-07/
END:VEVENT
BEGIN:VEVENT
DTSTART;TZID=UTC:20231210T084500
DTEND;TZID=UTC:20231210T094500
DTSTAMP:20260422T124750
CREATED:20230205T190337Z
LAST-MODIFIED:20250709T230237Z
UID:10001068-1702197900-1702201500@harvestfellowshipsc.com
SUMMARY:Foundations I & II
DESCRIPTION:
URL:https://harvestfellowshipsc.com/event/foundations-ii/2023-12-10/
END:VEVENT
BEGIN:VEVENT
DTSTART;TZID=UTC:20231210T100000
DTEND;TZID=UTC:20231210T100000
DTSTAMP:20260422T124750
CREATED:20230205T185654Z
LAST-MODIFIED:20230205T191206Z
UID:10000750-1702202400-1702202400@harvestfellowshipsc.com
SUMMARY:Worship Service
DESCRIPTION:
URL:https://harvestfellowshipsc.com/event/worship-service/2023-12-10/
END:VEVENT
BEGIN:VEVENT
DTSTART;TZID=UTC:20231212T190000
DTEND;TZID=UTC:20231212T190000
DTSTAMP:20260422T124750
CREATED:20230205T184928Z
LAST-MODIFIED:20230205T185121Z
UID:10000057-1702407600-1702407600@harvestfellowshipsc.com
SUMMARY:Prayer
DESCRIPTION:
URL:https://harvestfellowshipsc.com/event/prayer/2023-12-12/
END:VEVENT
BEGIN:VEVENT
DTSTART;TZID=UTC:20231214T190000
DTEND;TZID=UTC:20231214T190000
DTSTAMP:20260422T124750
CREATED:20230205T185301Z
LAST-MODIFIED:20230205T185301Z
UID:10000432-1702580400-1702580400@harvestfellowshipsc.com
SUMMARY:Bible Study
DESCRIPTION:
URL:https://harvestfellowshipsc.com/event/bible-study/2023-12-14/
END:VEVENT
BEGIN:VEVENT
DTSTART;TZID=UTC:20231217T084500
DTEND;TZID=UTC:20231217T094500
DTSTAMP:20260422T124750
CREATED:20230205T190337Z
LAST-MODIFIED:20250709T230237Z
UID:10001069-1702802700-1702806300@harvestfellowshipsc.com
SUMMARY:Foundations I & II
DESCRIPTION:
URL:https://harvestfellowshipsc.com/event/foundations-ii/2023-12-17/
END:VEVENT
BEGIN:VEVENT
DTSTART;TZID=UTC:20231217T100000
DTEND;TZID=UTC:20231217T100000
DTSTAMP:20260422T124750
CREATED:20230205T185654Z
LAST-MODIFIED:20230205T191206Z
UID:10000751-1702807200-1702807200@harvestfellowshipsc.com
SUMMARY:Worship Service
DESCRIPTION:
URL:https://harvestfellowshipsc.com/event/worship-service/2023-12-17/
END:VEVENT
BEGIN:VEVENT
DTSTART;TZID=UTC:20231219T190000
DTEND;TZID=UTC:20231219T190000
DTSTAMP:20260422T124750
CREATED:20230205T184928Z
LAST-MODIFIED:20230205T185121Z
UID:10000058-1703012400-1703012400@harvestfellowshipsc.com
SUMMARY:Prayer
DESCRIPTION:
URL:https://harvestfellowshipsc.com/event/prayer/2023-12-19/
END:VEVENT
BEGIN:VEVENT
DTSTART;TZID=UTC:20231221T190000
DTEND;TZID=UTC:20231221T190000
DTSTAMP:20260422T124750
CREATED:20230205T185301Z
LAST-MODIFIED:20230205T185301Z
UID:10000433-1703185200-1703185200@harvestfellowshipsc.com
SUMMARY:Bible Study
DESCRIPTION:
URL:https://harvestfellowshipsc.com/event/bible-study/2023-12-21/
END:VEVENT
BEGIN:VEVENT
DTSTART;TZID=UTC:20231224T084500
DTEND;TZID=UTC:20231224T094500
DTSTAMP:20260422T124750
CREATED:20230205T190337Z
LAST-MODIFIED:20250709T230237Z
UID:10001070-1703407500-1703411100@harvestfellowshipsc.com
SUMMARY:Foundations I & II
DESCRIPTION:
URL:https://harvestfellowshipsc.com/event/foundations-ii/2023-12-24/
END:VEVENT
BEGIN:VEVENT
DTSTART;TZID=UTC:20231224T100000
DTEND;TZID=UTC:20231224T100000
DTSTAMP:20260422T124750
CREATED:20230205T185654Z
LAST-MODIFIED:20230205T191206Z
UID:10000752-1703412000-1703412000@harvestfellowshipsc.com
SUMMARY:Worship Service
DESCRIPTION:
URL:https://harvestfellowshipsc.com/event/worship-service/2023-12-24/
END:VEVENT
BEGIN:VEVENT
DTSTART;TZID=UTC:20231226T190000
DTEND;TZID=UTC:20231226T190000
DTSTAMP:20260422T124750
CREATED:20230205T184928Z
LAST-MODIFIED:20230205T185121Z
UID:10000059-1703617200-1703617200@harvestfellowshipsc.com
SUMMARY:Prayer
DESCRIPTION:
URL:https://harvestfellowshipsc.com/event/prayer/2023-12-26/
END:VEVENT
BEGIN:VEVENT
DTSTART;TZID=UTC:20231228T190000
DTEND;TZID=UTC:20231228T190000
DTSTAMP:20260422T124750
CREATED:20230205T185301Z
LAST-MODIFIED:20230205T185301Z
UID:10000434-1703790000-1703790000@harvestfellowshipsc.com
SUMMARY:Bible Study
DESCRIPTION:
URL:https://harvestfellowshipsc.com/event/bible-study/2023-12-28/
END:VEVENT
BEGIN:VEVENT
DTSTART;TZID=UTC:20231231T084500
DTEND;TZID=UTC:20231231T094500
DTSTAMP:20260422T124750
CREATED:20230205T190337Z
LAST-MODIFIED:20250709T230237Z
UID:10001071-1704012300-1704015900@harvestfellowshipsc.com
SUMMARY:Foundations I & II
DESCRIPTION:
URL:https://harvestfellowshipsc.com/event/foundations-ii/2023-12-31/
END:VEVENT
BEGIN:VEVENT
DTSTART;TZID=UTC:20231231T100000
DTEND;TZID=UTC:20231231T100000
DTSTAMP:20260422T124750
CREATED:20230205T185654Z
LAST-MODIFIED:20230205T191206Z
UID:10000753-1704016800-1704016800@harvestfellowshipsc.com
SUMMARY:Worship Service
DESCRIPTION:
URL:https://harvestfellowshipsc.com/event/worship-service/2023-12-31/
END:VEVENT
END:VCALENDAR