BEGIN:VCALENDAR
VERSION:2.0
PRODID:-//Harvest Fellowship Church - ECPv6.15.20//NONSGML v1.0//EN
CALSCALE:GREGORIAN
METHOD:PUBLISH
X-WR-CALNAME:Harvest Fellowship Church
X-ORIGINAL-URL:https://harvestfellowshipsc.com
X-WR-CALDESC:Events for Harvest Fellowship Church
REFRESH-INTERVAL;VALUE=DURATION:PT1H
X-Robots-Tag:noindex
X-PUBLISHED-TTL:PT1H
BEGIN:VTIMEZONE
TZID:UTC
BEGIN:STANDARD
TZOFFSETFROM:+0000
TZOFFSETTO:+0000
TZNAME:UTC
DTSTART:20220101T000000
END:STANDARD
END:VTIMEZONE
BEGIN:VEVENT
DTSTART;TZID=UTC:20231102T190000
DTEND;TZID=UTC:20231102T190000
DTSTAMP:20260422T143118
CREATED:20230205T185301Z
LAST-MODIFIED:20230205T185301Z
UID:10000426-1698951600-1698951600@harvestfellowshipsc.com
SUMMARY:Bible Study
DESCRIPTION:
URL:https://harvestfellowshipsc.com/event/bible-study/2023-11-02/
END:VEVENT
BEGIN:VEVENT
DTSTART;TZID=UTC:20231105T084500
DTEND;TZID=UTC:20231105T094500
DTSTAMP:20260422T143118
CREATED:20230205T190337Z
LAST-MODIFIED:20250709T230237Z
UID:10001063-1699173900-1699177500@harvestfellowshipsc.com
SUMMARY:Foundations I & II
DESCRIPTION:
URL:https://harvestfellowshipsc.com/event/foundations-ii/2023-11-05/
END:VEVENT
BEGIN:VEVENT
DTSTART;TZID=UTC:20231105T100000
DTEND;TZID=UTC:20231105T100000
DTSTAMP:20260422T143118
CREATED:20230205T185654Z
LAST-MODIFIED:20230205T191206Z
UID:10000745-1699178400-1699178400@harvestfellowshipsc.com
SUMMARY:Worship Service
DESCRIPTION:
URL:https://harvestfellowshipsc.com/event/worship-service/2023-11-05/
END:VEVENT
BEGIN:VEVENT
DTSTART;TZID=UTC:20231107T190000
DTEND;TZID=UTC:20231107T190000
DTSTAMP:20260422T143118
CREATED:20230205T184928Z
LAST-MODIFIED:20230205T185121Z
UID:10000052-1699383600-1699383600@harvestfellowshipsc.com
SUMMARY:Prayer
DESCRIPTION:
URL:https://harvestfellowshipsc.com/event/prayer/2023-11-07/
END:VEVENT
BEGIN:VEVENT
DTSTART;TZID=UTC:20231109T190000
DTEND;TZID=UTC:20231109T190000
DTSTAMP:20260422T143118
CREATED:20230205T185301Z
LAST-MODIFIED:20230205T185301Z
UID:10000427-1699556400-1699556400@harvestfellowshipsc.com
SUMMARY:Bible Study
DESCRIPTION:
URL:https://harvestfellowshipsc.com/event/bible-study/2023-11-09/
END:VEVENT
BEGIN:VEVENT
DTSTART;TZID=UTC:20231112T084500
DTEND;TZID=UTC:20231112T094500
DTSTAMP:20260422T143118
CREATED:20230205T190337Z
LAST-MODIFIED:20250709T230237Z
UID:10001064-1699778700-1699782300@harvestfellowshipsc.com
SUMMARY:Foundations I & II
DESCRIPTION:
URL:https://harvestfellowshipsc.com/event/foundations-ii/2023-11-12/
END:VEVENT
BEGIN:VEVENT
DTSTART;TZID=UTC:20231112T100000
DTEND;TZID=UTC:20231112T100000
DTSTAMP:20260422T143118
CREATED:20230205T185654Z
LAST-MODIFIED:20230205T191206Z
UID:10000746-1699783200-1699783200@harvestfellowshipsc.com
SUMMARY:Worship Service
DESCRIPTION:
URL:https://harvestfellowshipsc.com/event/worship-service/2023-11-12/
END:VEVENT
BEGIN:VEVENT
DTSTART;TZID=UTC:20231112T100000
DTEND;TZID=UTC:20231112T100000
DTSTAMP:20260422T143118
CREATED:20231015T154803Z
LAST-MODIFIED:20231015T154943Z
UID:10001289-1699783200-1699783200@harvestfellowshipsc.com
SUMMARY:Military Appreciation Service
DESCRIPTION:
URL:https://harvestfellowshipsc.com/event/military-appreciation-service/
END:VEVENT
BEGIN:VEVENT
DTSTART;TZID=UTC:20231114T190000
DTEND;TZID=UTC:20231114T190000
DTSTAMP:20260422T143118
CREATED:20230205T184928Z
LAST-MODIFIED:20230205T185121Z
UID:10000053-1699988400-1699988400@harvestfellowshipsc.com
SUMMARY:Prayer
DESCRIPTION:
URL:https://harvestfellowshipsc.com/event/prayer/2023-11-14/
END:VEVENT
BEGIN:VEVENT
DTSTART;TZID=UTC:20231116T190000
DTEND;TZID=UTC:20231116T190000
DTSTAMP:20260422T143119
CREATED:20230205T185301Z
LAST-MODIFIED:20230205T185301Z
UID:10000428-1700161200-1700161200@harvestfellowshipsc.com
SUMMARY:Bible Study
DESCRIPTION:
URL:https://harvestfellowshipsc.com/event/bible-study/2023-11-16/
END:VEVENT
BEGIN:VEVENT
DTSTART;TZID=UTC:20231119T084500
DTEND;TZID=UTC:20231119T094500
DTSTAMP:20260422T143119
CREATED:20230205T190337Z
LAST-MODIFIED:20250709T230237Z
UID:10001065-1700383500-1700387100@harvestfellowshipsc.com
SUMMARY:Foundations I & II
DESCRIPTION:
URL:https://harvestfellowshipsc.com/event/foundations-ii/2023-11-19/
END:VEVENT
BEGIN:VEVENT
DTSTART;TZID=UTC:20231119T100000
DTEND;TZID=UTC:20231119T100000
DTSTAMP:20260422T143119
CREATED:20230205T185654Z
LAST-MODIFIED:20230205T191206Z
UID:10000747-1700388000-1700388000@harvestfellowshipsc.com
SUMMARY:Worship Service
DESCRIPTION:
URL:https://harvestfellowshipsc.com/event/worship-service/2023-11-19/
END:VEVENT
BEGIN:VEVENT
DTSTART;TZID=UTC:20231121T190000
DTEND;TZID=UTC:20231121T190000
DTSTAMP:20260422T143119
CREATED:20230205T184928Z
LAST-MODIFIED:20230205T185121Z
UID:10000054-1700593200-1700593200@harvestfellowshipsc.com
SUMMARY:Prayer
DESCRIPTION:
URL:https://harvestfellowshipsc.com/event/prayer/2023-11-21/
END:VEVENT
BEGIN:VEVENT
DTSTART;TZID=UTC:20231123T190000
DTEND;TZID=UTC:20231123T190000
DTSTAMP:20260422T143119
CREATED:20230205T185301Z
LAST-MODIFIED:20230205T185301Z
UID:10000429-1700766000-1700766000@harvestfellowshipsc.com
SUMMARY:Bible Study
DESCRIPTION:
URL:https://harvestfellowshipsc.com/event/bible-study/2023-11-23/
END:VEVENT
BEGIN:VEVENT
DTSTART;TZID=UTC:20231126T084500
DTEND;TZID=UTC:20231126T094500
DTSTAMP:20260422T143119
CREATED:20230205T190337Z
LAST-MODIFIED:20250709T230237Z
UID:10001066-1700988300-1700991900@harvestfellowshipsc.com
SUMMARY:Foundations I & II
DESCRIPTION:
URL:https://harvestfellowshipsc.com/event/foundations-ii/2023-11-26/
END:VEVENT
BEGIN:VEVENT
DTSTART;TZID=UTC:20231126T100000
DTEND;TZID=UTC:20231126T100000
DTSTAMP:20260422T143119
CREATED:20230205T185654Z
LAST-MODIFIED:20230205T191206Z
UID:10000748-1700992800-1700992800@harvestfellowshipsc.com
SUMMARY:Worship Service
DESCRIPTION:
URL:https://harvestfellowshipsc.com/event/worship-service/2023-11-26/
END:VEVENT
BEGIN:VEVENT
DTSTART;TZID=UTC:20231128T190000
DTEND;TZID=UTC:20231128T190000
DTSTAMP:20260422T143119
CREATED:20230205T184928Z
LAST-MODIFIED:20230205T185121Z
UID:10000055-1701198000-1701198000@harvestfellowshipsc.com
SUMMARY:Prayer
DESCRIPTION:
URL:https://harvestfellowshipsc.com/event/prayer/2023-11-28/
END:VEVENT
BEGIN:VEVENT
DTSTART;TZID=UTC:20231130T190000
DTEND;TZID=UTC:20231130T190000
DTSTAMP:20260422T143119
CREATED:20230205T185301Z
LAST-MODIFIED:20230205T185301Z
UID:10000430-1701370800-1701370800@harvestfellowshipsc.com
SUMMARY:Bible Study
DESCRIPTION:
URL:https://harvestfellowshipsc.com/event/bible-study/2023-11-30/
END:VEVENT
END:VCALENDAR