BEGIN:VCALENDAR
VERSION:2.0
PRODID:-//Harvest Fellowship Church - ECPv6.15.20//NONSGML v1.0//EN
CALSCALE:GREGORIAN
METHOD:PUBLISH
X-ORIGINAL-URL:https://harvestfellowshipsc.com
X-WR-CALDESC:Events for Harvest Fellowship Church
REFRESH-INTERVAL;VALUE=DURATION:PT1H
X-Robots-Tag:noindex
X-PUBLISHED-TTL:PT1H
BEGIN:VTIMEZONE
TZID:UTC
BEGIN:STANDARD
TZOFFSETFROM:+0000
TZOFFSETTO:+0000
TZNAME:UTC
DTSTART:20220101T000000
END:STANDARD
END:VTIMEZONE
BEGIN:VEVENT
DTSTART;TZID=UTC:20231001T084500
DTEND;TZID=UTC:20231001T094500
DTSTAMP:20260422T160720
CREATED:20230205T190337Z
LAST-MODIFIED:20250709T230237Z
UID:10001058-1696149900-1696153500@harvestfellowshipsc.com
SUMMARY:Foundations I & II
DESCRIPTION:
URL:https://harvestfellowshipsc.com/event/foundations-ii/2023-10-01/
END:VEVENT
BEGIN:VEVENT
DTSTART;TZID=UTC:20231001T100000
DTEND;TZID=UTC:20231001T100000
DTSTAMP:20260422T160720
CREATED:20230205T185654Z
LAST-MODIFIED:20230205T191206Z
UID:10000740-1696154400-1696154400@harvestfellowshipsc.com
SUMMARY:Worship Service
DESCRIPTION:
URL:https://harvestfellowshipsc.com/event/worship-service/2023-10-01/
END:VEVENT
BEGIN:VEVENT
DTSTART;TZID=UTC:20231003T190000
DTEND;TZID=UTC:20231003T190000
DTSTAMP:20260422T160720
CREATED:20230205T184928Z
LAST-MODIFIED:20230205T185121Z
UID:10000047-1696359600-1696359600@harvestfellowshipsc.com
SUMMARY:Prayer
DESCRIPTION:
URL:https://harvestfellowshipsc.com/event/prayer/2023-10-03/
END:VEVENT
BEGIN:VEVENT
DTSTART;TZID=UTC:20231005T190000
DTEND;TZID=UTC:20231005T190000
DTSTAMP:20260422T160720
CREATED:20230205T185301Z
LAST-MODIFIED:20230205T185301Z
UID:10000422-1696532400-1696532400@harvestfellowshipsc.com
SUMMARY:Bible Study
DESCRIPTION:
URL:https://harvestfellowshipsc.com/event/bible-study/2023-10-05/
END:VEVENT
BEGIN:VEVENT
DTSTART;TZID=UTC:20231008T084500
DTEND;TZID=UTC:20231008T094500
DTSTAMP:20260422T160720
CREATED:20230205T190337Z
LAST-MODIFIED:20250709T230237Z
UID:10001059-1696754700-1696758300@harvestfellowshipsc.com
SUMMARY:Foundations I & II
DESCRIPTION:
URL:https://harvestfellowshipsc.com/event/foundations-ii/2023-10-08/
END:VEVENT
BEGIN:VEVENT
DTSTART;TZID=UTC:20231008T100000
DTEND;TZID=UTC:20231008T100000
DTSTAMP:20260422T160720
CREATED:20230205T185654Z
LAST-MODIFIED:20230205T191206Z
UID:10000741-1696759200-1696759200@harvestfellowshipsc.com
SUMMARY:Worship Service
DESCRIPTION:
URL:https://harvestfellowshipsc.com/event/worship-service/2023-10-08/
END:VEVENT
BEGIN:VEVENT
DTSTART;TZID=UTC:20231010T190000
DTEND;TZID=UTC:20231010T190000
DTSTAMP:20260422T160720
CREATED:20230205T184928Z
LAST-MODIFIED:20230205T185121Z
UID:10000048-1696964400-1696964400@harvestfellowshipsc.com
SUMMARY:Prayer
DESCRIPTION:
URL:https://harvestfellowshipsc.com/event/prayer/2023-10-10/
END:VEVENT
BEGIN:VEVENT
DTSTART;TZID=UTC:20231012T190000
DTEND;TZID=UTC:20231012T190000
DTSTAMP:20260422T160720
CREATED:20230205T185301Z
LAST-MODIFIED:20230205T185301Z
UID:10000423-1697137200-1697137200@harvestfellowshipsc.com
SUMMARY:Bible Study
DESCRIPTION:
URL:https://harvestfellowshipsc.com/event/bible-study/2023-10-12/
END:VEVENT
BEGIN:VEVENT
DTSTART;TZID=UTC:20231015T084500
DTEND;TZID=UTC:20231015T094500
DTSTAMP:20260422T160720
CREATED:20230205T190337Z
LAST-MODIFIED:20250709T230237Z
UID:10001060-1697359500-1697363100@harvestfellowshipsc.com
SUMMARY:Foundations I & II
DESCRIPTION:
URL:https://harvestfellowshipsc.com/event/foundations-ii/2023-10-15/
END:VEVENT
BEGIN:VEVENT
DTSTART;TZID=UTC:20231015T100000
DTEND;TZID=UTC:20231015T100000
DTSTAMP:20260422T160720
CREATED:20230205T185654Z
LAST-MODIFIED:20230205T191206Z
UID:10000742-1697364000-1697364000@harvestfellowshipsc.com
SUMMARY:Worship Service
DESCRIPTION:
URL:https://harvestfellowshipsc.com/event/worship-service/2023-10-15/
END:VEVENT
BEGIN:VEVENT
DTSTART;TZID=UTC:20231017T190000
DTEND;TZID=UTC:20231017T190000
DTSTAMP:20260422T160720
CREATED:20230205T184928Z
LAST-MODIFIED:20230205T185121Z
UID:10000049-1697569200-1697569200@harvestfellowshipsc.com
SUMMARY:Prayer
DESCRIPTION:
URL:https://harvestfellowshipsc.com/event/prayer/2023-10-17/
END:VEVENT
BEGIN:VEVENT
DTSTART;TZID=UTC:20231019T190000
DTEND;TZID=UTC:20231019T190000
DTSTAMP:20260422T160720
CREATED:20230205T185301Z
LAST-MODIFIED:20230205T185301Z
UID:10000424-1697742000-1697742000@harvestfellowshipsc.com
SUMMARY:Bible Study
DESCRIPTION:
URL:https://harvestfellowshipsc.com/event/bible-study/2023-10-19/
END:VEVENT
BEGIN:VEVENT
DTSTART;TZID=UTC:20231022T084500
DTEND;TZID=UTC:20231022T094500
DTSTAMP:20260422T160720
CREATED:20230205T190337Z
LAST-MODIFIED:20250709T230237Z
UID:10001061-1697964300-1697967900@harvestfellowshipsc.com
SUMMARY:Foundations I & II
DESCRIPTION:
URL:https://harvestfellowshipsc.com/event/foundations-ii/2023-10-22/
END:VEVENT
BEGIN:VEVENT
DTSTART;TZID=UTC:20231022T100000
DTEND;TZID=UTC:20231022T100000
DTSTAMP:20260422T160720
CREATED:20230205T185654Z
LAST-MODIFIED:20230205T191206Z
UID:10000743-1697968800-1697968800@harvestfellowshipsc.com
SUMMARY:Worship Service
DESCRIPTION:
URL:https://harvestfellowshipsc.com/event/worship-service/2023-10-22/
END:VEVENT
BEGIN:VEVENT
DTSTART;TZID=UTC:20231024T190000
DTEND;TZID=UTC:20231024T190000
DTSTAMP:20260422T160720
CREATED:20230205T184928Z
LAST-MODIFIED:20230205T185121Z
UID:10000050-1698174000-1698174000@harvestfellowshipsc.com
SUMMARY:Prayer
DESCRIPTION:
URL:https://harvestfellowshipsc.com/event/prayer/2023-10-24/
END:VEVENT
BEGIN:VEVENT
DTSTART;TZID=UTC:20231026T190000
DTEND;TZID=UTC:20231026T190000
DTSTAMP:20260422T160720
CREATED:20230205T185301Z
LAST-MODIFIED:20230205T185301Z
UID:10000425-1698346800-1698346800@harvestfellowshipsc.com
SUMMARY:Bible Study
DESCRIPTION:
URL:https://harvestfellowshipsc.com/event/bible-study/2023-10-26/
END:VEVENT
BEGIN:VEVENT
DTSTART;TZID=UTC:20231029T084500
DTEND;TZID=UTC:20231029T094500
DTSTAMP:20260422T160720
CREATED:20230205T190337Z
LAST-MODIFIED:20250709T230237Z
UID:10001062-1698569100-1698572700@harvestfellowshipsc.com
SUMMARY:Foundations I & II
DESCRIPTION:
URL:https://harvestfellowshipsc.com/event/foundations-ii/2023-10-29/
END:VEVENT
BEGIN:VEVENT
DTSTART;TZID=UTC:20231029T100000
DTEND;TZID=UTC:20231029T100000
DTSTAMP:20260422T160720
CREATED:20230205T185654Z
LAST-MODIFIED:20230205T191206Z
UID:10000744-1698573600-1698573600@harvestfellowshipsc.com
SUMMARY:Worship Service
DESCRIPTION:
URL:https://harvestfellowshipsc.com/event/worship-service/2023-10-29/
END:VEVENT
BEGIN:VEVENT
DTSTART;TZID=UTC:20231031T190000
DTEND;TZID=UTC:20231031T190000
DTSTAMP:20260422T160721
CREATED:20230205T184928Z
LAST-MODIFIED:20230205T185121Z
UID:10000051-1698778800-1698778800@harvestfellowshipsc.com
SUMMARY:Prayer
DESCRIPTION:
URL:https://harvestfellowshipsc.com/event/prayer/2023-10-31/
END:VEVENT
END:VCALENDAR