BEGIN:VCALENDAR
VERSION:2.0
PRODID:-//Harvest Fellowship Church - ECPv6.15.20//NONSGML v1.0//EN
CALSCALE:GREGORIAN
METHOD:PUBLISH
X-WR-CALNAME:Harvest Fellowship Church
X-ORIGINAL-URL:https://harvestfellowshipsc.com
X-WR-CALDESC:Events for Harvest Fellowship Church
REFRESH-INTERVAL;VALUE=DURATION:PT1H
X-Robots-Tag:noindex
X-PUBLISHED-TTL:PT1H
BEGIN:VTIMEZONE
TZID:UTC
BEGIN:STANDARD
TZOFFSETFROM:+0000
TZOFFSETTO:+0000
TZNAME:UTC
DTSTART:20220101T000000
END:STANDARD
END:VTIMEZONE
BEGIN:VEVENT
DTSTART;TZID=UTC:20230903T084500
DTEND;TZID=UTC:20230903T094500
DTSTAMP:20260422T175124
CREATED:20230205T190337Z
LAST-MODIFIED:20250709T230237Z
UID:10001054-1693730700-1693734300@harvestfellowshipsc.com
SUMMARY:Foundations I & II
DESCRIPTION:
URL:https://harvestfellowshipsc.com/event/foundations-ii/2023-09-03/
END:VEVENT
BEGIN:VEVENT
DTSTART;TZID=UTC:20230903T100000
DTEND;TZID=UTC:20230903T100000
DTSTAMP:20260422T175124
CREATED:20230205T185654Z
LAST-MODIFIED:20230205T191206Z
UID:10000736-1693735200-1693735200@harvestfellowshipsc.com
SUMMARY:Worship Service
DESCRIPTION:
URL:https://harvestfellowshipsc.com/event/worship-service/2023-09-03/
END:VEVENT
BEGIN:VEVENT
DTSTART;TZID=UTC:20230905T190000
DTEND;TZID=UTC:20230905T190000
DTSTAMP:20260422T175124
CREATED:20230205T184928Z
LAST-MODIFIED:20230205T185121Z
UID:10000043-1693940400-1693940400@harvestfellowshipsc.com
SUMMARY:Prayer
DESCRIPTION:
URL:https://harvestfellowshipsc.com/event/prayer/2023-09-05/
END:VEVENT
BEGIN:VEVENT
DTSTART;TZID=UTC:20230907T190000
DTEND;TZID=UTC:20230907T190000
DTSTAMP:20260422T175124
CREATED:20230205T185301Z
LAST-MODIFIED:20230205T185301Z
UID:10000418-1694113200-1694113200@harvestfellowshipsc.com
SUMMARY:Bible Study
DESCRIPTION:
URL:https://harvestfellowshipsc.com/event/bible-study/2023-09-07/
END:VEVENT
BEGIN:VEVENT
DTSTART;TZID=UTC:20230910T084500
DTEND;TZID=UTC:20230910T094500
DTSTAMP:20260422T175124
CREATED:20230205T190337Z
LAST-MODIFIED:20250709T230237Z
UID:10001055-1694335500-1694339100@harvestfellowshipsc.com
SUMMARY:Foundations I & II
DESCRIPTION:
URL:https://harvestfellowshipsc.com/event/foundations-ii/2023-09-10/
END:VEVENT
BEGIN:VEVENT
DTSTART;TZID=UTC:20230910T100000
DTEND;TZID=UTC:20230910T100000
DTSTAMP:20260422T175124
CREATED:20230205T185654Z
LAST-MODIFIED:20230205T191206Z
UID:10000737-1694340000-1694340000@harvestfellowshipsc.com
SUMMARY:Worship Service
DESCRIPTION:
URL:https://harvestfellowshipsc.com/event/worship-service/2023-09-10/
END:VEVENT
BEGIN:VEVENT
DTSTART;TZID=UTC:20230912T190000
DTEND;TZID=UTC:20230912T190000
DTSTAMP:20260422T175124
CREATED:20230205T184928Z
LAST-MODIFIED:20230205T185121Z
UID:10000044-1694545200-1694545200@harvestfellowshipsc.com
SUMMARY:Prayer
DESCRIPTION:
URL:https://harvestfellowshipsc.com/event/prayer/2023-09-12/
END:VEVENT
BEGIN:VEVENT
DTSTART;TZID=UTC:20230914T190000
DTEND;TZID=UTC:20230914T190000
DTSTAMP:20260422T175124
CREATED:20230205T185301Z
LAST-MODIFIED:20230205T185301Z
UID:10000419-1694718000-1694718000@harvestfellowshipsc.com
SUMMARY:Bible Study
DESCRIPTION:
URL:https://harvestfellowshipsc.com/event/bible-study/2023-09-14/
END:VEVENT
BEGIN:VEVENT
DTSTART;VALUE=DATE:20230917
DTEND;VALUE=DATE:20230918
DTSTAMP:20260422T175124
CREATED:20230906T224911Z
LAST-MODIFIED:20230906T224954Z
UID:10001288-1694908800-1694995199@harvestfellowshipsc.com
SUMMARY:Annual Church Cookout
DESCRIPTION:
URL:https://harvestfellowshipsc.com/event/annual-church-cookout/
END:VEVENT
BEGIN:VEVENT
DTSTART;TZID=UTC:20230917T084500
DTEND;TZID=UTC:20230917T094500
DTSTAMP:20260422T175124
CREATED:20230205T190337Z
LAST-MODIFIED:20250709T230237Z
UID:10001056-1694940300-1694943900@harvestfellowshipsc.com
SUMMARY:Foundations I & II
DESCRIPTION:
URL:https://harvestfellowshipsc.com/event/foundations-ii/2023-09-17/
END:VEVENT
BEGIN:VEVENT
DTSTART;TZID=UTC:20230917T100000
DTEND;TZID=UTC:20230917T100000
DTSTAMP:20260422T175124
CREATED:20230205T185654Z
LAST-MODIFIED:20230205T191206Z
UID:10000738-1694944800-1694944800@harvestfellowshipsc.com
SUMMARY:Worship Service
DESCRIPTION:
URL:https://harvestfellowshipsc.com/event/worship-service/2023-09-17/
END:VEVENT
BEGIN:VEVENT
DTSTART;TZID=UTC:20230919T190000
DTEND;TZID=UTC:20230919T190000
DTSTAMP:20260422T175124
CREATED:20230205T184928Z
LAST-MODIFIED:20230205T185121Z
UID:10000045-1695150000-1695150000@harvestfellowshipsc.com
SUMMARY:Prayer
DESCRIPTION:
URL:https://harvestfellowshipsc.com/event/prayer/2023-09-19/
END:VEVENT
BEGIN:VEVENT
DTSTART;TZID=UTC:20230921T190000
DTEND;TZID=UTC:20230921T190000
DTSTAMP:20260422T175124
CREATED:20230205T185301Z
LAST-MODIFIED:20230205T185301Z
UID:10000420-1695322800-1695322800@harvestfellowshipsc.com
SUMMARY:Bible Study
DESCRIPTION:
URL:https://harvestfellowshipsc.com/event/bible-study/2023-09-21/
END:VEVENT
BEGIN:VEVENT
DTSTART;TZID=UTC:20230924T084500
DTEND;TZID=UTC:20230924T094500
DTSTAMP:20260422T175124
CREATED:20230205T190337Z
LAST-MODIFIED:20250709T230237Z
UID:10001057-1695545100-1695548700@harvestfellowshipsc.com
SUMMARY:Foundations I & II
DESCRIPTION:
URL:https://harvestfellowshipsc.com/event/foundations-ii/2023-09-24/
END:VEVENT
BEGIN:VEVENT
DTSTART;TZID=UTC:20230924T100000
DTEND;TZID=UTC:20230924T100000
DTSTAMP:20260422T175124
CREATED:20230205T185654Z
LAST-MODIFIED:20230205T191206Z
UID:10000739-1695549600-1695549600@harvestfellowshipsc.com
SUMMARY:Worship Service
DESCRIPTION:
URL:https://harvestfellowshipsc.com/event/worship-service/2023-09-24/
END:VEVENT
BEGIN:VEVENT
DTSTART;TZID=UTC:20230926T190000
DTEND;TZID=UTC:20230926T190000
DTSTAMP:20260422T175124
CREATED:20230205T184928Z
LAST-MODIFIED:20230205T185121Z
UID:10000046-1695754800-1695754800@harvestfellowshipsc.com
SUMMARY:Prayer
DESCRIPTION:
URL:https://harvestfellowshipsc.com/event/prayer/2023-09-26/
END:VEVENT
BEGIN:VEVENT
DTSTART;TZID=UTC:20230928T190000
DTEND;TZID=UTC:20230928T190000
DTSTAMP:20260422T175124
CREATED:20230205T185301Z
LAST-MODIFIED:20230205T185301Z
UID:10000421-1695927600-1695927600@harvestfellowshipsc.com
SUMMARY:Bible Study
DESCRIPTION:
URL:https://harvestfellowshipsc.com/event/bible-study/2023-09-28/
END:VEVENT
END:VCALENDAR