BEGIN:VCALENDAR
VERSION:2.0
PRODID:-//Harvest Fellowship Church - ECPv6.15.20//NONSGML v1.0//EN
CALSCALE:GREGORIAN
METHOD:PUBLISH
X-ORIGINAL-URL:https://harvestfellowshipsc.com
X-WR-CALDESC:Events for Harvest Fellowship Church
REFRESH-INTERVAL;VALUE=DURATION:PT1H
X-Robots-Tag:noindex
X-PUBLISHED-TTL:PT1H
BEGIN:VTIMEZONE
TZID:UTC
BEGIN:STANDARD
TZOFFSETFROM:+0000
TZOFFSETTO:+0000
TZNAME:UTC
DTSTART:20220101T000000
END:STANDARD
END:VTIMEZONE
BEGIN:VEVENT
DTSTART;TZID=UTC:20230801T190000
DTEND;TZID=UTC:20230801T190000
DTSTAMP:20260422T195114
CREATED:20230205T184928Z
LAST-MODIFIED:20230205T185121Z
UID:10000038-1690916400-1690916400@harvestfellowshipsc.com
SUMMARY:Prayer
DESCRIPTION:
URL:https://harvestfellowshipsc.com/event/prayer/2023-08-01/
END:VEVENT
BEGIN:VEVENT
DTSTART;TZID=UTC:20230803T190000
DTEND;TZID=UTC:20230803T190000
DTSTAMP:20260422T195114
CREATED:20230205T185301Z
LAST-MODIFIED:20230205T185301Z
UID:10000413-1691089200-1691089200@harvestfellowshipsc.com
SUMMARY:Bible Study
DESCRIPTION:
URL:https://harvestfellowshipsc.com/event/bible-study/2023-08-03/
END:VEVENT
BEGIN:VEVENT
DTSTART;TZID=UTC:20230806T084500
DTEND;TZID=UTC:20230806T094500
DTSTAMP:20260422T195114
CREATED:20230205T190337Z
LAST-MODIFIED:20250709T230237Z
UID:10001050-1691311500-1691315100@harvestfellowshipsc.com
SUMMARY:Foundations I & II
DESCRIPTION:
URL:https://harvestfellowshipsc.com/event/foundations-ii/2023-08-06/
END:VEVENT
BEGIN:VEVENT
DTSTART;TZID=UTC:20230806T100000
DTEND;TZID=UTC:20230806T100000
DTSTAMP:20260422T195114
CREATED:20230205T185654Z
LAST-MODIFIED:20230205T191206Z
UID:10000732-1691316000-1691316000@harvestfellowshipsc.com
SUMMARY:Worship Service
DESCRIPTION:
URL:https://harvestfellowshipsc.com/event/worship-service/2023-08-06/
END:VEVENT
BEGIN:VEVENT
DTSTART;TZID=UTC:20230808T190000
DTEND;TZID=UTC:20230808T190000
DTSTAMP:20260422T195114
CREATED:20230205T184928Z
LAST-MODIFIED:20230205T185121Z
UID:10000039-1691521200-1691521200@harvestfellowshipsc.com
SUMMARY:Prayer
DESCRIPTION:
URL:https://harvestfellowshipsc.com/event/prayer/2023-08-08/
END:VEVENT
BEGIN:VEVENT
DTSTART;TZID=UTC:20230810T190000
DTEND;TZID=UTC:20230810T190000
DTSTAMP:20260422T195114
CREATED:20230205T185301Z
LAST-MODIFIED:20230205T185301Z
UID:10000414-1691694000-1691694000@harvestfellowshipsc.com
SUMMARY:Bible Study
DESCRIPTION:
URL:https://harvestfellowshipsc.com/event/bible-study/2023-08-10/
END:VEVENT
BEGIN:VEVENT
DTSTART;TZID=UTC:20230813T084500
DTEND;TZID=UTC:20230813T094500
DTSTAMP:20260422T195114
CREATED:20230205T190337Z
LAST-MODIFIED:20250709T230237Z
UID:10001051-1691916300-1691919900@harvestfellowshipsc.com
SUMMARY:Foundations I & II
DESCRIPTION:
URL:https://harvestfellowshipsc.com/event/foundations-ii/2023-08-13/
END:VEVENT
BEGIN:VEVENT
DTSTART;TZID=UTC:20230813T100000
DTEND;TZID=UTC:20230813T100000
DTSTAMP:20260422T195114
CREATED:20230205T185654Z
LAST-MODIFIED:20230205T191206Z
UID:10000733-1691920800-1691920800@harvestfellowshipsc.com
SUMMARY:Worship Service
DESCRIPTION:
URL:https://harvestfellowshipsc.com/event/worship-service/2023-08-13/
END:VEVENT
BEGIN:VEVENT
DTSTART;TZID=UTC:20230815T190000
DTEND;TZID=UTC:20230815T190000
DTSTAMP:20260422T195114
CREATED:20230205T184928Z
LAST-MODIFIED:20230205T185121Z
UID:10000040-1692126000-1692126000@harvestfellowshipsc.com
SUMMARY:Prayer
DESCRIPTION:
URL:https://harvestfellowshipsc.com/event/prayer/2023-08-15/
END:VEVENT
BEGIN:VEVENT
DTSTART;TZID=UTC:20230817T190000
DTEND;TZID=UTC:20230817T190000
DTSTAMP:20260422T195114
CREATED:20230205T185301Z
LAST-MODIFIED:20230205T185301Z
UID:10000415-1692298800-1692298800@harvestfellowshipsc.com
SUMMARY:Bible Study
DESCRIPTION:
URL:https://harvestfellowshipsc.com/event/bible-study/2023-08-17/
END:VEVENT
BEGIN:VEVENT
DTSTART;TZID=UTC:20230820T084500
DTEND;TZID=UTC:20230820T094500
DTSTAMP:20260422T195114
CREATED:20230205T190337Z
LAST-MODIFIED:20250709T230237Z
UID:10001052-1692521100-1692524700@harvestfellowshipsc.com
SUMMARY:Foundations I & II
DESCRIPTION:
URL:https://harvestfellowshipsc.com/event/foundations-ii/2023-08-20/
END:VEVENT
BEGIN:VEVENT
DTSTART;TZID=UTC:20230820T100000
DTEND;TZID=UTC:20230820T100000
DTSTAMP:20260422T195114
CREATED:20230205T185654Z
LAST-MODIFIED:20230205T191206Z
UID:10000734-1692525600-1692525600@harvestfellowshipsc.com
SUMMARY:Worship Service
DESCRIPTION:
URL:https://harvestfellowshipsc.com/event/worship-service/2023-08-20/
END:VEVENT
BEGIN:VEVENT
DTSTART;TZID=UTC:20230822T190000
DTEND;TZID=UTC:20230822T190000
DTSTAMP:20260422T195114
CREATED:20230205T184928Z
LAST-MODIFIED:20230205T185121Z
UID:10000041-1692730800-1692730800@harvestfellowshipsc.com
SUMMARY:Prayer
DESCRIPTION:
URL:https://harvestfellowshipsc.com/event/prayer/2023-08-22/
END:VEVENT
BEGIN:VEVENT
DTSTART;TZID=UTC:20230824T190000
DTEND;TZID=UTC:20230824T190000
DTSTAMP:20260422T195114
CREATED:20230205T185301Z
LAST-MODIFIED:20230205T185301Z
UID:10000416-1692903600-1692903600@harvestfellowshipsc.com
SUMMARY:Bible Study
DESCRIPTION:
URL:https://harvestfellowshipsc.com/event/bible-study/2023-08-24/
END:VEVENT
BEGIN:VEVENT
DTSTART;TZID=UTC:20230827T084500
DTEND;TZID=UTC:20230827T094500
DTSTAMP:20260422T195114
CREATED:20230205T190337Z
LAST-MODIFIED:20250709T230237Z
UID:10001053-1693125900-1693129500@harvestfellowshipsc.com
SUMMARY:Foundations I & II
DESCRIPTION:
URL:https://harvestfellowshipsc.com/event/foundations-ii/2023-08-27/
END:VEVENT
BEGIN:VEVENT
DTSTART;TZID=UTC:20230827T100000
DTEND;TZID=UTC:20230827T100000
DTSTAMP:20260422T195114
CREATED:20230205T185654Z
LAST-MODIFIED:20230205T191206Z
UID:10000735-1693130400-1693130400@harvestfellowshipsc.com
SUMMARY:Worship Service
DESCRIPTION:
URL:https://harvestfellowshipsc.com/event/worship-service/2023-08-27/
END:VEVENT
BEGIN:VEVENT
DTSTART;TZID=UTC:20230829T190000
DTEND;TZID=UTC:20230829T190000
DTSTAMP:20260422T195114
CREATED:20230205T184928Z
LAST-MODIFIED:20230205T185121Z
UID:10000042-1693335600-1693335600@harvestfellowshipsc.com
SUMMARY:Prayer
DESCRIPTION:
URL:https://harvestfellowshipsc.com/event/prayer/2023-08-29/
END:VEVENT
BEGIN:VEVENT
DTSTART;TZID=UTC:20230831T190000
DTEND;TZID=UTC:20230831T190000
DTSTAMP:20260422T195114
CREATED:20230205T185301Z
LAST-MODIFIED:20230205T185301Z
UID:10000417-1693508400-1693508400@harvestfellowshipsc.com
SUMMARY:Bible Study
DESCRIPTION:
URL:https://harvestfellowshipsc.com/event/bible-study/2023-08-31/
END:VEVENT
END:VCALENDAR