BEGIN:VCALENDAR
VERSION:2.0
PRODID:-//Harvest Fellowship Church - ECPv6.15.20//NONSGML v1.0//EN
CALSCALE:GREGORIAN
METHOD:PUBLISH
X-WR-CALNAME:Harvest Fellowship Church
X-ORIGINAL-URL:https://harvestfellowshipsc.com
X-WR-CALDESC:Events for Harvest Fellowship Church
REFRESH-INTERVAL;VALUE=DURATION:PT1H
X-Robots-Tag:noindex
X-PUBLISHED-TTL:PT1H
BEGIN:VTIMEZONE
TZID:UTC
BEGIN:STANDARD
TZOFFSETFROM:+0000
TZOFFSETTO:+0000
TZNAME:UTC
DTSTART:20220101T000000
END:STANDARD
END:VTIMEZONE
BEGIN:VEVENT
DTSTART;TZID=UTC:20230702T084500
DTEND;TZID=UTC:20230702T094500
DTSTAMP:20260422T213849
CREATED:20230205T190337Z
LAST-MODIFIED:20250709T230237Z
UID:10001045-1688287500-1688291100@harvestfellowshipsc.com
SUMMARY:Foundations I & II
DESCRIPTION:
URL:https://harvestfellowshipsc.com/event/foundations-ii/2023-07-02/
END:VEVENT
BEGIN:VEVENT
DTSTART;TZID=UTC:20230702T100000
DTEND;TZID=UTC:20230702T100000
DTSTAMP:20260422T213849
CREATED:20230205T185654Z
LAST-MODIFIED:20230205T191206Z
UID:10000727-1688292000-1688292000@harvestfellowshipsc.com
SUMMARY:Worship Service
DESCRIPTION:
URL:https://harvestfellowshipsc.com/event/worship-service/2023-07-02/
END:VEVENT
BEGIN:VEVENT
DTSTART;TZID=UTC:20230704T190000
DTEND;TZID=UTC:20230704T190000
DTSTAMP:20260422T213849
CREATED:20230205T184928Z
LAST-MODIFIED:20230205T185121Z
UID:10000034-1688497200-1688497200@harvestfellowshipsc.com
SUMMARY:Prayer
DESCRIPTION:
URL:https://harvestfellowshipsc.com/event/prayer/2023-07-04/
END:VEVENT
BEGIN:VEVENT
DTSTART;TZID=UTC:20230706T190000
DTEND;TZID=UTC:20230706T190000
DTSTAMP:20260422T213849
CREATED:20230205T185301Z
LAST-MODIFIED:20230205T185301Z
UID:10000409-1688670000-1688670000@harvestfellowshipsc.com
SUMMARY:Bible Study
DESCRIPTION:
URL:https://harvestfellowshipsc.com/event/bible-study/2023-07-06/
END:VEVENT
BEGIN:VEVENT
DTSTART;TZID=UTC:20230709T084500
DTEND;TZID=UTC:20230709T094500
DTSTAMP:20260422T213849
CREATED:20230205T190337Z
LAST-MODIFIED:20250709T230237Z
UID:10001046-1688892300-1688895900@harvestfellowshipsc.com
SUMMARY:Foundations I & II
DESCRIPTION:
URL:https://harvestfellowshipsc.com/event/foundations-ii/2023-07-09/
END:VEVENT
BEGIN:VEVENT
DTSTART;TZID=UTC:20230709T100000
DTEND;TZID=UTC:20230709T100000
DTSTAMP:20260422T213849
CREATED:20230205T185654Z
LAST-MODIFIED:20230205T191206Z
UID:10000728-1688896800-1688896800@harvestfellowshipsc.com
SUMMARY:Worship Service
DESCRIPTION:
URL:https://harvestfellowshipsc.com/event/worship-service/2023-07-09/
END:VEVENT
BEGIN:VEVENT
DTSTART;TZID=UTC:20230711T190000
DTEND;TZID=UTC:20230711T190000
DTSTAMP:20260422T213849
CREATED:20230205T184928Z
LAST-MODIFIED:20230205T185121Z
UID:10000035-1689102000-1689102000@harvestfellowshipsc.com
SUMMARY:Prayer
DESCRIPTION:
URL:https://harvestfellowshipsc.com/event/prayer/2023-07-11/
END:VEVENT
BEGIN:VEVENT
DTSTART;TZID=UTC:20230713T190000
DTEND;TZID=UTC:20230713T190000
DTSTAMP:20260422T213849
CREATED:20230205T185301Z
LAST-MODIFIED:20230205T185301Z
UID:10000410-1689274800-1689274800@harvestfellowshipsc.com
SUMMARY:Bible Study
DESCRIPTION:
URL:https://harvestfellowshipsc.com/event/bible-study/2023-07-13/
END:VEVENT
BEGIN:VEVENT
DTSTART;TZID=UTC:20230716T084500
DTEND;TZID=UTC:20230716T094500
DTSTAMP:20260422T213849
CREATED:20230205T190337Z
LAST-MODIFIED:20250709T230237Z
UID:10001047-1689497100-1689500700@harvestfellowshipsc.com
SUMMARY:Foundations I & II
DESCRIPTION:
URL:https://harvestfellowshipsc.com/event/foundations-ii/2023-07-16/
END:VEVENT
BEGIN:VEVENT
DTSTART;TZID=UTC:20230716T100000
DTEND;TZID=UTC:20230716T100000
DTSTAMP:20260422T213849
CREATED:20230205T185654Z
LAST-MODIFIED:20230205T191206Z
UID:10000729-1689501600-1689501600@harvestfellowshipsc.com
SUMMARY:Worship Service
DESCRIPTION:
URL:https://harvestfellowshipsc.com/event/worship-service/2023-07-16/
END:VEVENT
BEGIN:VEVENT
DTSTART;TZID=UTC:20230718T190000
DTEND;TZID=UTC:20230718T190000
DTSTAMP:20260422T213849
CREATED:20230205T184928Z
LAST-MODIFIED:20230205T185121Z
UID:10000036-1689706800-1689706800@harvestfellowshipsc.com
SUMMARY:Prayer
DESCRIPTION:
URL:https://harvestfellowshipsc.com/event/prayer/2023-07-18/
END:VEVENT
BEGIN:VEVENT
DTSTART;TZID=UTC:20230720T190000
DTEND;TZID=UTC:20230720T190000
DTSTAMP:20260422T213849
CREATED:20230205T185301Z
LAST-MODIFIED:20230205T185301Z
UID:10000411-1689879600-1689879600@harvestfellowshipsc.com
SUMMARY:Bible Study
DESCRIPTION:
URL:https://harvestfellowshipsc.com/event/bible-study/2023-07-20/
END:VEVENT
BEGIN:VEVENT
DTSTART;TZID=UTC:20230723T084500
DTEND;TZID=UTC:20230723T094500
DTSTAMP:20260422T213849
CREATED:20230205T190337Z
LAST-MODIFIED:20250709T230237Z
UID:10001048-1690101900-1690105500@harvestfellowshipsc.com
SUMMARY:Foundations I & II
DESCRIPTION:
URL:https://harvestfellowshipsc.com/event/foundations-ii/2023-07-23/
END:VEVENT
BEGIN:VEVENT
DTSTART;TZID=UTC:20230723T100000
DTEND;TZID=UTC:20230723T100000
DTSTAMP:20260422T213849
CREATED:20230205T185654Z
LAST-MODIFIED:20230205T191206Z
UID:10000730-1690106400-1690106400@harvestfellowshipsc.com
SUMMARY:Worship Service
DESCRIPTION:
URL:https://harvestfellowshipsc.com/event/worship-service/2023-07-23/
END:VEVENT
BEGIN:VEVENT
DTSTART;TZID=UTC:20230725T190000
DTEND;TZID=UTC:20230725T190000
DTSTAMP:20260422T213849
CREATED:20230205T184928Z
LAST-MODIFIED:20230205T185121Z
UID:10000037-1690311600-1690311600@harvestfellowshipsc.com
SUMMARY:Prayer
DESCRIPTION:
URL:https://harvestfellowshipsc.com/event/prayer/2023-07-25/
END:VEVENT
BEGIN:VEVENT
DTSTART;TZID=UTC:20230727T190000
DTEND;TZID=UTC:20230727T190000
DTSTAMP:20260422T213850
CREATED:20230205T185301Z
LAST-MODIFIED:20230205T185301Z
UID:10000412-1690484400-1690484400@harvestfellowshipsc.com
SUMMARY:Bible Study
DESCRIPTION:
URL:https://harvestfellowshipsc.com/event/bible-study/2023-07-27/
END:VEVENT
BEGIN:VEVENT
DTSTART;TZID=UTC:20230730T084500
DTEND;TZID=UTC:20230730T094500
DTSTAMP:20260422T213850
CREATED:20230205T190337Z
LAST-MODIFIED:20250709T230237Z
UID:10001049-1690706700-1690710300@harvestfellowshipsc.com
SUMMARY:Foundations I & II
DESCRIPTION:
URL:https://harvestfellowshipsc.com/event/foundations-ii/2023-07-30/
END:VEVENT
BEGIN:VEVENT
DTSTART;TZID=UTC:20230730T100000
DTEND;TZID=UTC:20230730T100000
DTSTAMP:20260422T213850
CREATED:20230205T185654Z
LAST-MODIFIED:20230205T191206Z
UID:10000731-1690711200-1690711200@harvestfellowshipsc.com
SUMMARY:Worship Service
DESCRIPTION:
URL:https://harvestfellowshipsc.com/event/worship-service/2023-07-30/
END:VEVENT
END:VCALENDAR