BEGIN:VCALENDAR
VERSION:2.0
PRODID:-//Harvest Fellowship Church - ECPv6.15.20//NONSGML v1.0//EN
CALSCALE:GREGORIAN
METHOD:PUBLISH
X-ORIGINAL-URL:https://harvestfellowshipsc.com
X-WR-CALDESC:Events for Harvest Fellowship Church
REFRESH-INTERVAL;VALUE=DURATION:PT1H
X-Robots-Tag:noindex
X-PUBLISHED-TTL:PT1H
BEGIN:VTIMEZONE
TZID:UTC
BEGIN:STANDARD
TZOFFSETFROM:+0000
TZOFFSETTO:+0000
TZNAME:UTC
DTSTART:20220101T000000
END:STANDARD
END:VTIMEZONE
BEGIN:VEVENT
DTSTART;TZID=UTC:20230601T190000
DTEND;TZID=UTC:20230601T190000
DTSTAMP:20260422T232305
CREATED:20230205T185301Z
LAST-MODIFIED:20230205T185301Z
UID:10000404-1685646000-1685646000@harvestfellowshipsc.com
SUMMARY:Bible Study
DESCRIPTION:
URL:https://harvestfellowshipsc.com/event/bible-study/2023-06-01/
END:VEVENT
BEGIN:VEVENT
DTSTART;TZID=UTC:20230604T084500
DTEND;TZID=UTC:20230604T094500
DTSTAMP:20260422T232305
CREATED:20230205T190337Z
LAST-MODIFIED:20250709T230237Z
UID:10001041-1685868300-1685871900@harvestfellowshipsc.com
SUMMARY:Foundations I & II
DESCRIPTION:
URL:https://harvestfellowshipsc.com/event/foundations-ii/2023-06-04/
END:VEVENT
BEGIN:VEVENT
DTSTART;TZID=UTC:20230604T100000
DTEND;TZID=UTC:20230604T100000
DTSTAMP:20260422T232305
CREATED:20230205T185654Z
LAST-MODIFIED:20230205T191206Z
UID:10000723-1685872800-1685872800@harvestfellowshipsc.com
SUMMARY:Worship Service
DESCRIPTION:
URL:https://harvestfellowshipsc.com/event/worship-service/2023-06-04/
END:VEVENT
BEGIN:VEVENT
DTSTART;TZID=UTC:20230606T190000
DTEND;TZID=UTC:20230606T190000
DTSTAMP:20260422T232305
CREATED:20230205T184928Z
LAST-MODIFIED:20230205T185121Z
UID:10000030-1686078000-1686078000@harvestfellowshipsc.com
SUMMARY:Prayer
DESCRIPTION:
URL:https://harvestfellowshipsc.com/event/prayer/2023-06-06/
END:VEVENT
BEGIN:VEVENT
DTSTART;TZID=UTC:20230608T190000
DTEND;TZID=UTC:20230608T190000
DTSTAMP:20260422T232305
CREATED:20230205T185301Z
LAST-MODIFIED:20230205T185301Z
UID:10000405-1686250800-1686250800@harvestfellowshipsc.com
SUMMARY:Bible Study
DESCRIPTION:
URL:https://harvestfellowshipsc.com/event/bible-study/2023-06-08/
END:VEVENT
BEGIN:VEVENT
DTSTART;TZID=UTC:20230611T084500
DTEND;TZID=UTC:20230611T094500
DTSTAMP:20260422T232305
CREATED:20230205T190337Z
LAST-MODIFIED:20250709T230237Z
UID:10001042-1686473100-1686476700@harvestfellowshipsc.com
SUMMARY:Foundations I & II
DESCRIPTION:
URL:https://harvestfellowshipsc.com/event/foundations-ii/2023-06-11/
END:VEVENT
BEGIN:VEVENT
DTSTART;TZID=UTC:20230611T100000
DTEND;TZID=UTC:20230611T100000
DTSTAMP:20260422T232305
CREATED:20230205T185654Z
LAST-MODIFIED:20230205T191206Z
UID:10000724-1686477600-1686477600@harvestfellowshipsc.com
SUMMARY:Worship Service
DESCRIPTION:
URL:https://harvestfellowshipsc.com/event/worship-service/2023-06-11/
END:VEVENT
BEGIN:VEVENT
DTSTART;TZID=UTC:20230613T190000
DTEND;TZID=UTC:20230613T190000
DTSTAMP:20260422T232305
CREATED:20230205T184928Z
LAST-MODIFIED:20230205T185121Z
UID:10000031-1686682800-1686682800@harvestfellowshipsc.com
SUMMARY:Prayer
DESCRIPTION:
URL:https://harvestfellowshipsc.com/event/prayer/2023-06-13/
END:VEVENT
BEGIN:VEVENT
DTSTART;TZID=UTC:20230615T190000
DTEND;TZID=UTC:20230615T190000
DTSTAMP:20260422T232305
CREATED:20230205T185301Z
LAST-MODIFIED:20230205T185301Z
UID:10000406-1686855600-1686855600@harvestfellowshipsc.com
SUMMARY:Bible Study
DESCRIPTION:
URL:https://harvestfellowshipsc.com/event/bible-study/2023-06-15/
END:VEVENT
BEGIN:VEVENT
DTSTART;TZID=UTC:20230618T084500
DTEND;TZID=UTC:20230618T094500
DTSTAMP:20260422T232305
CREATED:20230205T190337Z
LAST-MODIFIED:20250709T230237Z
UID:10001043-1687077900-1687081500@harvestfellowshipsc.com
SUMMARY:Foundations I & II
DESCRIPTION:
URL:https://harvestfellowshipsc.com/event/foundations-ii/2023-06-18/
END:VEVENT
BEGIN:VEVENT
DTSTART;TZID=UTC:20230618T100000
DTEND;TZID=UTC:20230618T100000
DTSTAMP:20260422T232305
CREATED:20230205T185654Z
LAST-MODIFIED:20230205T191206Z
UID:10000725-1687082400-1687082400@harvestfellowshipsc.com
SUMMARY:Worship Service
DESCRIPTION:
URL:https://harvestfellowshipsc.com/event/worship-service/2023-06-18/
END:VEVENT
BEGIN:VEVENT
DTSTART;TZID=UTC:20230620T190000
DTEND;TZID=UTC:20230620T190000
DTSTAMP:20260422T232305
CREATED:20230205T184928Z
LAST-MODIFIED:20230205T185121Z
UID:10000032-1687287600-1687287600@harvestfellowshipsc.com
SUMMARY:Prayer
DESCRIPTION:
URL:https://harvestfellowshipsc.com/event/prayer/2023-06-20/
END:VEVENT
BEGIN:VEVENT
DTSTART;TZID=UTC:20230622T190000
DTEND;TZID=UTC:20230622T190000
DTSTAMP:20260422T232305
CREATED:20230205T185301Z
LAST-MODIFIED:20230205T185301Z
UID:10000407-1687460400-1687460400@harvestfellowshipsc.com
SUMMARY:Bible Study
DESCRIPTION:
URL:https://harvestfellowshipsc.com/event/bible-study/2023-06-22/
END:VEVENT
BEGIN:VEVENT
DTSTART;TZID=UTC:20230625T084500
DTEND;TZID=UTC:20230625T094500
DTSTAMP:20260422T232305
CREATED:20230205T190337Z
LAST-MODIFIED:20250709T230237Z
UID:10001044-1687682700-1687686300@harvestfellowshipsc.com
SUMMARY:Foundations I & II
DESCRIPTION:
URL:https://harvestfellowshipsc.com/event/foundations-ii/2023-06-25/
END:VEVENT
BEGIN:VEVENT
DTSTART;TZID=UTC:20230625T100000
DTEND;TZID=UTC:20230625T100000
DTSTAMP:20260422T232305
CREATED:20230205T185654Z
LAST-MODIFIED:20230205T191206Z
UID:10000726-1687687200-1687687200@harvestfellowshipsc.com
SUMMARY:Worship Service
DESCRIPTION:
URL:https://harvestfellowshipsc.com/event/worship-service/2023-06-25/
END:VEVENT
BEGIN:VEVENT
DTSTART;TZID=UTC:20230627T190000
DTEND;TZID=UTC:20230627T190000
DTSTAMP:20260422T232305
CREATED:20230205T184928Z
LAST-MODIFIED:20230205T185121Z
UID:10000033-1687892400-1687892400@harvestfellowshipsc.com
SUMMARY:Prayer
DESCRIPTION:
URL:https://harvestfellowshipsc.com/event/prayer/2023-06-27/
END:VEVENT
BEGIN:VEVENT
DTSTART;TZID=UTC:20230629T190000
DTEND;TZID=UTC:20230629T190000
DTSTAMP:20260422T232305
CREATED:20230205T185301Z
LAST-MODIFIED:20230205T185301Z
UID:10000408-1688065200-1688065200@harvestfellowshipsc.com
SUMMARY:Bible Study
DESCRIPTION:
URL:https://harvestfellowshipsc.com/event/bible-study/2023-06-29/
END:VEVENT
END:VCALENDAR