BEGIN:VCALENDAR
VERSION:2.0
PRODID:-//Harvest Fellowship Church - ECPv6.15.20//NONSGML v1.0//EN
CALSCALE:GREGORIAN
METHOD:PUBLISH
X-ORIGINAL-URL:https://harvestfellowshipsc.com
X-WR-CALDESC:Events for Harvest Fellowship Church
REFRESH-INTERVAL;VALUE=DURATION:PT1H
X-Robots-Tag:noindex
X-PUBLISHED-TTL:PT1H
BEGIN:VTIMEZONE
TZID:UTC
BEGIN:STANDARD
TZOFFSETFROM:+0000
TZOFFSETTO:+0000
TZNAME:UTC
DTSTART:20220101T000000
END:STANDARD
END:VTIMEZONE
BEGIN:VEVENT
DTSTART;TZID=UTC:20230502T190000
DTEND;TZID=UTC:20230502T190000
DTSTAMP:20260423T011256
CREATED:20230205T184928Z
LAST-MODIFIED:20230205T185121Z
UID:10000025-1683054000-1683054000@harvestfellowshipsc.com
SUMMARY:Prayer
DESCRIPTION:
URL:https://harvestfellowshipsc.com/event/prayer/2023-05-02/
END:VEVENT
BEGIN:VEVENT
DTSTART;TZID=UTC:20230504T190000
DTEND;TZID=UTC:20230504T190000
DTSTAMP:20260423T011256
CREATED:20230205T185301Z
LAST-MODIFIED:20230205T185301Z
UID:10000400-1683226800-1683226800@harvestfellowshipsc.com
SUMMARY:Bible Study
DESCRIPTION:
URL:https://harvestfellowshipsc.com/event/bible-study/2023-05-04/
END:VEVENT
BEGIN:VEVENT
DTSTART;TZID=UTC:20230507T084500
DTEND;TZID=UTC:20230507T094500
DTSTAMP:20260423T011256
CREATED:20230205T190337Z
LAST-MODIFIED:20250709T230237Z
UID:10001037-1683449100-1683452700@harvestfellowshipsc.com
SUMMARY:Foundations I & II
DESCRIPTION:
URL:https://harvestfellowshipsc.com/event/foundations-ii/2023-05-07/
END:VEVENT
BEGIN:VEVENT
DTSTART;TZID=UTC:20230507T100000
DTEND;TZID=UTC:20230507T100000
DTSTAMP:20260423T011256
CREATED:20230205T185654Z
LAST-MODIFIED:20230205T191206Z
UID:10000719-1683453600-1683453600@harvestfellowshipsc.com
SUMMARY:Worship Service
DESCRIPTION:
URL:https://harvestfellowshipsc.com/event/worship-service/2023-05-07/
END:VEVENT
BEGIN:VEVENT
DTSTART;TZID=UTC:20230509T190000
DTEND;TZID=UTC:20230509T190000
DTSTAMP:20260423T011256
CREATED:20230205T184928Z
LAST-MODIFIED:20230205T185121Z
UID:10000026-1683658800-1683658800@harvestfellowshipsc.com
SUMMARY:Prayer
DESCRIPTION:
URL:https://harvestfellowshipsc.com/event/prayer/2023-05-09/
END:VEVENT
BEGIN:VEVENT
DTSTART;TZID=UTC:20230511T190000
DTEND;TZID=UTC:20230511T190000
DTSTAMP:20260423T011256
CREATED:20230205T185301Z
LAST-MODIFIED:20230205T185301Z
UID:10000401-1683831600-1683831600@harvestfellowshipsc.com
SUMMARY:Bible Study
DESCRIPTION:
URL:https://harvestfellowshipsc.com/event/bible-study/2023-05-11/
END:VEVENT
BEGIN:VEVENT
DTSTART;TZID=UTC:20230514T084500
DTEND;TZID=UTC:20230514T094500
DTSTAMP:20260423T011256
CREATED:20230205T190337Z
LAST-MODIFIED:20250709T230237Z
UID:10001038-1684053900-1684057500@harvestfellowshipsc.com
SUMMARY:Foundations I & II
DESCRIPTION:
URL:https://harvestfellowshipsc.com/event/foundations-ii/2023-05-14/
END:VEVENT
BEGIN:VEVENT
DTSTART;TZID=UTC:20230514T100000
DTEND;TZID=UTC:20230514T100000
DTSTAMP:20260423T011256
CREATED:20230205T185654Z
LAST-MODIFIED:20230205T191206Z
UID:10000720-1684058400-1684058400@harvestfellowshipsc.com
SUMMARY:Worship Service
DESCRIPTION:
URL:https://harvestfellowshipsc.com/event/worship-service/2023-05-14/
END:VEVENT
BEGIN:VEVENT
DTSTART;TZID=UTC:20230516T190000
DTEND;TZID=UTC:20230516T190000
DTSTAMP:20260423T011256
CREATED:20230205T184928Z
LAST-MODIFIED:20230205T185121Z
UID:10000027-1684263600-1684263600@harvestfellowshipsc.com
SUMMARY:Prayer
DESCRIPTION:
URL:https://harvestfellowshipsc.com/event/prayer/2023-05-16/
END:VEVENT
BEGIN:VEVENT
DTSTART;TZID=UTC:20230518T190000
DTEND;TZID=UTC:20230518T190000
DTSTAMP:20260423T011256
CREATED:20230205T185301Z
LAST-MODIFIED:20230205T185301Z
UID:10000402-1684436400-1684436400@harvestfellowshipsc.com
SUMMARY:Bible Study
DESCRIPTION:
URL:https://harvestfellowshipsc.com/event/bible-study/2023-05-18/
END:VEVENT
BEGIN:VEVENT
DTSTART;TZID=UTC:20230521T084500
DTEND;TZID=UTC:20230521T094500
DTSTAMP:20260423T011256
CREATED:20230205T190337Z
LAST-MODIFIED:20250709T230237Z
UID:10001039-1684658700-1684662300@harvestfellowshipsc.com
SUMMARY:Foundations I & II
DESCRIPTION:
URL:https://harvestfellowshipsc.com/event/foundations-ii/2023-05-21/
END:VEVENT
BEGIN:VEVENT
DTSTART;TZID=UTC:20230521T100000
DTEND;TZID=UTC:20230521T100000
DTSTAMP:20260423T011256
CREATED:20230205T185654Z
LAST-MODIFIED:20230205T191206Z
UID:10000721-1684663200-1684663200@harvestfellowshipsc.com
SUMMARY:Worship Service
DESCRIPTION:
URL:https://harvestfellowshipsc.com/event/worship-service/2023-05-21/
END:VEVENT
BEGIN:VEVENT
DTSTART;TZID=UTC:20230523T190000
DTEND;TZID=UTC:20230523T190000
DTSTAMP:20260423T011256
CREATED:20230205T184928Z
LAST-MODIFIED:20230205T185121Z
UID:10000028-1684868400-1684868400@harvestfellowshipsc.com
SUMMARY:Prayer
DESCRIPTION:
URL:https://harvestfellowshipsc.com/event/prayer/2023-05-23/
END:VEVENT
BEGIN:VEVENT
DTSTART;TZID=UTC:20230525T190000
DTEND;TZID=UTC:20230525T190000
DTSTAMP:20260423T011256
CREATED:20230205T185301Z
LAST-MODIFIED:20230205T185301Z
UID:10000403-1685041200-1685041200@harvestfellowshipsc.com
SUMMARY:Bible Study
DESCRIPTION:
URL:https://harvestfellowshipsc.com/event/bible-study/2023-05-25/
END:VEVENT
BEGIN:VEVENT
DTSTART;TZID=UTC:20230528T084500
DTEND;TZID=UTC:20230528T094500
DTSTAMP:20260423T011256
CREATED:20230205T190337Z
LAST-MODIFIED:20250709T230237Z
UID:10001040-1685263500-1685267100@harvestfellowshipsc.com
SUMMARY:Foundations I & II
DESCRIPTION:
URL:https://harvestfellowshipsc.com/event/foundations-ii/2023-05-28/
END:VEVENT
BEGIN:VEVENT
DTSTART;TZID=UTC:20230528T100000
DTEND;TZID=UTC:20230528T100000
DTSTAMP:20260423T011256
CREATED:20230205T185654Z
LAST-MODIFIED:20230205T191206Z
UID:10000722-1685268000-1685268000@harvestfellowshipsc.com
SUMMARY:Worship Service
DESCRIPTION:
URL:https://harvestfellowshipsc.com/event/worship-service/2023-05-28/
END:VEVENT
BEGIN:VEVENT
DTSTART;TZID=UTC:20230530T190000
DTEND;TZID=UTC:20230530T190000
DTSTAMP:20260423T011256
CREATED:20230205T184928Z
LAST-MODIFIED:20230205T185121Z
UID:10000029-1685473200-1685473200@harvestfellowshipsc.com
SUMMARY:Prayer
DESCRIPTION:
URL:https://harvestfellowshipsc.com/event/prayer/2023-05-30/
END:VEVENT
END:VCALENDAR