BEGIN:VCALENDAR
VERSION:2.0
PRODID:-//Harvest Fellowship Church - ECPv6.15.20//NONSGML v1.0//EN
CALSCALE:GREGORIAN
METHOD:PUBLISH
X-WR-CALNAME:Harvest Fellowship Church
X-ORIGINAL-URL:https://harvestfellowshipsc.com
X-WR-CALDESC:Events for Harvest Fellowship Church
REFRESH-INTERVAL;VALUE=DURATION:PT1H
X-Robots-Tag:noindex
X-PUBLISHED-TTL:PT1H
BEGIN:VTIMEZONE
TZID:UTC
BEGIN:STANDARD
TZOFFSETFROM:+0000
TZOFFSETTO:+0000
TZNAME:UTC
DTSTART:20220101T000000
END:STANDARD
END:VTIMEZONE
BEGIN:VEVENT
DTSTART;TZID=UTC:20230402T084500
DTEND;TZID=UTC:20230402T094500
DTSTAMP:20260423T031433
CREATED:20230205T190337Z
LAST-MODIFIED:20250709T230237Z
UID:10001032-1680425100-1680428700@harvestfellowshipsc.com
SUMMARY:Foundations I & II
DESCRIPTION:
URL:https://harvestfellowshipsc.com/event/foundations-ii/2023-04-02/
END:VEVENT
BEGIN:VEVENT
DTSTART;TZID=UTC:20230402T100000
DTEND;TZID=UTC:20230402T100000
DTSTAMP:20260423T031433
CREATED:20230205T185654Z
LAST-MODIFIED:20230205T191206Z
UID:10000714-1680429600-1680429600@harvestfellowshipsc.com
SUMMARY:Worship Service
DESCRIPTION:
URL:https://harvestfellowshipsc.com/event/worship-service/2023-04-02/
END:VEVENT
BEGIN:VEVENT
DTSTART;TZID=UTC:20230404T190000
DTEND;TZID=UTC:20230404T190000
DTSTAMP:20260423T031433
CREATED:20230205T184928Z
LAST-MODIFIED:20230205T185121Z
UID:10000021-1680634800-1680634800@harvestfellowshipsc.com
SUMMARY:Prayer
DESCRIPTION:
URL:https://harvestfellowshipsc.com/event/prayer/2023-04-04/
END:VEVENT
BEGIN:VEVENT
DTSTART;TZID=UTC:20230406T190000
DTEND;TZID=UTC:20230406T190000
DTSTAMP:20260423T031433
CREATED:20230205T185301Z
LAST-MODIFIED:20230205T185301Z
UID:10000396-1680807600-1680807600@harvestfellowshipsc.com
SUMMARY:Bible Study
DESCRIPTION:
URL:https://harvestfellowshipsc.com/event/bible-study/2023-04-06/
END:VEVENT
BEGIN:VEVENT
DTSTART;TZID=UTC:20230409T084500
DTEND;TZID=UTC:20230409T094500
DTSTAMP:20260423T031433
CREATED:20230205T190337Z
LAST-MODIFIED:20250709T230237Z
UID:10001033-1681029900-1681033500@harvestfellowshipsc.com
SUMMARY:Foundations I & II
DESCRIPTION:
URL:https://harvestfellowshipsc.com/event/foundations-ii/2023-04-09/
END:VEVENT
BEGIN:VEVENT
DTSTART;TZID=UTC:20230409T100000
DTEND;TZID=UTC:20230409T100000
DTSTAMP:20260423T031433
CREATED:20230205T185654Z
LAST-MODIFIED:20230205T191206Z
UID:10000715-1681034400-1681034400@harvestfellowshipsc.com
SUMMARY:Worship Service
DESCRIPTION:
URL:https://harvestfellowshipsc.com/event/worship-service/2023-04-09/
END:VEVENT
BEGIN:VEVENT
DTSTART;TZID=UTC:20230411T190000
DTEND;TZID=UTC:20230411T190000
DTSTAMP:20260423T031433
CREATED:20230205T184928Z
LAST-MODIFIED:20230205T185121Z
UID:10000022-1681239600-1681239600@harvestfellowshipsc.com
SUMMARY:Prayer
DESCRIPTION:
URL:https://harvestfellowshipsc.com/event/prayer/2023-04-11/
END:VEVENT
BEGIN:VEVENT
DTSTART;TZID=UTC:20230413T190000
DTEND;TZID=UTC:20230413T190000
DTSTAMP:20260423T031433
CREATED:20230205T185301Z
LAST-MODIFIED:20230205T185301Z
UID:10000397-1681412400-1681412400@harvestfellowshipsc.com
SUMMARY:Bible Study
DESCRIPTION:
URL:https://harvestfellowshipsc.com/event/bible-study/2023-04-13/
END:VEVENT
BEGIN:VEVENT
DTSTART;TZID=UTC:20230416T084500
DTEND;TZID=UTC:20230416T094500
DTSTAMP:20260423T031433
CREATED:20230205T190337Z
LAST-MODIFIED:20250709T230237Z
UID:10001034-1681634700-1681638300@harvestfellowshipsc.com
SUMMARY:Foundations I & II
DESCRIPTION:
URL:https://harvestfellowshipsc.com/event/foundations-ii/2023-04-16/
END:VEVENT
BEGIN:VEVENT
DTSTART;TZID=UTC:20230416T100000
DTEND;TZID=UTC:20230416T100000
DTSTAMP:20260423T031433
CREATED:20230205T185654Z
LAST-MODIFIED:20230205T191206Z
UID:10000716-1681639200-1681639200@harvestfellowshipsc.com
SUMMARY:Worship Service
DESCRIPTION:
URL:https://harvestfellowshipsc.com/event/worship-service/2023-04-16/
END:VEVENT
BEGIN:VEVENT
DTSTART;TZID=UTC:20230418T190000
DTEND;TZID=UTC:20230418T190000
DTSTAMP:20260423T031433
CREATED:20230205T184928Z
LAST-MODIFIED:20230205T185121Z
UID:10000023-1681844400-1681844400@harvestfellowshipsc.com
SUMMARY:Prayer
DESCRIPTION:
URL:https://harvestfellowshipsc.com/event/prayer/2023-04-18/
END:VEVENT
BEGIN:VEVENT
DTSTART;TZID=UTC:20230420T190000
DTEND;TZID=UTC:20230420T190000
DTSTAMP:20260423T031433
CREATED:20230205T185301Z
LAST-MODIFIED:20230205T185301Z
UID:10000398-1682017200-1682017200@harvestfellowshipsc.com
SUMMARY:Bible Study
DESCRIPTION:
URL:https://harvestfellowshipsc.com/event/bible-study/2023-04-20/
END:VEVENT
BEGIN:VEVENT
DTSTART;TZID=UTC:20230423T084500
DTEND;TZID=UTC:20230423T094500
DTSTAMP:20260423T031433
CREATED:20230205T190337Z
LAST-MODIFIED:20250709T230237Z
UID:10001035-1682239500-1682243100@harvestfellowshipsc.com
SUMMARY:Foundations I & II
DESCRIPTION:
URL:https://harvestfellowshipsc.com/event/foundations-ii/2023-04-23/
END:VEVENT
BEGIN:VEVENT
DTSTART;TZID=UTC:20230423T100000
DTEND;TZID=UTC:20230423T100000
DTSTAMP:20260423T031433
CREATED:20230205T185654Z
LAST-MODIFIED:20230205T191206Z
UID:10000717-1682244000-1682244000@harvestfellowshipsc.com
SUMMARY:Worship Service
DESCRIPTION:
URL:https://harvestfellowshipsc.com/event/worship-service/2023-04-23/
END:VEVENT
BEGIN:VEVENT
DTSTART;TZID=UTC:20230425T190000
DTEND;TZID=UTC:20230425T190000
DTSTAMP:20260423T031433
CREATED:20230205T184928Z
LAST-MODIFIED:20230205T185121Z
UID:10000024-1682449200-1682449200@harvestfellowshipsc.com
SUMMARY:Prayer
DESCRIPTION:
URL:https://harvestfellowshipsc.com/event/prayer/2023-04-25/
END:VEVENT
BEGIN:VEVENT
DTSTART;TZID=UTC:20230427T190000
DTEND;TZID=UTC:20230427T190000
DTSTAMP:20260423T031433
CREATED:20230205T185301Z
LAST-MODIFIED:20230205T185301Z
UID:10000399-1682622000-1682622000@harvestfellowshipsc.com
SUMMARY:Bible Study
DESCRIPTION:
URL:https://harvestfellowshipsc.com/event/bible-study/2023-04-27/
END:VEVENT
BEGIN:VEVENT
DTSTART;TZID=UTC:20230430T084500
DTEND;TZID=UTC:20230430T094500
DTSTAMP:20260423T031433
CREATED:20230205T190337Z
LAST-MODIFIED:20250709T230237Z
UID:10001036-1682844300-1682847900@harvestfellowshipsc.com
SUMMARY:Foundations I & II
DESCRIPTION:
URL:https://harvestfellowshipsc.com/event/foundations-ii/2023-04-30/
END:VEVENT
BEGIN:VEVENT
DTSTART;TZID=UTC:20230430T100000
DTEND;TZID=UTC:20230430T100000
DTSTAMP:20260423T031433
CREATED:20230205T185654Z
LAST-MODIFIED:20230205T191206Z
UID:10000718-1682848800-1682848800@harvestfellowshipsc.com
SUMMARY:Worship Service
DESCRIPTION:
URL:https://harvestfellowshipsc.com/event/worship-service/2023-04-30/
END:VEVENT
END:VCALENDAR