BEGIN:VCALENDAR
VERSION:2.0
PRODID:-//Harvest Fellowship Church - ECPv6.15.20//NONSGML v1.0//EN
CALSCALE:GREGORIAN
METHOD:PUBLISH
X-ORIGINAL-URL:https://harvestfellowshipsc.com
X-WR-CALDESC:Events for Harvest Fellowship Church
REFRESH-INTERVAL;VALUE=DURATION:PT1H
X-Robots-Tag:noindex
X-PUBLISHED-TTL:PT1H
BEGIN:VTIMEZONE
TZID:UTC
BEGIN:STANDARD
TZOFFSETFROM:+0000
TZOFFSETTO:+0000
TZNAME:UTC
DTSTART:20220101T000000
END:STANDARD
END:VTIMEZONE
BEGIN:VEVENT
DTSTART;TZID=UTC:20230302T190000
DTEND;TZID=UTC:20230302T190000
DTSTAMP:20260423T051316
CREATED:20230205T185301Z
LAST-MODIFIED:20230205T185301Z
UID:10000391-1677783600-1677783600@harvestfellowshipsc.com
SUMMARY:Bible Study
DESCRIPTION:
URL:https://harvestfellowshipsc.com/event/bible-study/2023-03-02/
END:VEVENT
BEGIN:VEVENT
DTSTART;TZID=UTC:20230305T084500
DTEND;TZID=UTC:20230305T094500
DTSTAMP:20260423T051316
CREATED:20230205T190337Z
LAST-MODIFIED:20250709T230237Z
UID:10001028-1678005900-1678009500@harvestfellowshipsc.com
SUMMARY:Foundations I & II
DESCRIPTION:
URL:https://harvestfellowshipsc.com/event/foundations-ii/2023-03-05/
END:VEVENT
BEGIN:VEVENT
DTSTART;TZID=UTC:20230305T100000
DTEND;TZID=UTC:20230305T100000
DTSTAMP:20260423T051316
CREATED:20230205T185654Z
LAST-MODIFIED:20230205T191206Z
UID:10000710-1678010400-1678010400@harvestfellowshipsc.com
SUMMARY:Worship Service
DESCRIPTION:
URL:https://harvestfellowshipsc.com/event/worship-service/2023-03-05/
END:VEVENT
BEGIN:VEVENT
DTSTART;TZID=UTC:20230307T190000
DTEND;TZID=UTC:20230307T190000
DTSTAMP:20260423T051316
CREATED:20230205T184928Z
LAST-MODIFIED:20230205T185121Z
UID:10000017-1678215600-1678215600@harvestfellowshipsc.com
SUMMARY:Prayer
DESCRIPTION:
URL:https://harvestfellowshipsc.com/event/prayer/2023-03-07/
END:VEVENT
BEGIN:VEVENT
DTSTART;TZID=UTC:20230309T190000
DTEND;TZID=UTC:20230309T190000
DTSTAMP:20260423T051316
CREATED:20230205T185301Z
LAST-MODIFIED:20230205T185301Z
UID:10000392-1678388400-1678388400@harvestfellowshipsc.com
SUMMARY:Bible Study
DESCRIPTION:
URL:https://harvestfellowshipsc.com/event/bible-study/2023-03-09/
END:VEVENT
BEGIN:VEVENT
DTSTART;TZID=UTC:20230312T084500
DTEND;TZID=UTC:20230312T094500
DTSTAMP:20260423T051316
CREATED:20230205T190337Z
LAST-MODIFIED:20250709T230237Z
UID:10001029-1678610700-1678614300@harvestfellowshipsc.com
SUMMARY:Foundations I & II
DESCRIPTION:
URL:https://harvestfellowshipsc.com/event/foundations-ii/2023-03-12/
END:VEVENT
BEGIN:VEVENT
DTSTART;TZID=UTC:20230312T100000
DTEND;TZID=UTC:20230312T100000
DTSTAMP:20260423T051316
CREATED:20230205T185654Z
LAST-MODIFIED:20230205T191206Z
UID:10000711-1678615200-1678615200@harvestfellowshipsc.com
SUMMARY:Worship Service
DESCRIPTION:
URL:https://harvestfellowshipsc.com/event/worship-service/2023-03-12/
END:VEVENT
BEGIN:VEVENT
DTSTART;TZID=UTC:20230314T190000
DTEND;TZID=UTC:20230314T190000
DTSTAMP:20260423T051316
CREATED:20230205T184928Z
LAST-MODIFIED:20230205T185121Z
UID:10000018-1678820400-1678820400@harvestfellowshipsc.com
SUMMARY:Prayer
DESCRIPTION:
URL:https://harvestfellowshipsc.com/event/prayer/2023-03-14/
END:VEVENT
BEGIN:VEVENT
DTSTART;TZID=UTC:20230316T190000
DTEND;TZID=UTC:20230316T190000
DTSTAMP:20260423T051316
CREATED:20230205T185301Z
LAST-MODIFIED:20230205T185301Z
UID:10000393-1678993200-1678993200@harvestfellowshipsc.com
SUMMARY:Bible Study
DESCRIPTION:
URL:https://harvestfellowshipsc.com/event/bible-study/2023-03-16/
END:VEVENT
BEGIN:VEVENT
DTSTART;TZID=UTC:20230319T084500
DTEND;TZID=UTC:20230319T094500
DTSTAMP:20260423T051316
CREATED:20230205T190337Z
LAST-MODIFIED:20250709T230237Z
UID:10001030-1679215500-1679219100@harvestfellowshipsc.com
SUMMARY:Foundations I & II
DESCRIPTION:
URL:https://harvestfellowshipsc.com/event/foundations-ii/2023-03-19/
END:VEVENT
BEGIN:VEVENT
DTSTART;TZID=UTC:20230319T100000
DTEND;TZID=UTC:20230319T100000
DTSTAMP:20260423T051316
CREATED:20230205T185654Z
LAST-MODIFIED:20230205T191206Z
UID:10000712-1679220000-1679220000@harvestfellowshipsc.com
SUMMARY:Worship Service
DESCRIPTION:
URL:https://harvestfellowshipsc.com/event/worship-service/2023-03-19/
END:VEVENT
BEGIN:VEVENT
DTSTART;TZID=UTC:20230321T190000
DTEND;TZID=UTC:20230321T190000
DTSTAMP:20260423T051316
CREATED:20230205T184928Z
LAST-MODIFIED:20230205T185121Z
UID:10000019-1679425200-1679425200@harvestfellowshipsc.com
SUMMARY:Prayer
DESCRIPTION:
URL:https://harvestfellowshipsc.com/event/prayer/2023-03-21/
END:VEVENT
BEGIN:VEVENT
DTSTART;TZID=UTC:20230323T190000
DTEND;TZID=UTC:20230323T190000
DTSTAMP:20260423T051316
CREATED:20230205T185301Z
LAST-MODIFIED:20230205T185301Z
UID:10000394-1679598000-1679598000@harvestfellowshipsc.com
SUMMARY:Bible Study
DESCRIPTION:
URL:https://harvestfellowshipsc.com/event/bible-study/2023-03-23/
END:VEVENT
BEGIN:VEVENT
DTSTART;TZID=UTC:20230326T084500
DTEND;TZID=UTC:20230326T094500
DTSTAMP:20260423T051316
CREATED:20230205T190337Z
LAST-MODIFIED:20250709T230237Z
UID:10001031-1679820300-1679823900@harvestfellowshipsc.com
SUMMARY:Foundations I & II
DESCRIPTION:
URL:https://harvestfellowshipsc.com/event/foundations-ii/2023-03-26/
END:VEVENT
BEGIN:VEVENT
DTSTART;TZID=UTC:20230326T100000
DTEND;TZID=UTC:20230326T100000
DTSTAMP:20260423T051316
CREATED:20230205T191125Z
LAST-MODIFIED:20230205T191125Z
UID:10001287-1679824800-1679824800@harvestfellowshipsc.com
SUMMARY:End-of-Life Planning Seminar
DESCRIPTION:
URL:https://harvestfellowshipsc.com/event/end-of-life-planning-seminar/
END:VEVENT
BEGIN:VEVENT
DTSTART;TZID=UTC:20230328T190000
DTEND;TZID=UTC:20230328T190000
DTSTAMP:20260423T051316
CREATED:20230205T184928Z
LAST-MODIFIED:20230205T185121Z
UID:10000020-1680030000-1680030000@harvestfellowshipsc.com
SUMMARY:Prayer
DESCRIPTION:
URL:https://harvestfellowshipsc.com/event/prayer/2023-03-28/
END:VEVENT
BEGIN:VEVENT
DTSTART;TZID=UTC:20230330T190000
DTEND;TZID=UTC:20230330T190000
DTSTAMP:20260423T051316
CREATED:20230205T185301Z
LAST-MODIFIED:20230205T185301Z
UID:10000395-1680202800-1680202800@harvestfellowshipsc.com
SUMMARY:Bible Study
DESCRIPTION:
URL:https://harvestfellowshipsc.com/event/bible-study/2023-03-30/
END:VEVENT
END:VCALENDAR