BEGIN:VCALENDAR
VERSION:2.0
PRODID:-//Harvest Fellowship Church - ECPv6.15.20//NONSGML v1.0//EN
CALSCALE:GREGORIAN
METHOD:PUBLISH
X-ORIGINAL-URL:https://harvestfellowshipsc.com
X-WR-CALDESC:Events for Harvest Fellowship Church
REFRESH-INTERVAL;VALUE=DURATION:PT1H
X-Robots-Tag:noindex
X-PUBLISHED-TTL:PT1H
BEGIN:VTIMEZONE
TZID:UTC
BEGIN:STANDARD
TZOFFSETFROM:+0000
TZOFFSETTO:+0000
TZNAME:UTC
DTSTART:20220101T000000
END:STANDARD
END:VTIMEZONE
BEGIN:VEVENT
DTSTART;TZID=UTC:20230101T084500
DTEND;TZID=UTC:20230101T094500
DTSTAMP:20260423T084958
CREATED:20230205T190337Z
LAST-MODIFIED:20250709T230237Z
UID:10001019-1672562700-1672566300@harvestfellowshipsc.com
SUMMARY:Foundations I & II
DESCRIPTION:
URL:https://harvestfellowshipsc.com/event/foundations-ii/2023-01-01/
END:VEVENT
BEGIN:VEVENT
DTSTART;TZID=UTC:20230101T100000
DTEND;TZID=UTC:20230101T100000
DTSTAMP:20260423T084958
CREATED:20230205T185654Z
LAST-MODIFIED:20230205T191206Z
UID:10000701-1672567200-1672567200@harvestfellowshipsc.com
SUMMARY:Worship Service
DESCRIPTION:
URL:https://harvestfellowshipsc.com/event/worship-service/2023-01-01/
END:VEVENT
BEGIN:VEVENT
DTSTART;TZID=UTC:20230103T190000
DTEND;TZID=UTC:20230103T190000
DTSTAMP:20260423T084958
CREATED:20230205T184928Z
LAST-MODIFIED:20230205T185121Z
UID:10000326-1672772400-1672772400@harvestfellowshipsc.com
SUMMARY:Prayer
DESCRIPTION:
URL:https://harvestfellowshipsc.com/event/prayer/2023-01-03/
END:VEVENT
BEGIN:VEVENT
DTSTART;TZID=UTC:20230105T190000
DTEND;TZID=UTC:20230105T190000
DTSTAMP:20260423T084958
CREATED:20230205T185301Z
LAST-MODIFIED:20230205T185301Z
UID:10000383-1672945200-1672945200@harvestfellowshipsc.com
SUMMARY:Bible Study
DESCRIPTION:
URL:https://harvestfellowshipsc.com/event/bible-study/2023-01-05/
END:VEVENT
BEGIN:VEVENT
DTSTART;TZID=UTC:20230108T084500
DTEND;TZID=UTC:20230108T094500
DTSTAMP:20260423T084958
CREATED:20230205T190337Z
LAST-MODIFIED:20250709T230237Z
UID:10001020-1673167500-1673171100@harvestfellowshipsc.com
SUMMARY:Foundations I & II
DESCRIPTION:
URL:https://harvestfellowshipsc.com/event/foundations-ii/2023-01-08/
END:VEVENT
BEGIN:VEVENT
DTSTART;TZID=UTC:20230108T100000
DTEND;TZID=UTC:20230108T100000
DTSTAMP:20260423T084958
CREATED:20230205T185654Z
LAST-MODIFIED:20230205T191206Z
UID:10000702-1673172000-1673172000@harvestfellowshipsc.com
SUMMARY:Worship Service
DESCRIPTION:
URL:https://harvestfellowshipsc.com/event/worship-service/2023-01-08/
END:VEVENT
BEGIN:VEVENT
DTSTART;TZID=UTC:20230110T190000
DTEND;TZID=UTC:20230110T190000
DTSTAMP:20260423T084958
CREATED:20230205T184928Z
LAST-MODIFIED:20230205T185121Z
UID:10000327-1673377200-1673377200@harvestfellowshipsc.com
SUMMARY:Prayer
DESCRIPTION:
URL:https://harvestfellowshipsc.com/event/prayer/2023-01-10/
END:VEVENT
BEGIN:VEVENT
DTSTART;TZID=UTC:20230112T190000
DTEND;TZID=UTC:20230112T190000
DTSTAMP:20260423T084958
CREATED:20230205T185301Z
LAST-MODIFIED:20230205T185301Z
UID:10000384-1673550000-1673550000@harvestfellowshipsc.com
SUMMARY:Bible Study
DESCRIPTION:
URL:https://harvestfellowshipsc.com/event/bible-study/2023-01-12/
END:VEVENT
BEGIN:VEVENT
DTSTART;TZID=UTC:20230115T084500
DTEND;TZID=UTC:20230115T094500
DTSTAMP:20260423T084958
CREATED:20230205T190337Z
LAST-MODIFIED:20250709T230237Z
UID:10001021-1673772300-1673775900@harvestfellowshipsc.com
SUMMARY:Foundations I & II
DESCRIPTION:
URL:https://harvestfellowshipsc.com/event/foundations-ii/2023-01-15/
END:VEVENT
BEGIN:VEVENT
DTSTART;TZID=UTC:20230115T100000
DTEND;TZID=UTC:20230115T100000
DTSTAMP:20260423T084958
CREATED:20230205T185654Z
LAST-MODIFIED:20230205T191206Z
UID:10000703-1673776800-1673776800@harvestfellowshipsc.com
SUMMARY:Worship Service
DESCRIPTION:
URL:https://harvestfellowshipsc.com/event/worship-service/2023-01-15/
END:VEVENT
BEGIN:VEVENT
DTSTART;TZID=UTC:20230117T190000
DTEND;TZID=UTC:20230117T190000
DTSTAMP:20260423T084958
CREATED:20230205T184928Z
LAST-MODIFIED:20230205T185121Z
UID:10000328-1673982000-1673982000@harvestfellowshipsc.com
SUMMARY:Prayer
DESCRIPTION:
URL:https://harvestfellowshipsc.com/event/prayer/2023-01-17/
END:VEVENT
BEGIN:VEVENT
DTSTART;TZID=UTC:20230119T190000
DTEND;TZID=UTC:20230119T190000
DTSTAMP:20260423T084958
CREATED:20230205T185301Z
LAST-MODIFIED:20230205T185301Z
UID:10000385-1674154800-1674154800@harvestfellowshipsc.com
SUMMARY:Bible Study
DESCRIPTION:
URL:https://harvestfellowshipsc.com/event/bible-study/2023-01-19/
END:VEVENT
BEGIN:VEVENT
DTSTART;TZID=UTC:20230122T084500
DTEND;TZID=UTC:20230122T094500
DTSTAMP:20260423T084958
CREATED:20230205T190337Z
LAST-MODIFIED:20250709T230237Z
UID:10001022-1674377100-1674380700@harvestfellowshipsc.com
SUMMARY:Foundations I & II
DESCRIPTION:
URL:https://harvestfellowshipsc.com/event/foundations-ii/2023-01-22/
END:VEVENT
BEGIN:VEVENT
DTSTART;TZID=UTC:20230122T100000
DTEND;TZID=UTC:20230122T100000
DTSTAMP:20260423T084958
CREATED:20230205T185654Z
LAST-MODIFIED:20230205T191206Z
UID:10000704-1674381600-1674381600@harvestfellowshipsc.com
SUMMARY:Worship Service
DESCRIPTION:
URL:https://harvestfellowshipsc.com/event/worship-service/2023-01-22/
END:VEVENT
BEGIN:VEVENT
DTSTART;TZID=UTC:20230124T190000
DTEND;TZID=UTC:20230124T190000
DTSTAMP:20260423T084958
CREATED:20230205T184928Z
LAST-MODIFIED:20230205T185121Z
UID:10000329-1674586800-1674586800@harvestfellowshipsc.com
SUMMARY:Prayer
DESCRIPTION:
URL:https://harvestfellowshipsc.com/event/prayer/2023-01-24/
END:VEVENT
BEGIN:VEVENT
DTSTART;TZID=UTC:20230126T190000
DTEND;TZID=UTC:20230126T190000
DTSTAMP:20260423T084958
CREATED:20230205T185301Z
LAST-MODIFIED:20230205T185301Z
UID:10000386-1674759600-1674759600@harvestfellowshipsc.com
SUMMARY:Bible Study
DESCRIPTION:
URL:https://harvestfellowshipsc.com/event/bible-study/2023-01-26/
END:VEVENT
BEGIN:VEVENT
DTSTART;TZID=UTC:20230129T084500
DTEND;TZID=UTC:20230129T094500
DTSTAMP:20260423T084958
CREATED:20230205T190337Z
LAST-MODIFIED:20250709T230237Z
UID:10001023-1674981900-1674985500@harvestfellowshipsc.com
SUMMARY:Foundations I & II
DESCRIPTION:
URL:https://harvestfellowshipsc.com/event/foundations-ii/2023-01-29/
END:VEVENT
BEGIN:VEVENT
DTSTART;TZID=UTC:20230129T100000
DTEND;TZID=UTC:20230129T100000
DTSTAMP:20260423T084958
CREATED:20230205T185654Z
LAST-MODIFIED:20230205T191206Z
UID:10000705-1674986400-1674986400@harvestfellowshipsc.com
SUMMARY:Worship Service
DESCRIPTION:
URL:https://harvestfellowshipsc.com/event/worship-service/2023-01-29/
END:VEVENT
BEGIN:VEVENT
DTSTART;TZID=UTC:20230131T190000
DTEND;TZID=UTC:20230131T190000
DTSTAMP:20260423T084958
CREATED:20230205T184928Z
LAST-MODIFIED:20230205T185121Z
UID:10000330-1675191600-1675191600@harvestfellowshipsc.com
SUMMARY:Prayer
DESCRIPTION:
URL:https://harvestfellowshipsc.com/event/prayer/2023-01-31/
END:VEVENT
END:VCALENDAR